Back to Multiple platform build/check report for BioC 3.13 |
|
This page was generated on 2021-10-15 15:06:18 -0400 (Fri, 15 Oct 2021).
To the developers/maintainers of the rebook package: - Please allow up to 24 hours (and sometimes 48 hours) for your latest push to git@git.bioconductor.org:packages/rebook.git to reflect on this report. See How and When does the builder pull? When will my changes propagate? here for more information. - Make sure to use the following settings in order to reproduce any error or warning you see on this page. |
Package 1538/2041 | Hostname | OS / Arch | INSTALL | BUILD | CHECK | BUILD BIN | ||||||||
rebook 1.2.1 (landing page) Aaron Lun
| nebbiolo1 | Linux (Ubuntu 20.04.2 LTS) / x86_64 | OK | OK | WARNINGS | ![]() | ||||||||
tokay2 | Windows Server 2012 R2 Standard / x64 | OK | OK | WARNINGS | OK | ![]() | ||||||||
machv2 | macOS 10.14.6 Mojave / x86_64 | OK | OK | WARNINGS | OK | ![]() | ||||||||
Package: rebook |
Version: 1.2.1 |
Command: rm -rf rebook.buildbin-libdir && mkdir rebook.buildbin-libdir && C:\Users\biocbuild\bbs-3.13-bioc\R\bin\R.exe CMD INSTALL --merge-multiarch --build --library=rebook.buildbin-libdir rebook_1.2.1.tar.gz |
StartedAt: 2021-10-15 11:18:32 -0400 (Fri, 15 Oct 2021) |
EndedAt: 2021-10-15 11:20:06 -0400 (Fri, 15 Oct 2021) |
EllapsedTime: 93.5 seconds |
RetCode: 0 |
Status: OK |
PackageFile: rebook_1.2.1.zip |
PackageFileSize: 368.3 KiB |
############################################################################## ############################################################################## ### ### Running command: ### ### rm -rf rebook.buildbin-libdir && mkdir rebook.buildbin-libdir && C:\Users\biocbuild\bbs-3.13-bioc\R\bin\R.exe CMD INSTALL --merge-multiarch --build --library=rebook.buildbin-libdir rebook_1.2.1.tar.gz ### ############################################################################## ############################################################################## install for i386 * installing *source* package 'rebook' ... ** using staged installation ** R ** inst ** byte-compile and prepare package for lazy loading ** help *** installing help indices converting help for package 'rebook' finding HTML links ... done bioc-images html bookCache html buildChapterGraph html chapterPreamble html finding level-2 HTML links ... done collapseStart html compileBook html compileChapter html configureBook html createMakefile html createRedirects html deployCustomCSS html extractCached html extractFromPackage html link html openingDetails html prettySessionInfo html rmd2id html scrapeDependencies html scrapeReferences html setupHTML html updateDependencies html ** building package indices ** installing vignettes ** testing if installed package can be loaded from temporary location ** testing if installed package can be loaded from final location ** testing if installed package keeps a record of temporary installation path install for x64 * installing *source* package 'rebook' ... ** testing if installed package can be loaded * MD5 sums packaged installation of 'rebook' as rebook_1.2.1.zip * DONE (rebook)