| Back to Multiple platform build/check report for BioC 3.13 |
|
This page was generated on 2021-10-15 15:06:20 -0400 (Fri, 15 Oct 2021).
|
To the developers/maintainers of the rSWeeP package: - Please allow up to 24 hours (and sometimes 48 hours) for your latest push to git@git.bioconductor.org:packages/rSWeeP.git to reflect on this report. See How and When does the builder pull? When will my changes propagate? here for more information. - Make sure to use the following settings in order to reproduce any error or warning you see on this page. |
| Package 1641/2041 | Hostname | OS / Arch | INSTALL | BUILD | CHECK | BUILD BIN | ||||||||
| rSWeeP 1.4.0 (landing page) Danrley R. Fernandes
| nebbiolo1 | Linux (Ubuntu 20.04.2 LTS) / x86_64 | OK | OK | OK | |||||||||
| tokay2 | Windows Server 2012 R2 Standard / x64 | OK | OK | OK | OK | |||||||||
| machv2 | macOS 10.14.6 Mojave / x86_64 | OK | OK | OK | OK | |||||||||
| Package: rSWeeP |
| Version: 1.4.0 |
| Command: rm -rf rSWeeP.buildbin-libdir && mkdir rSWeeP.buildbin-libdir && C:\Users\biocbuild\bbs-3.13-bioc\R\bin\R.exe CMD INSTALL --merge-multiarch --build --library=rSWeeP.buildbin-libdir rSWeeP_1.4.0.tar.gz |
| StartedAt: 2021-10-15 11:32:06 -0400 (Fri, 15 Oct 2021) |
| EndedAt: 2021-10-15 11:33:22 -0400 (Fri, 15 Oct 2021) |
| EllapsedTime: 76.6 seconds |
| RetCode: 0 |
| Status: OK |
| PackageFile: rSWeeP_1.4.0.zip |
| PackageFileSize: 1.842 MiB |
##############################################################################
##############################################################################
###
### Running command:
###
### rm -rf rSWeeP.buildbin-libdir && mkdir rSWeeP.buildbin-libdir && C:\Users\biocbuild\bbs-3.13-bioc\R\bin\R.exe CMD INSTALL --merge-multiarch --build --library=rSWeeP.buildbin-libdir rSWeeP_1.4.0.tar.gz
###
##############################################################################
##############################################################################
install for i386
* installing *source* package 'rSWeeP' ...
** using staged installation
** R
** inst
** byte-compile and prepare package for lazy loading
in method for 'sWeeP' with signature '"AAStringSet"': no definition for class "AAStringSet"
** help
*** installing help indices
converting help for package 'rSWeeP'
finding HTML links ... done
SWeeP html
orthbase html
** building package indices
** installing vignettes
** testing if installed package can be loaded from temporary location
** testing if installed package can be loaded from final location
** testing if installed package keeps a record of temporary installation path
install for x64
* installing *source* package 'rSWeeP' ...
** testing if installed package can be loaded
* MD5 sums
packaged installation of 'rSWeeP' as rSWeeP_1.4.0.zip
* DONE (rSWeeP)