| Back to Multiple platform build/check report for BioC 3.13 | 
 | 
This page was generated on 2021-10-15 15:06:19 -0400 (Fri, 15 Oct 2021).
| To the developers/maintainers of the rGREAT package: - Please allow up to 24 hours (and sometimes 48 hours) for your latest push to git@git.bioconductor.org:packages/rGREAT.git to reflect on this report. See How and When does the builder pull? When will my changes propagate? here for more information. - Make sure to use the following settings in order to reproduce any error or warning you see on this page. | 
| Package 1570/2041 | Hostname | OS / Arch | INSTALL | BUILD | CHECK | BUILD BIN | ||||||||
| rGREAT 1.24.0  (landing page) Zuguang Gu 
 | nebbiolo1 | Linux (Ubuntu 20.04.2 LTS) / x86_64 | OK | OK | OK |  | ||||||||
| tokay2 | Windows Server 2012 R2 Standard / x64 | OK | OK | OK | OK |  | ||||||||
| machv2 | macOS 10.14.6 Mojave / x86_64 | OK | OK | OK | OK |  | ||||||||
| Package: rGREAT | 
| Version: 1.24.0 | 
| Command: rm -rf rGREAT.buildbin-libdir && mkdir rGREAT.buildbin-libdir && C:\Users\biocbuild\bbs-3.13-bioc\R\bin\R.exe CMD INSTALL --merge-multiarch --build --library=rGREAT.buildbin-libdir rGREAT_1.24.0.tar.gz | 
| StartedAt: 2021-10-15 11:22:36 -0400 (Fri, 15 Oct 2021) | 
| EndedAt: 2021-10-15 11:23:51 -0400 (Fri, 15 Oct 2021) | 
| EllapsedTime: 74.8 seconds | 
| RetCode: 0 | 
| Status: OK | 
| PackageFile: rGREAT_1.24.0.zip | 
| PackageFileSize: 1.033 MiB | 
##############################################################################
##############################################################################
###
### Running command:
###
###   rm -rf rGREAT.buildbin-libdir && mkdir rGREAT.buildbin-libdir && C:\Users\biocbuild\bbs-3.13-bioc\R\bin\R.exe CMD INSTALL --merge-multiarch --build --library=rGREAT.buildbin-libdir rGREAT_1.24.0.tar.gz
###
##############################################################################
##############################################################################
install for i386
* installing *source* package 'rGREAT' ...
** using staged installation
** R
** inst
** byte-compile and prepare package for lazy loading
** help
*** installing help indices
  converting help for package 'rGREAT'
    finding HTML links ... done
    GreatJob-class                          html  
    GreatJob                                html  
    availableCategories-GreatJob-method     html  
    availableOntologies-GreatJob-method     html  
    getEnrichmentTables-GreatJob-method     html  
    plotRegionGeneAssociationGraphs-GreatJob-method
                                            html  
    submitGreatJob                          html  
** building package indices
** installing vignettes
** testing if installed package can be loaded from temporary location
** testing if installed package can be loaded from final location
** testing if installed package keeps a record of temporary installation path
install for x64
* installing *source* package 'rGREAT' ...
** testing if installed package can be loaded
* MD5 sums
packaged installation of 'rGREAT' as rGREAT_1.24.0.zip
* DONE (rGREAT)