| Back to Multiple platform build/check report for BioC 3.13 |
|
This page was generated on 2021-10-15 15:06:18 -0400 (Fri, 15 Oct 2021).
|
To the developers/maintainers of the rCGH package: - Please allow up to 24 hours (and sometimes 48 hours) for your latest push to git@git.bioconductor.org:packages/rCGH.git to reflect on this report. See How and When does the builder pull? When will my changes propagate? here for more information. - Make sure to use the following settings in order to reproduce any error or warning you see on this page. |
| Package 1518/2041 | Hostname | OS / Arch | INSTALL | BUILD | CHECK | BUILD BIN | ||||||||
| rCGH 1.22.0 (landing page) Frederic Commo
| nebbiolo1 | Linux (Ubuntu 20.04.2 LTS) / x86_64 | OK | OK | OK | |||||||||
| tokay2 | Windows Server 2012 R2 Standard / x64 | OK | OK | OK | OK | |||||||||
| machv2 | macOS 10.14.6 Mojave / x86_64 | OK | OK | OK | OK | |||||||||
| Package: rCGH |
| Version: 1.22.0 |
| Command: rm -rf rCGH.buildbin-libdir && mkdir rCGH.buildbin-libdir && C:\Users\biocbuild\bbs-3.13-bioc\R\bin\R.exe CMD INSTALL --merge-multiarch --build --library=rCGH.buildbin-libdir rCGH_1.22.0.tar.gz |
| StartedAt: 2021-10-15 11:16:15 -0400 (Fri, 15 Oct 2021) |
| EndedAt: 2021-10-15 11:17:22 -0400 (Fri, 15 Oct 2021) |
| EllapsedTime: 66.5 seconds |
| RetCode: 0 |
| Status: OK |
| PackageFile: rCGH_1.22.0.zip |
| PackageFileSize: 4.938 MiB |
##############################################################################
##############################################################################
###
### Running command:
###
### rm -rf rCGH.buildbin-libdir && mkdir rCGH.buildbin-libdir && C:\Users\biocbuild\bbs-3.13-bioc\R\bin\R.exe CMD INSTALL --merge-multiarch --build --library=rCGH.buildbin-libdir rCGH_1.22.0.tar.gz
###
##############################################################################
##############################################################################
install for i386
* installing *source* package 'rCGH' ...
** using staged installation
** R
** data
*** moving datasets to lazyload DB
** inst
** byte-compile and prepare package for lazy loading
** help
*** installing help indices
converting help for package 'rCGH'
finding HTML links ... done
AllAccessors html
EMnormalize html
adjustSignal html
agilentDB html
byGeneTable html
hg18 html
hg19 html
hg38 html
multiplot html
plotDensity html
plotLOH html
plotProfile html
rCGH-Agilent-class html
rCGH-SNP6-class html
rCGH-class html
rCGH-cytoScan-class html
rCGH-generic-class html
rCGH-oncoScan-class html
rCGH-package html
readAffyCytoScan html
readAffyOncoScan html
readAffySNP6 html
readAgilent html
readGeneric html
recenter html
segmentCGH html
setInfo html
show-methods html
view html
** building package indices
** installing vignettes
** testing if installed package can be loaded from temporary location
** testing if installed package can be loaded from final location
** testing if installed package keeps a record of temporary installation path
install for x64
* installing *source* package 'rCGH' ...
** testing if installed package can be loaded
* MD5 sums
packaged installation of 'rCGH' as rCGH_1.22.0.zip
* DONE (rCGH)