| Back to Multiple platform build/check report for BioC 3.13 | 
  | 
This page was generated on 2021-10-15 15:06:17 -0400 (Fri, 15 Oct 2021).
| 
To the developers/maintainers of the pwrEWAS package: - Please allow up to 24 hours (and sometimes 48 hours) for your latest push to git@git.bioconductor.org:packages/pwrEWAS.git to reflect on this report. See How and When does the builder pull? When will my changes propagate? here for more information. - Make sure to use the following settings in order to reproduce any error or warning you see on this page.  | 
| Package 1467/2041 | Hostname | OS / Arch | INSTALL | BUILD | CHECK | BUILD BIN | ||||||||
| pwrEWAS 1.6.0  (landing page) Stefan Graw 
  | nebbiolo1 | Linux (Ubuntu 20.04.2 LTS) / x86_64 | OK | OK | OK | |||||||||
| tokay2 | Windows Server 2012 R2 Standard / x64 | OK | OK | OK | OK | |||||||||
| machv2 | macOS 10.14.6 Mojave / x86_64 | OK | OK | OK | OK | |||||||||
| Package: pwrEWAS | 
| Version: 1.6.0 | 
| Command: C:\cygwin\bin\curl.exe -O http://155.52.207.165/BBS/3.13/bioc/src/contrib/pwrEWAS_1.6.0.tar.gz && rm -rf pwrEWAS.buildbin-libdir && mkdir pwrEWAS.buildbin-libdir && C:\Users\biocbuild\bbs-3.13-bioc\R\bin\R.exe CMD INSTALL --merge-multiarch --build --library=pwrEWAS.buildbin-libdir pwrEWAS_1.6.0.tar.gz && C:\Users\biocbuild\bbs-3.13-bioc\R\bin\R.exe CMD INSTALL pwrEWAS_1.6.0.zip && rm pwrEWAS_1.6.0.tar.gz pwrEWAS_1.6.0.zip | 
| StartedAt: 2021-10-14 11:23:33 -0400 (Thu, 14 Oct 2021) | 
| EndedAt: 2021-10-14 11:24:15 -0400 (Thu, 14 Oct 2021) | 
| EllapsedTime: 41.6 seconds | 
| RetCode: 0 | 
| Status: OK | 
##############################################################################
##############################################################################
###
### Running command:
###
###   C:\cygwin\bin\curl.exe -O http://155.52.207.165/BBS/3.13/bioc/src/contrib/pwrEWAS_1.6.0.tar.gz && rm -rf pwrEWAS.buildbin-libdir && mkdir pwrEWAS.buildbin-libdir && C:\Users\biocbuild\bbs-3.13-bioc\R\bin\R.exe CMD INSTALL --merge-multiarch --build --library=pwrEWAS.buildbin-libdir pwrEWAS_1.6.0.tar.gz && C:\Users\biocbuild\bbs-3.13-bioc\R\bin\R.exe CMD INSTALL pwrEWAS_1.6.0.zip && rm pwrEWAS_1.6.0.tar.gz pwrEWAS_1.6.0.zip
###
##############################################################################
##############################################################################
  % Total    % Received % Xferd  Average Speed   Time    Time     Time  Current
                                 Dload  Upload   Total   Spent    Left  Speed
  0     0    0     0    0     0      0      0 --:--:-- --:--:-- --:--:--     0
100 52624  100 52624    0     0   335k      0 --:--:-- --:--:-- --:--:--  338k
install for i386
* installing *source* package 'pwrEWAS' ...
** using staged installation
** R
** inst
** byte-compile and prepare package for lazy loading
** help
*** installing help indices
  converting help for package 'pwrEWAS'
    finding HTML links ... done
    pwrEWAS                                 html  
    pwrEWAS_deltaDensity                    html  
    pwrEWAS_powerPlot                       html  
    pwrEWAS_shiny                           html  
** building package indices
** installing vignettes
** testing if installed package can be loaded from temporary location
** testing if installed package can be loaded from final location
** testing if installed package keeps a record of temporary installation path
install for x64
* installing *source* package 'pwrEWAS' ...
** testing if installed package can be loaded
* MD5 sums
packaged installation of 'pwrEWAS' as pwrEWAS_1.6.0.zip
* DONE (pwrEWAS)
* installing to library 'C:/Users/biocbuild/bbs-3.13-bioc/R/library'
package 'pwrEWAS' successfully unpacked and MD5 sums checked