Back to Multiple platform build/check report for BioC 3.13 |
|
This page was generated on 2021-10-15 15:06:17 -0400 (Fri, 15 Oct 2021).
To the developers/maintainers of the psygenet2r package: - Please allow up to 24 hours (and sometimes 48 hours) for your latest push to git@git.bioconductor.org:packages/psygenet2r.git to reflect on this report. See How and When does the builder pull? When will my changes propagate? here for more information. - Make sure to use the following settings in order to reproduce any error or warning you see on this page. |
Package 1456/2041 | Hostname | OS / Arch | INSTALL | BUILD | CHECK | BUILD BIN | ||||||||
psygenet2r 1.24.0 (landing page) Alba Gutierrez-Sacristan
| nebbiolo1 | Linux (Ubuntu 20.04.2 LTS) / x86_64 | OK | OK | OK | |||||||||
tokay2 | Windows Server 2012 R2 Standard / x64 | OK | OK | OK | OK | |||||||||
machv2 | macOS 10.14.6 Mojave / x86_64 | OK | OK | OK | OK | |||||||||
Package: psygenet2r |
Version: 1.24.0 |
Command: rm -rf psygenet2r.buildbin-libdir && mkdir psygenet2r.buildbin-libdir && C:\Users\biocbuild\bbs-3.13-bioc\R\bin\R.exe CMD INSTALL --merge-multiarch --build --library=psygenet2r.buildbin-libdir psygenet2r_1.24.0.tar.gz |
StartedAt: 2021-10-15 11:07:38 -0400 (Fri, 15 Oct 2021) |
EndedAt: 2021-10-15 11:09:01 -0400 (Fri, 15 Oct 2021) |
EllapsedTime: 82.6 seconds |
RetCode: 0 |
Status: OK |
PackageFile: psygenet2r_1.24.0.zip |
PackageFileSize: 1.803 MiB |
############################################################################## ############################################################################## ### ### Running command: ### ### rm -rf psygenet2r.buildbin-libdir && mkdir psygenet2r.buildbin-libdir && C:\Users\biocbuild\bbs-3.13-bioc\R\bin\R.exe CMD INSTALL --merge-multiarch --build --library=psygenet2r.buildbin-libdir psygenet2r_1.24.0.tar.gz ### ############################################################################## ############################################################################## install for i386 * installing *source* package 'psygenet2r' ... ** using staged installation ** R ** data *** moving datasets to lazyload DB ** inst ** byte-compile and prepare package for lazy loading ** help *** installing help indices converting help for package 'psygenet2r' finding HTML links ... done DataGeNET.Psy-class html JaccardIndexPsy-class html enrichedPD-methods html extract html extractSentences html geneAttrPlot-methods html getUMLs-methods html jaccardEstimation-methods html ndisease html ngene html pantherGraphic-methods html plot-DataGeNET.Psy-ANY-method html plot-JaccardIndexPsy-ANY-method html psygenet2r html psygenetDisease-methods html psygenetDiseaseSentences html psygenetGene-methods html psygenetGeneSentences html qr html topAnatEnrichment-methods html universe html ** building package indices ** installing vignettes ** testing if installed package can be loaded from temporary location ** testing if installed package can be loaded from final location ** testing if installed package keeps a record of temporary installation path install for x64 * installing *source* package 'psygenet2r' ... ** testing if installed package can be loaded * MD5 sums packaged installation of 'psygenet2r' as psygenet2r_1.24.0.zip * DONE (psygenet2r)