| Back to Multiple platform build/check report for BioC 3.13 |
|
This page was generated on 2021-10-15 15:06:17 -0400 (Fri, 15 Oct 2021).
|
To the developers/maintainers of the profileplyr package: - Please allow up to 24 hours (and sometimes 48 hours) for your latest push to git@git.bioconductor.org:packages/profileplyr.git to reflect on this report. See How and When does the builder pull? When will my changes propagate? here for more information. - Make sure to use the following settings in order to reproduce any error or warning you see on this page. |
| Package 1439/2041 | Hostname | OS / Arch | INSTALL | BUILD | CHECK | BUILD BIN | ||||||||
| profileplyr 1.8.1 (landing page) Tom Carroll
| nebbiolo1 | Linux (Ubuntu 20.04.2 LTS) / x86_64 | OK | OK | OK | |||||||||
| tokay2 | Windows Server 2012 R2 Standard / x64 | OK | OK | OK | OK | |||||||||
| machv2 | macOS 10.14.6 Mojave / x86_64 | OK | OK | OK | OK | |||||||||
| Package: profileplyr |
| Version: 1.8.1 |
| Command: rm -rf profileplyr.buildbin-libdir && mkdir profileplyr.buildbin-libdir && C:\Users\biocbuild\bbs-3.13-bioc\R\bin\R.exe CMD INSTALL --merge-multiarch --build --library=profileplyr.buildbin-libdir profileplyr_1.8.1.tar.gz |
| StartedAt: 2021-10-15 11:05:16 -0400 (Fri, 15 Oct 2021) |
| EndedAt: 2021-10-15 11:06:40 -0400 (Fri, 15 Oct 2021) |
| EllapsedTime: 84.0 seconds |
| RetCode: 0 |
| Status: OK |
| PackageFile: profileplyr_1.8.1.zip |
| PackageFileSize: 2.394 MiB |
##############################################################################
##############################################################################
###
### Running command:
###
### rm -rf profileplyr.buildbin-libdir && mkdir profileplyr.buildbin-libdir && C:\Users\biocbuild\bbs-3.13-bioc\R\bin\R.exe CMD INSTALL --merge-multiarch --build --library=profileplyr.buildbin-libdir profileplyr_1.8.1.tar.gz
###
##############################################################################
##############################################################################
install for i386
* installing *source* package 'profileplyr' ...
** using staged installation
** R
** data
** inst
** byte-compile and prepare package for lazy loading
** help
*** installing help indices
converting help for package 'profileplyr'
finding HTML links ... done
BamBigwig_to_chipProfile html
K27ac_GRlist_hind_liver_top5000 html
annotateRanges html
annotateRanges_great html
as_profileplyr html
clusterRanges html
convertToEnrichedHeatmapMat html
export_deepToolsMat html
gene_list_character html
gene_list_dataframe html
generateEnrichedHeatmap html
generateProfilePlot html
groupBy html
inherit_group_function html
orderBy html
params html
profileplyr html
sampleData html
subset_GR_GL_common_top html
subsetbyGeneListOverlap html
subsetbyRangeOverlap html
summarize html
** building package indices
** installing vignettes
** testing if installed package can be loaded from temporary location
** testing if installed package can be loaded from final location
** testing if installed package keeps a record of temporary installation path
install for x64
* installing *source* package 'profileplyr' ...
** testing if installed package can be loaded
* MD5 sums
packaged installation of 'profileplyr' as profileplyr_1.8.1.zip
* DONE (profileplyr)