Back to Multiple platform build/check report for BioC 3.13 |
|
This page was generated on 2021-10-15 15:06:17 -0400 (Fri, 15 Oct 2021).
To the developers/maintainers of the proFIA package: - Please allow up to 24 hours (and sometimes 48 hours) for your latest push to git@git.bioconductor.org:packages/proFIA.git to reflect on this report. See How and When does the builder pull? When will my changes propagate? here for more information. - Make sure to use the following settings in order to reproduce any error or warning you see on this page. |
Package 1438/2041 | Hostname | OS / Arch | INSTALL | BUILD | CHECK | BUILD BIN | ||||||||
proFIA 1.18.0 (landing page) Alexis Delabriere
| nebbiolo1 | Linux (Ubuntu 20.04.2 LTS) / x86_64 | OK | OK | WARNINGS | ![]() | ||||||||
tokay2 | Windows Server 2012 R2 Standard / x64 | OK | OK | WARNINGS | OK | ![]() | ||||||||
machv2 | macOS 10.14.6 Mojave / x86_64 | OK | OK | WARNINGS | OK | ![]() | ||||||||
Package: proFIA |
Version: 1.18.0 |
Command: C:\cygwin\bin\curl.exe -O http://155.52.207.165/BBS/3.13/bioc/src/contrib/proFIA_1.18.0.tar.gz && rm -rf proFIA.buildbin-libdir && mkdir proFIA.buildbin-libdir && C:\Users\biocbuild\bbs-3.13-bioc\R\bin\R.exe CMD INSTALL --merge-multiarch --build --library=proFIA.buildbin-libdir proFIA_1.18.0.tar.gz && C:\Users\biocbuild\bbs-3.13-bioc\R\bin\R.exe CMD INSTALL proFIA_1.18.0.zip && rm proFIA_1.18.0.tar.gz proFIA_1.18.0.zip |
StartedAt: 2021-10-14 09:26:56 -0400 (Thu, 14 Oct 2021) |
EndedAt: 2021-10-14 09:28:08 -0400 (Thu, 14 Oct 2021) |
EllapsedTime: 72.3 seconds |
RetCode: 0 |
Status: OK |
############################################################################## ############################################################################## ### ### Running command: ### ### C:\cygwin\bin\curl.exe -O http://155.52.207.165/BBS/3.13/bioc/src/contrib/proFIA_1.18.0.tar.gz && rm -rf proFIA.buildbin-libdir && mkdir proFIA.buildbin-libdir && C:\Users\biocbuild\bbs-3.13-bioc\R\bin\R.exe CMD INSTALL --merge-multiarch --build --library=proFIA.buildbin-libdir proFIA_1.18.0.tar.gz && C:\Users\biocbuild\bbs-3.13-bioc\R\bin\R.exe CMD INSTALL proFIA_1.18.0.zip && rm proFIA_1.18.0.tar.gz proFIA_1.18.0.zip ### ############################################################################## ############################################################################## % Total % Received % Xferd Average Speed Time Time Time Current Dload Upload Total Spent Left Speed 0 0 0 0 0 0 0 0 --:--:-- --:--:-- --:--:-- 0 0 744k 0 2487 0 0 30421 0 0:00:25 --:--:-- 0:00:25 30329 100 744k 100 744k 0 0 1963k 0 --:--:-- --:--:-- --:--:-- 1964k install for i386 * installing *source* package 'proFIA' ... ** using staged installation ** libs "C:/rtools40/mingw32/bin/"gcc -I"C:/Users/BIOCBU~1/BBS-3~1.13-/R/include" -DNDEBUG -I"c:/extsoft/include" -O2 -Wall -std=gnu99 -mfpmath=sse -msse2 -mstackrealign -c FIABandsExtractionCentroid.c -o FIABandsExtractionCentroid.o "C:/rtools40/mingw32/bin/"gcc -I"C:/Users/BIOCBU~1/BBS-3~1.13-/R/include" -DNDEBUG -I"c:/extsoft/include" -O2 -Wall -std=gnu99 -mfpmath=sse -msse2 -mstackrealign -c UtilFunc.c -o UtilFunc.o "C:/rtools40/mingw32/bin/"gcc -I"C:/Users/BIOCBU~1/BBS-3~1.13-/R/include" -DNDEBUG -I"c:/extsoft/include" -O2 -Wall -std=gnu99 -mfpmath=sse -msse2 -mstackrealign -c fastMatchPpm.c -o fastMatchPpm.o C:/rtools40/mingw32/bin/gcc -shared -s -static-libgcc -o proFIA.dll tmp.def FIABandsExtractionCentroid.o UtilFunc.o fastMatchPpm.o -Lc:/extsoft/lib/i386 -Lc:/extsoft/lib -LC:/Users/BIOCBU~1/BBS-3~1.13-/R/bin/i386 -lR installing to C:/Users/biocbuild/bbs-3.13-bioc/meat/proFIA.buildbin-libdir/00LOCK-proFIA/00new/proFIA/libs/i386 ** R ** inst ** byte-compile and prepare package for lazy loading ** help *** installing help indices converting help for package 'proFIA' finding HTML links ... done acquisitionDirectory html analyzeAcquisitionFIA html determiningInjectionZone html determiningSizePeak.Geom html estimateNoiseMS html exportDataMatrix-proFIAset-method html exportExpressionSet-proFIAset-method html exportPeakTable-proFIAset-method html exportSampleMetadata-proFIAset-method html exportVariableMetadata-proFIAset-method html findBandsFIA html findFIASignal html findMzGroup-proFIAset-method html getInjectionPeak html group.FIA-proFIAset-method html impute.FIA-proFIAset-method html impute.KNN_TN-proFIAset-method html impute.randomForest-proFIAset-method html makeDataMatrix-proFIAset-method html noiseEstimation-class html peaksGroup-proFIAset-method html plot html plotFlowgrams-proFIAset-method html plotNoise html plotRaw-proFIAset-method html plotSamplePeaks-proFIAset-method html proFIA-package html proFIAset-class html proFIAset html ** building package indices ** installing vignettes ** testing if installed package can be loaded from temporary location ** testing if installed package can be loaded from final location ** testing if installed package keeps a record of temporary installation path install for x64 * installing *source* package 'proFIA' ... ** libs "C:/rtools40/mingw64/bin/"gcc -I"C:/Users/BIOCBU~1/BBS-3~1.13-/R/include" -DNDEBUG -I"C:/extsoft/include" -O2 -Wall -std=gnu99 -mfpmath=sse -msse2 -mstackrealign -c FIABandsExtractionCentroid.c -o FIABandsExtractionCentroid.o "C:/rtools40/mingw64/bin/"gcc -I"C:/Users/BIOCBU~1/BBS-3~1.13-/R/include" -DNDEBUG -I"C:/extsoft/include" -O2 -Wall -std=gnu99 -mfpmath=sse -msse2 -mstackrealign -c UtilFunc.c -o UtilFunc.o "C:/rtools40/mingw64/bin/"gcc -I"C:/Users/BIOCBU~1/BBS-3~1.13-/R/include" -DNDEBUG -I"C:/extsoft/include" -O2 -Wall -std=gnu99 -mfpmath=sse -msse2 -mstackrealign -c fastMatchPpm.c -o fastMatchPpm.o C:/rtools40/mingw64/bin/gcc -shared -s -static-libgcc -o proFIA.dll tmp.def FIABandsExtractionCentroid.o UtilFunc.o fastMatchPpm.o -LC:/extsoft/lib/x64 -LC:/extsoft/lib -LC:/Users/BIOCBU~1/BBS-3~1.13-/R/bin/x64 -lR installing to C:/Users/biocbuild/bbs-3.13-bioc/meat/proFIA.buildbin-libdir/proFIA/libs/x64 ** testing if installed package can be loaded * MD5 sums packaged installation of 'proFIA' as proFIA_1.18.0.zip * DONE (proFIA) * installing to library 'C:/Users/biocbuild/bbs-3.13-bioc/R/library' package 'proFIA' successfully unpacked and MD5 sums checked