| Back to Multiple platform build/check report for BioC 3.13 | 
 | 
This page was generated on 2021-10-15 15:06:47 -0400 (Fri, 15 Oct 2021).
| To the developers/maintainers of the pqsfinder package: - Please allow up to 24 hours (and sometimes 48 hours) for your latest push to git@git.bioconductor.org:packages/pqsfinder.git to reflect on this report. See How and When does the builder pull? When will my changes propagate? here for more information. - Make sure to use the following settings in order to reproduce any error or warning you see on this page. | 
| Package 1422/2041 | Hostname | OS / Arch | INSTALL | BUILD | CHECK | BUILD BIN | ||||||||
| pqsfinder 2.8.0  (landing page) Jiri Hon 
 | nebbiolo1 | Linux (Ubuntu 20.04.2 LTS) / x86_64 | OK | OK | OK |  | ||||||||
| tokay2 | Windows Server 2012 R2 Standard / x64 | OK | OK | OK | OK |  | ||||||||
| machv2 | macOS 10.14.6 Mojave / x86_64 | OK | OK | OK | OK |  | ||||||||
| Package: pqsfinder | 
| Version: 2.8.0 | 
| Command: /Library/Frameworks/R.framework/Versions/Current/Resources/bin/R CMD check --install=check:pqsfinder.install-out.txt --library=/Library/Frameworks/R.framework/Versions/Current/Resources/library --no-vignettes --timings pqsfinder_2.8.0.tar.gz | 
| StartedAt: 2021-10-14 22:28:42 -0400 (Thu, 14 Oct 2021) | 
| EndedAt: 2021-10-14 22:32:32 -0400 (Thu, 14 Oct 2021) | 
| EllapsedTime: 230.2 seconds | 
| RetCode: 0 | 
| Status: OK | 
| CheckDir: pqsfinder.Rcheck | 
| Warnings: 0 | 
##############################################################################
##############################################################################
###
### Running command:
###
###   /Library/Frameworks/R.framework/Versions/Current/Resources/bin/R CMD check --install=check:pqsfinder.install-out.txt --library=/Library/Frameworks/R.framework/Versions/Current/Resources/library --no-vignettes --timings pqsfinder_2.8.0.tar.gz
###
##############################################################################
##############################################################################
* using log directory ‘/Users/biocbuild/bbs-3.13-bioc/meat/pqsfinder.Rcheck’
* using R version 4.1.1 (2021-08-10)
* using platform: x86_64-apple-darwin17.0 (64-bit)
* using session charset: UTF-8
* using option ‘--no-vignettes’
* checking for file ‘pqsfinder/DESCRIPTION’ ... OK
* checking extension type ... Package
* this is package ‘pqsfinder’ version ‘2.8.0’
* package encoding: UTF-8
* checking package namespace information ... OK
* checking package dependencies ... OK
* checking if this is a source package ... OK
* checking if there is a namespace ... OK
* checking for hidden files and directories ... NOTE
Found the following hidden files and directories:
  .git_fetch_output.txt
  .git_merge_output.txt
These were most likely included in error. See section ‘Package
structure’ in the ‘Writing R Extensions’ manual.
* checking for portable file names ... OK
* checking for sufficient/correct file permissions ... OK
* checking whether package ‘pqsfinder’ can be installed ... OK
* checking installed package size ... NOTE
  installed size is  9.9Mb
  sub-directories of 1Mb or more:
    lib   8.9Mb
* checking package directory ... OK
* checking ‘build’ directory ... OK
* checking DESCRIPTION meta-information ... NOTE
Versioned 'LinkingTo' value for ‘BH’ is only usable in R >= 3.0.2
* checking top-level files ... OK
* checking for left-over files ... OK
* checking index information ... OK
* checking package subdirectories ... OK
* checking R files for non-ASCII characters ... OK
* checking R files for syntax errors ... OK
* checking whether the package can be loaded ... OK
* checking whether the package can be loaded with stated dependencies ... OK
* checking whether the package can be unloaded cleanly ... OK
* checking whether the namespace can be loaded with stated dependencies ... OK
* checking whether the namespace can be unloaded cleanly ... OK
* checking dependencies in R code ... OK
* checking S3 generic/method consistency ... OK
* checking replacement functions ... OK
* checking foreign function calls ... OK
* checking R code for possible problems ... OK
* checking Rd files ... OK
* checking Rd metadata ... OK
* checking Rd cross-references ... OK
* checking for missing documentation entries ... OK
* checking for code/documentation mismatches ... OK
* checking Rd \usage sections ... OK
* checking Rd contents ... OK
* checking for unstated dependencies in examples ... OK
* checking line endings in shell scripts ... OK
* checking line endings in C/C++/Fortran sources/headers ... OK
* checking line endings in Makefiles ... OK
* checking compilation flags in Makevars ... OK
* checking for GNU extensions in Makefiles ... NOTE
GNU make is a SystemRequirements.
* checking for portable use of $(BLAS_LIBS) and $(LAPACK_LIBS) ... OK
* checking use of PKG_*FLAGS in Makefiles ... OK
* checking compiled code ... NOTE
Note: information on .o files is not available
* checking files in ‘vignettes’ ... OK
* checking examples ... OK
* checking for unstated dependencies in ‘tests’ ... OK
* checking tests ...
  Running ‘testthat.R’
 OK
* checking for unstated dependencies in vignettes ... OK
* checking package vignettes in ‘inst/doc’ ... OK
* checking running R code from vignettes ... SKIPPED
* checking re-building of vignette outputs ... SKIPPED
* checking PDF version of manual ... OK
* DONE
Status: 5 NOTEs
See
  ‘/Users/biocbuild/bbs-3.13-bioc/meat/pqsfinder.Rcheck/00check.log’
for details.
pqsfinder.Rcheck/00install.out
############################################################################## ############################################################################## ### ### Running command: ### ### /Library/Frameworks/R.framework/Versions/Current/Resources/bin/R CMD INSTALL pqsfinder ### ############################################################################## ############################################################################## * installing to library ‘/Library/Frameworks/R.framework/Versions/4.1/Resources/library’ * installing *source* package ‘pqsfinder’ ... ** using staged installation ** libs clang++ -mmacosx-version-min=10.13 -std=gnu++11 -I"/Library/Frameworks/R.framework/Resources/include" -DNDEBUG -I'/Library/Frameworks/R.framework/Versions/4.1/Resources/library/Rcpp/include' -I'/Library/Frameworks/R.framework/Versions/4.1/Resources/library/BH/include' -I/usr/local/include -fPIC -Wall -g -O2 -c RcppExports.cpp -o RcppExports.o clang++ -mmacosx-version-min=10.13 -std=gnu++11 -I"/Library/Frameworks/R.framework/Resources/include" -DNDEBUG -I'/Library/Frameworks/R.framework/Versions/4.1/Resources/library/Rcpp/include' -I'/Library/Frameworks/R.framework/Versions/4.1/Resources/library/BH/include' -I/usr/local/include -fPIC -Wall -g -O2 -c pqsfinder.cpp -o pqsfinder.o clang++ -mmacosx-version-min=10.13 -std=gnu++11 -I"/Library/Frameworks/R.framework/Resources/include" -DNDEBUG -I'/Library/Frameworks/R.framework/Versions/4.1/Resources/library/Rcpp/include' -I'/Library/Frameworks/R.framework/Versions/4.1/Resources/library/BH/include' -I/usr/local/include -fPIC -Wall -g -O2 -c boost_regex/c_regex_traits.cpp -o boost_regex/c_regex_traits.o clang++ -mmacosx-version-min=10.13 -std=gnu++11 -I"/Library/Frameworks/R.framework/Resources/include" -DNDEBUG -I'/Library/Frameworks/R.framework/Versions/4.1/Resources/library/Rcpp/include' -I'/Library/Frameworks/R.framework/Versions/4.1/Resources/library/BH/include' -I/usr/local/include -fPIC -Wall -g -O2 -c boost_regex/cpp_regex_traits.cpp -o boost_regex/cpp_regex_traits.o clang++ -mmacosx-version-min=10.13 -std=gnu++11 -I"/Library/Frameworks/R.framework/Resources/include" -DNDEBUG -I'/Library/Frameworks/R.framework/Versions/4.1/Resources/library/Rcpp/include' -I'/Library/Frameworks/R.framework/Versions/4.1/Resources/library/BH/include' -I/usr/local/include -fPIC -Wall -g -O2 -c boost_regex/cregex.cpp -o boost_regex/cregex.o clang++ -mmacosx-version-min=10.13 -std=gnu++11 -I"/Library/Frameworks/R.framework/Resources/include" -DNDEBUG -I'/Library/Frameworks/R.framework/Versions/4.1/Resources/library/Rcpp/include' -I'/Library/Frameworks/R.framework/Versions/4.1/Resources/library/BH/include' -I/usr/local/include -fPIC -Wall -g -O2 -c boost_regex/fileiter.cpp -o boost_regex/fileiter.o clang++ -mmacosx-version-min=10.13 -std=gnu++11 -I"/Library/Frameworks/R.framework/Resources/include" -DNDEBUG -I'/Library/Frameworks/R.framework/Versions/4.1/Resources/library/Rcpp/include' -I'/Library/Frameworks/R.framework/Versions/4.1/Resources/library/BH/include' -I/usr/local/include -fPIC -Wall -g -O2 -c boost_regex/icu.cpp -o boost_regex/icu.o clang++ -mmacosx-version-min=10.13 -std=gnu++11 -I"/Library/Frameworks/R.framework/Resources/include" -DNDEBUG -I'/Library/Frameworks/R.framework/Versions/4.1/Resources/library/Rcpp/include' -I'/Library/Frameworks/R.framework/Versions/4.1/Resources/library/BH/include' -I/usr/local/include -fPIC -Wall -g -O2 -c boost_regex/instances.cpp -o boost_regex/instances.o clang++ -mmacosx-version-min=10.13 -std=gnu++11 -I"/Library/Frameworks/R.framework/Resources/include" -DNDEBUG -I'/Library/Frameworks/R.framework/Versions/4.1/Resources/library/Rcpp/include' -I'/Library/Frameworks/R.framework/Versions/4.1/Resources/library/BH/include' -I/usr/local/include -fPIC -Wall -g -O2 -c boost_regex/posix_api.cpp -o boost_regex/posix_api.o clang++ -mmacosx-version-min=10.13 -std=gnu++11 -I"/Library/Frameworks/R.framework/Resources/include" -DNDEBUG -I'/Library/Frameworks/R.framework/Versions/4.1/Resources/library/Rcpp/include' -I'/Library/Frameworks/R.framework/Versions/4.1/Resources/library/BH/include' -I/usr/local/include -fPIC -Wall -g -O2 -c boost_regex/regex.cpp -o boost_regex/regex.o clang++ -mmacosx-version-min=10.13 -std=gnu++11 -I"/Library/Frameworks/R.framework/Resources/include" -DNDEBUG -I'/Library/Frameworks/R.framework/Versions/4.1/Resources/library/Rcpp/include' -I'/Library/Frameworks/R.framework/Versions/4.1/Resources/library/BH/include' -I/usr/local/include -fPIC -Wall -g -O2 -c boost_regex/regex_debug.cpp -o boost_regex/regex_debug.o clang++ -mmacosx-version-min=10.13 -std=gnu++11 -I"/Library/Frameworks/R.framework/Resources/include" -DNDEBUG -I'/Library/Frameworks/R.framework/Versions/4.1/Resources/library/Rcpp/include' -I'/Library/Frameworks/R.framework/Versions/4.1/Resources/library/BH/include' -I/usr/local/include -fPIC -Wall -g -O2 -c boost_regex/regex_raw_buffer.cpp -o boost_regex/regex_raw_buffer.o clang++ -mmacosx-version-min=10.13 -std=gnu++11 -I"/Library/Frameworks/R.framework/Resources/include" -DNDEBUG -I'/Library/Frameworks/R.framework/Versions/4.1/Resources/library/Rcpp/include' -I'/Library/Frameworks/R.framework/Versions/4.1/Resources/library/BH/include' -I/usr/local/include -fPIC -Wall -g -O2 -c boost_regex/regex_traits_defaults.cpp -o boost_regex/regex_traits_defaults.o clang++ -mmacosx-version-min=10.13 -std=gnu++11 -I"/Library/Frameworks/R.framework/Resources/include" -DNDEBUG -I'/Library/Frameworks/R.framework/Versions/4.1/Resources/library/Rcpp/include' -I'/Library/Frameworks/R.framework/Versions/4.1/Resources/library/BH/include' -I/usr/local/include -fPIC -Wall -g -O2 -c boost_regex/static_mutex.cpp -o boost_regex/static_mutex.o clang++ -mmacosx-version-min=10.13 -std=gnu++11 -I"/Library/Frameworks/R.framework/Resources/include" -DNDEBUG -I'/Library/Frameworks/R.framework/Versions/4.1/Resources/library/Rcpp/include' -I'/Library/Frameworks/R.framework/Versions/4.1/Resources/library/BH/include' -I/usr/local/include -fPIC -Wall -g -O2 -c boost_regex/usinstances.cpp -o boost_regex/usinstances.o clang++ -mmacosx-version-min=10.13 -std=gnu++11 -I"/Library/Frameworks/R.framework/Resources/include" -DNDEBUG -I'/Library/Frameworks/R.framework/Versions/4.1/Resources/library/Rcpp/include' -I'/Library/Frameworks/R.framework/Versions/4.1/Resources/library/BH/include' -I/usr/local/include -fPIC -Wall -g -O2 -c boost_regex/w32_regex_traits.cpp -o boost_regex/w32_regex_traits.o clang++ -mmacosx-version-min=10.13 -std=gnu++11 -I"/Library/Frameworks/R.framework/Resources/include" -DNDEBUG -I'/Library/Frameworks/R.framework/Versions/4.1/Resources/library/Rcpp/include' -I'/Library/Frameworks/R.framework/Versions/4.1/Resources/library/BH/include' -I/usr/local/include -fPIC -Wall -g -O2 -c boost_regex/wc_regex_traits.cpp -o boost_regex/wc_regex_traits.o clang++ -mmacosx-version-min=10.13 -std=gnu++11 -I"/Library/Frameworks/R.framework/Resources/include" -DNDEBUG -I'/Library/Frameworks/R.framework/Versions/4.1/Resources/library/Rcpp/include' -I'/Library/Frameworks/R.framework/Versions/4.1/Resources/library/BH/include' -I/usr/local/include -fPIC -Wall -g -O2 -c boost_regex/wide_posix_api.cpp -o boost_regex/wide_posix_api.o clang++ -mmacosx-version-min=10.13 -std=gnu++11 -I"/Library/Frameworks/R.framework/Resources/include" -DNDEBUG -I'/Library/Frameworks/R.framework/Versions/4.1/Resources/library/Rcpp/include' -I'/Library/Frameworks/R.framework/Versions/4.1/Resources/library/BH/include' -I/usr/local/include -fPIC -Wall -g -O2 -c boost_regex/winstances.cpp -o boost_regex/winstances.o mkdir -p "/Library/Frameworks/R.framework/Versions/4.1/Resources/library/00LOCK-pqsfinder/00new/pqsfinder/lib" ar rs "/Library/Frameworks/R.framework/Versions/4.1/Resources/library/00LOCK-pqsfinder/00new/pqsfinder/lib/libboost_regex.a" boost_regex/c_regex_traits.o boost_regex/cpp_regex_traits.o boost_regex/cregex.o boost_regex/fileiter.o boost_regex/icu.o boost_regex/instances.o boost_regex/posix_api.o boost_regex/regex.o boost_regex/regex_debug.o boost_regex/regex_raw_buffer.o boost_regex/regex_traits_defaults.o boost_regex/static_mutex.o boost_regex/usinstances.o boost_regex/w32_regex_traits.o boost_regex/wc_regex_traits.o boost_regex/wide_posix_api.o boost_regex/winstances.o ar: creating archive /Library/Frameworks/R.framework/Versions/4.1/Resources/library/00LOCK-pqsfinder/00new/pqsfinder/lib/libboost_regex.a /Library/Developer/CommandLineTools/usr/bin/ranlib: file: /Library/Frameworks/R.framework/Versions/4.1/Resources/library/00LOCK-pqsfinder/00new/pqsfinder/lib/libboost_regex.a(icu.o) has no symbols /Library/Developer/CommandLineTools/usr/bin/ranlib: file: /Library/Frameworks/R.framework/Versions/4.1/Resources/library/00LOCK-pqsfinder/00new/pqsfinder/lib/libboost_regex.a(instances.o) has no symbols /Library/Developer/CommandLineTools/usr/bin/ranlib: file: /Library/Frameworks/R.framework/Versions/4.1/Resources/library/00LOCK-pqsfinder/00new/pqsfinder/lib/libboost_regex.a(regex_debug.o) has no symbols /Library/Developer/CommandLineTools/usr/bin/ranlib: file: /Library/Frameworks/R.framework/Versions/4.1/Resources/library/00LOCK-pqsfinder/00new/pqsfinder/lib/libboost_regex.a(usinstances.o) has no symbols /Library/Developer/CommandLineTools/usr/bin/ranlib: file: /Library/Frameworks/R.framework/Versions/4.1/Resources/library/00LOCK-pqsfinder/00new/pqsfinder/lib/libboost_regex.a(w32_regex_traits.o) has no symbols /Library/Developer/CommandLineTools/usr/bin/ranlib: file: /Library/Frameworks/R.framework/Versions/4.1/Resources/library/00LOCK-pqsfinder/00new/pqsfinder/lib/libboost_regex.a(winstances.o) has no symbols clang++ -mmacosx-version-min=10.13 -std=gnu++11 -dynamiclib -Wl,-headerpad_max_install_names -undefined dynamic_lookup -single_module -multiply_defined suppress -L/Library/Frameworks/R.framework/Resources/lib -L/usr/local/lib -o pqsfinder.so RcppExports.o pqsfinder.o /Library/Frameworks/R.framework/Versions/4.1/Resources/library/00LOCK-pqsfinder/00new/pqsfinder/lib/libboost_regex.a -F/Library/Frameworks/R.framework/.. -framework R -Wl,-framework -Wl,CoreFoundation installing to /Library/Frameworks/R.framework/Versions/4.1/Resources/library/00LOCK-pqsfinder/00new/pqsfinder/libs ** R ** inst ** byte-compile and prepare package for lazy loading ** help *** installing help indices ** building package indices ** installing vignettes ** testing if installed package can be loaded from temporary location ** checking absolute paths in shared objects and dynamic libraries ** testing if installed package can be loaded from final location ** testing if installed package keeps a record of temporary installation path * DONE (pqsfinder)
pqsfinder.Rcheck/tests/testthat.Rout
R version 4.1.1 (2021-08-10) -- "Kick Things"
Copyright (C) 2021 The R Foundation for Statistical Computing
Platform: x86_64-apple-darwin17.0 (64-bit)
R is free software and comes with ABSOLUTELY NO WARRANTY.
You are welcome to redistribute it under certain conditions.
Type 'license()' or 'licence()' for distribution details.
R is a collaborative project with many contributors.
Type 'contributors()' for more information and
'citation()' on how to cite R or R packages in publications.
Type 'demo()' for some demos, 'help()' for on-line help, or
'help.start()' for an HTML browser interface to help.
Type 'q()' to quit R.
> library(testthat)
> library(pqsfinder)
Loading required package: Biostrings
Loading required package: BiocGenerics
Loading required package: parallel
Attaching package: 'BiocGenerics'
The following objects are masked from 'package:parallel':
    clusterApply, clusterApplyLB, clusterCall, clusterEvalQ,
    clusterExport, clusterMap, parApply, parCapply, parLapply,
    parLapplyLB, parRapply, parSapply, parSapplyLB
The following objects are masked from 'package:stats':
    IQR, mad, sd, var, xtabs
The following objects are masked from 'package:base':
    Filter, Find, Map, Position, Reduce, anyDuplicated, append,
    as.data.frame, basename, cbind, colnames, dirname, do.call,
    duplicated, eval, evalq, get, grep, grepl, intersect, is.unsorted,
    lapply, mapply, match, mget, order, paste, pmax, pmax.int, pmin,
    pmin.int, rank, rbind, rownames, sapply, setdiff, sort, table,
    tapply, union, unique, unsplit, which.max, which.min
Loading required package: S4Vectors
Loading required package: stats4
Attaching package: 'S4Vectors'
The following objects are masked from 'package:base':
    I, expand.grid, unname
Loading required package: IRanges
Loading required package: XVector
Loading required package: GenomeInfoDb
Attaching package: 'Biostrings'
The following object is masked from 'package:base':
    strsplit
> 
> test_check("pqsfinder")
Searching on sense strand...
Search status: finished              
Searching on antisense strand...
Search status: finished              
Searching on sense strand...
Search status: finished              
Searching on antisense strand...
Search status: finished              
Searching on sense strand...
Search status: finished              
Searching on antisense strand...
Search status: finished              
 compare pqsfinder_1_4_4_d, pqsfinder_1_4_4_r
 run default pqsfinder
Searching on sense strand...
Search status: finished              
 run pqsfinder using boost regex engine
Searching on sense strand...
Search status: finished              
 compare pv_d, pv_r
 compare pv_d, pqsfinder_1_4_4_d
Searching on sense strand...
Search status: finished              
Searching on antisense strand...
Search status: finished              
Searching on sense strand...
Search status: 30% ETTC 00:00:00
Search status: 43% ETTC 00:00:01
Search status: 46% ETTC 00:00:02
Search status: 47% ETTC 00:00:03
Search status: 48% ETTC 00:00:04
Search status: 49% ETTC 00:00:05
Search status: 55% ETTC 00:00:04
Search status: 59% ETTC 00:00:04
Search status: 78% ETTC 00:00:01
Search status: 99% ETTC 00:00:00
Search status: finished              
Searching on antisense strand...
Search status: 23% ETTC 00:00:00
Search status: 42% ETTC 00:00:00
Search status: 46% ETTC 00:00:01
Search status: 51% ETTC 00:00:01
Search status: 57% ETTC 00:00:01
Search status: 83% ETTC 00:00:00
Search status: finished              
Searching on sense strand...
Search status: finished              
Searching on antisense strand...
Search status: finished              
Searching on sense strand...
Search status: finished              
Searching on antisense strand...
Search status: finished              
Searching on sense strand...
Search status: 58% ETTC 00:00:00
Search status: 94% ETTC 00:00:00
Search status: finished              
Searching on antisense strand...
Search status: 64% ETTC 00:00:00
Search status: finished              
Searching on sense strand...
Search status: 58% ETTC 00:00:00
Search status: 94% ETTC 00:00:00
Search status: finished              
Searching on antisense strand...
Search status: 64% ETTC 00:00:00
Search status: finished              
Searching on sense strand...
Search status: 65% ETTC 00:00:00
Search status: 94% ETTC 00:00:00
Search status: finished              
Searching on antisense strand...
Search status: 69% ETTC 00:00:00
Search status: 98% ETTC 00:00:00
Search status: finished              
Searching on sense strand...
Search status: 65% ETTC 00:00:00
Search status: 94% ETTC 00:00:00
Search status: finished              
Searching on antisense strand...
Search status: 69% ETTC 00:00:00
Search status: 98% ETTC 00:00:00
Search status: finished              
Searching on sense strand...
Search status: finished              
Searching on antisense strand...
Search status: finished              
Searching on sense strand...
Search status: 2% ETTC 00:00:49
Search status: 6% ETTC 00:00:31
Search status: 10% ETTC 00:00:36
Search status: 12% ETTC 00:00:36
Search status: 14% ETTC 00:00:36
Search status: 17% ETTC 00:00:34
Search status: 18% ETTC 00:00:41
Search status: 18% ETTC 00:00:50
Search status: 21% ETTC 00:00:45
Search status: 22% ETTC 00:00:46
Search status: 25% ETTC 00:00:45
Search status: 27% ETTC 00:00:45
Search status: 31% ETTC 00:00:40
Search status: 32% ETTC 00:00:42
Search status: 33% ETTC 00:00:42
Search status: 36% ETTC 00:00:39
Search status: 37% ETTC 00:00:40
Search status: 39% ETTC 00:00:39
Search status: 40% ETTC 00:00:40
Search status: 42% ETTC 00:00:38
Search status: 43% ETTC 00:00:39
Search status: 46% ETTC 00:00:36
Search status: 48% ETTC 00:00:35
Search status: 51% ETTC 00:00:32
Search status: 53% ETTC 00:00:31
Search status: 57% ETTC 00:00:27
Search status: 58% ETTC 00:00:27
Search status: 61% ETTC 00:00:25
Search status: 63% ETTC 00:00:24
Search status: 66% ETTC 00:00:22
Search status: 66% ETTC 00:00:23
Search status: 67% ETTC 00:00:23
Search status: 68% ETTC 00:00:22
Search status: 69% ETTC 00:00:22
Search status: 72% ETTC 00:00:20
Search status: 74% ETTC 00:00:18
Search status: 76% ETTC 00:00:17
Search status: 79% ETTC 00:00:14
Search status: 83% ETTC 00:00:11
Search status: 85% ETTC 00:00:10
Search status: 86% ETTC 00:00:09
Search status: 87% ETTC 00:00:09
Search status: 90% ETTC 00:00:07
Search status: 92% ETTC 00:00:05
Search status: 93% ETTC 00:00:04
Search status: 97% ETTC 00:00:02
Search status: 100% ETTC 00:00:00
Search status: finished              
Searching on antisense strand...
Search status: finished              
Searching on sense strand...
Search status: finished              
Searching on antisense strand...
Search status: finished              
Searching on sense strand...
Search status: finished              
Searching on antisense strand...
Search status: finished              
Searching on sense strand...
Search status: finished              
Searching on antisense strand...
Search status: finished              
Searching on sense strand...
Search status: finished              
Searching on antisense strand...
Search status: finished              
Searching on sense strand...
Search status: finished              
Searching on antisense strand...
Search status: finished              
Searching on sense strand...
Search status: finished              
Searching on antisense strand...
Search status: finished              
Searching on sense strand...
Search status: finished              
Searching on antisense strand...
Search status: finished              
Searching on sense strand...
Search status: 92% ETTC 00:00:00
Search status: finished              
Searching on antisense strand...
Search status: finished              
Searching on sense strand...
Search status: finished              
Searching on antisense strand...
Search status: finished              
Searching on sense strand...
Search status: 49% ETTC 00:00:01
Search status: 93% ETTC 00:00:00
Search status: finished              
Searching on antisense strand...
Search status: finished              
Searching on sense strand...
Search status: finished              
Searching on antisense strand...
Search status: finished              
Searching on sense strand...
Search status: 74% ETTC 00:00:00
Search status: finished              
Searching on antisense strand...
Search status: finished              
Searching on sense strand...
Search status: finished              
Searching on antisense strand...
Search status: finished              
Searching on sense strand...
Search status: finished              
Searching on antisense strand...
Search status: finished              
Searching on sense strand...
Search status: finished              
Searching on antisense strand...
Search status: finished              
Searching on sense strand...
Search status: finished              
Searching on antisense strand...
Search status: finished              
Searching on sense strand...
Search status: finished              
Searching on antisense strand...
Search status: finished              
Searching on sense strand...
Search status: 98% ETTC 00:00:00
Search status: finished              
Searching on antisense strand...
Search status: finished              
Searching on sense strand...
Search status: finished              
Searching on antisense strand...
Search status: finished              
Searching on sense strand...
Search status: finished              
Searching on antisense strand...
Search status: finished              
Searching on sense strand...
Search status: finished              
Searching on sense strand...
Search status: finished              
Searching on antisense strand...
Search status: finished              
Searching on sense strand...
Search status: finished              
Searching on antisense strand...
Search status: finished              
Searching on sense strand...
Search status: finished              
Searching on antisense strand...
Search status: finished              
Searching on sense strand...
Search status: finished              
Searching on antisense strand...
Search status: finished              
Searching on sense strand...
Search status: finished              
Searching on antisense strand...
Search status: finished              
Searching on sense strand...
Search status: finished              
Searching on antisense strand...
Search status: finished              
[ FAIL 0 | WARN 0 | SKIP 0 | PASS 83 ]
> 
> proc.time()
   user  system elapsed 
110.491   0.768 111.438 
pqsfinder.Rcheck/pqsfinder-Ex.timings
| name | user | system | elapsed | |
| PQSViews | 0.092 | 0.002 | 0.093 | |
| density-PQSViews-method | 0.062 | 0.001 | 0.066 | |
| maxScores-PQSViews-method | 0.026 | 0.001 | 0.027 | |
| maxScores | 0.003 | 0.000 | 0.003 | |
| pqsfinder | 0.074 | 0.002 | 0.076 | |
| score-PQSViews-method | 0.029 | 0.001 | 0.030 | |
| strand-PQSViews-method | 0.041 | 0.003 | 0.043 | |