| Back to Multiple platform build/check report for BioC 3.13 |
|
This page was generated on 2021-10-15 15:06:16 -0400 (Fri, 15 Oct 2021).
|
To the developers/maintainers of the ppiStats package: - Please allow up to 24 hours (and sometimes 48 hours) for your latest push to git@git.bioconductor.org:packages/ppiStats.git to reflect on this report. See How and When does the builder pull? When will my changes propagate? here for more information. - Make sure to use the following settings in order to reproduce any error or warning you see on this page. |
| Package 1421/2041 | Hostname | OS / Arch | INSTALL | BUILD | CHECK | BUILD BIN | ||||||||
| ppiStats 1.58.0 (landing page) Bioconductor Package Maintainer
| nebbiolo1 | Linux (Ubuntu 20.04.2 LTS) / x86_64 | OK | OK | OK | |||||||||
| tokay2 | Windows Server 2012 R2 Standard / x64 | OK | OK | OK | OK | |||||||||
| machv2 | macOS 10.14.6 Mojave / x86_64 | OK | OK | OK | OK | |||||||||
| Package: ppiStats |
| Version: 1.58.0 |
| Command: rm -rf ppiStats.buildbin-libdir && mkdir ppiStats.buildbin-libdir && C:\Users\biocbuild\bbs-3.13-bioc\R\bin\R.exe CMD INSTALL --merge-multiarch --build --library=ppiStats.buildbin-libdir ppiStats_1.58.0.tar.gz |
| StartedAt: 2021-10-15 11:02:28 -0400 (Fri, 15 Oct 2021) |
| EndedAt: 2021-10-15 11:03:42 -0400 (Fri, 15 Oct 2021) |
| EllapsedTime: 74.7 seconds |
| RetCode: 0 |
| Status: OK |
| PackageFile: ppiStats_1.58.0.zip |
| PackageFileSize: 1.396 MiB |
##############################################################################
##############################################################################
###
### Running command:
###
### rm -rf ppiStats.buildbin-libdir && mkdir ppiStats.buildbin-libdir && C:\Users\biocbuild\bbs-3.13-bioc\R\bin\R.exe CMD INSTALL --merge-multiarch --build --library=ppiStats.buildbin-libdir ppiStats_1.58.0.tar.gz
###
##############################################################################
##############################################################################
install for i386
* installing *source* package 'ppiStats' ...
** using staged installation
** R
** inst
** byte-compile and prepare package for lazy loading
** help
*** installing help indices
converting help for package 'ppiStats'
finding HTML links ... done
assessSymmetry html
bpMatrix html
calcInOutDegStats html
createSummaryTables html
degreeEstimates html
estErrProbMethodOfMoments html
estimateCCMErrorRates html
estimatePPIErrorRates html
findAdjacent html
genBPGraph html
hgParams html
hgTests html
idProteinErrorType html
idProteinType html
inOutScatterCharts html
nullDistDoublyTestedEdges html
separateExptBySize html
twPERM html
viabilityCharts html
** building package indices
** installing vignettes
** testing if installed package can be loaded from temporary location
** testing if installed package can be loaded from final location
** testing if installed package keeps a record of temporary installation path
install for x64
* installing *source* package 'ppiStats' ...
** testing if installed package can be loaded
* MD5 sums
packaged installation of 'ppiStats' as ppiStats_1.58.0.zip
* DONE (ppiStats)