| Back to Multiple platform build/check report for BioC 3.13 |
|
This page was generated on 2021-10-15 15:06:16 -0400 (Fri, 15 Oct 2021).
|
To the developers/maintainers of the polyester package: - Please allow up to 24 hours (and sometimes 48 hours) for your latest push to git@git.bioconductor.org:packages/polyester.git to reflect on this report. See How and When does the builder pull? When will my changes propagate? here for more information. - Make sure to use the following settings in order to reproduce any error or warning you see on this page. |
| Package 1412/2041 | Hostname | OS / Arch | INSTALL | BUILD | CHECK | BUILD BIN | ||||||||
| polyester 1.28.0 (landing page) Jack Fu
| nebbiolo1 | Linux (Ubuntu 20.04.2 LTS) / x86_64 | OK | OK | OK | |||||||||
| tokay2 | Windows Server 2012 R2 Standard / x64 | OK | OK | OK | OK | |||||||||
| machv2 | macOS 10.14.6 Mojave / x86_64 | OK | OK | OK | OK | |||||||||
| Package: polyester |
| Version: 1.28.0 |
| Command: rm -rf polyester.buildbin-libdir && mkdir polyester.buildbin-libdir && C:\Users\biocbuild\bbs-3.13-bioc\R\bin\R.exe CMD INSTALL --merge-multiarch --build --library=polyester.buildbin-libdir polyester_1.28.0.tar.gz |
| StartedAt: 2021-10-15 11:01:30 -0400 (Fri, 15 Oct 2021) |
| EndedAt: 2021-10-15 11:02:53 -0400 (Fri, 15 Oct 2021) |
| EllapsedTime: 82.9 seconds |
| RetCode: 0 |
| Status: OK |
| PackageFile: polyester_1.28.0.zip |
| PackageFileSize: 1.991 MiB |
##############################################################################
##############################################################################
###
### Running command:
###
### rm -rf polyester.buildbin-libdir && mkdir polyester.buildbin-libdir && C:\Users\biocbuild\bbs-3.13-bioc\R\bin\R.exe CMD INSTALL --merge-multiarch --build --library=polyester.buildbin-libdir polyester_1.28.0.tar.gz
###
##############################################################################
##############################################################################
install for i386
* installing *source* package 'polyester' ...
** using staged installation
** R
** data
** inst
** byte-compile and prepare package for lazy loading
** help
*** installing help indices
converting help for package 'polyester'
finding HTML links ... done
NB html
add_error html
add_gc_bias html
add_platform_error html
cdnaf html
count_transcripts html
create_read_numbers html
empirical_density html
finding level-2 HTML links ... done
fpkm_to_counts html
generate_fragments html
getAttributeField html
get_params html
get_reads html
gtf_dataframe html
loessfit1 html
loessfit2 html
loessfit3 html
loessfit4 html
loessfit5 html
loessfit6 html
loessfit7 html
model1 html
model2 html
model3 html
model4 html
model5 html
model6 html
model7 html
polyester html
reverse_complement html
rnaf html
seq_gtf html
simulate_experiment html
simulate_experiment_countmat html
simulate_experiment_empirical html
write_reads html
** building package indices
** installing vignettes
** testing if installed package can be loaded from temporary location
** testing if installed package can be loaded from final location
** testing if installed package keeps a record of temporary installation path
install for x64
* installing *source* package 'polyester' ...
** testing if installed package can be loaded
* MD5 sums
packaged installation of 'polyester' as polyester_1.28.0.zip
* DONE (polyester)