| Back to Multiple platform build/check report for BioC 3.13 |
|
This page was generated on 2021-10-15 15:05:48 -0400 (Fri, 15 Oct 2021).
|
To the developers/maintainers of the plier package: - Please allow up to 24 hours (and sometimes 48 hours) for your latest push to git@git.bioconductor.org:packages/plier.git to reflect on this report. See How and When does the builder pull? When will my changes propagate? here for more information. - Make sure to use the following settings in order to reproduce any error or warning you see on this page. |
| Package 1402/2041 | Hostname | OS / Arch | INSTALL | BUILD | CHECK | BUILD BIN | ||||||||
| plier 1.62.0 (landing page) Crispin Miller
| nebbiolo1 | Linux (Ubuntu 20.04.2 LTS) / x86_64 | OK | OK | OK | |||||||||
| tokay2 | Windows Server 2012 R2 Standard / x64 | OK | OK | OK | OK | |||||||||
| machv2 | macOS 10.14.6 Mojave / x86_64 | OK | OK | WARNINGS | OK | |||||||||
| Package: plier |
| Version: 1.62.0 |
| Command: /home/biocbuild/bbs-3.13-bioc/R/bin/R CMD INSTALL plier |
| StartedAt: 2021-10-14 06:05:30 -0400 (Thu, 14 Oct 2021) |
| EndedAt: 2021-10-14 06:05:39 -0400 (Thu, 14 Oct 2021) |
| EllapsedTime: 8.9 seconds |
| RetCode: 0 |
| Status: OK |
##############################################################################
##############################################################################
###
### Running command:
###
### /home/biocbuild/bbs-3.13-bioc/R/bin/R CMD INSTALL plier
###
##############################################################################
##############################################################################
* installing to library ‘/home/biocbuild/bbs-3.13-bioc/R/library’
* installing *source* package ‘plier’ ...
** using staged installation
** libs
g++ -std=gnu++14 -I"/home/biocbuild/bbs-3.13-bioc/R/include" -DNDEBUG -I/usr/local/include -fpic -g -O2 -Wall -c affyplier.cpp -o affyplier.o
g++ -std=gnu++14 -I"/home/biocbuild/bbs-3.13-bioc/R/include" -DNDEBUG -I/usr/local/include -fpic -g -O2 -Wall -c plier_impl.cpp -o plier_impl.o
g++ -std=gnu++14 -I"/home/biocbuild/bbs-3.13-bioc/R/include" -DNDEBUG -I/usr/local/include -fpic -g -O2 -Wall -c plieralg.cpp -o plieralg.o
plieralg.cpp: In function ‘long int NewtonPlier(plier_data*, double&)’:
plieralg.cpp:905:14: warning: variable ‘icount’ set but not used [-Wunused-but-set-variable]
905 | long count, icount;
| ^~~~~~
plieralg.cpp: At global scope:
plieralg.cpp:49:12: warning: ‘g_ErrorCode’ defined but not used [-Wunused-variable]
49 | static int g_ErrorCode=NoError;
| ^~~~~~~~~~~
plieralg.cpp: In function ‘long int NewtonPlier(plier_data*, double&)’:
plieralg.cpp:1257:24: warning: ‘LogLikelihood’ may be used uninitialized in this function [-Wmaybe-uninitialized]
1257 | output = LogLikelihood/nSize;
| ~~~~~~~~~~~~~^~~~~~
g++ -std=gnu++14 -I"/home/biocbuild/bbs-3.13-bioc/R/include" -DNDEBUG -I/usr/local/include -fpic -g -O2 -Wall -c rwrapper.cpp -o rwrapper.o
g++ -std=gnu++14 -shared -L/home/biocbuild/bbs-3.13-bioc/R/lib -L/usr/local/lib -o plier.so affyplier.o plier_impl.o plieralg.o rwrapper.o -L/home/biocbuild/bbs-3.13-bioc/R/lib -lR
installing to /home/biocbuild/bbs-3.13-bioc/R/library/00LOCK-plier/00new/plier/libs
** R
** byte-compile and prepare package for lazy loading
** help
*** installing help indices
** building package indices
** testing if installed package can be loaded from temporary location
** checking absolute paths in shared objects and dynamic libraries
** testing if installed package can be loaded from final location
** testing if installed package keeps a record of temporary installation path
* DONE (plier)