| Back to Multiple platform build/check report for BioC 3.13 |
|
This page was generated on 2021-10-15 15:06:16 -0400 (Fri, 15 Oct 2021).
|
To the developers/maintainers of the pipeFrame package: - Please allow up to 24 hours (and sometimes 48 hours) for your latest push to git@git.bioconductor.org:packages/pipeFrame.git to reflect on this report. See How and When does the builder pull? When will my changes propagate? here for more information. - Make sure to use the following settings in order to reproduce any error or warning you see on this page. |
| Package 1397/2041 | Hostname | OS / Arch | INSTALL | BUILD | CHECK | BUILD BIN | ||||||||
| pipeFrame 1.8.0 (landing page) Zheng Wei
| nebbiolo1 | Linux (Ubuntu 20.04.2 LTS) / x86_64 | OK | OK | OK | |||||||||
| tokay2 | Windows Server 2012 R2 Standard / x64 | OK | OK | OK | OK | |||||||||
| machv2 | macOS 10.14.6 Mojave / x86_64 | OK | OK | OK | OK | |||||||||
| Package: pipeFrame |
| Version: 1.8.0 |
| Command: C:\cygwin\bin\curl.exe -O http://155.52.207.165/BBS/3.13/bioc/src/contrib/pipeFrame_1.8.0.tar.gz && rm -rf pipeFrame.buildbin-libdir && mkdir pipeFrame.buildbin-libdir && C:\Users\biocbuild\bbs-3.13-bioc\R\bin\R.exe CMD INSTALL --merge-multiarch --build --library=pipeFrame.buildbin-libdir pipeFrame_1.8.0.tar.gz && C:\Users\biocbuild\bbs-3.13-bioc\R\bin\R.exe CMD INSTALL pipeFrame_1.8.0.zip && rm pipeFrame_1.8.0.tar.gz pipeFrame_1.8.0.zip |
| StartedAt: 2021-10-14 10:17:46 -0400 (Thu, 14 Oct 2021) |
| EndedAt: 2021-10-14 10:18:35 -0400 (Thu, 14 Oct 2021) |
| EllapsedTime: 49.3 seconds |
| RetCode: 0 |
| Status: OK |
##############################################################################
##############################################################################
###
### Running command:
###
### C:\cygwin\bin\curl.exe -O http://155.52.207.165/BBS/3.13/bioc/src/contrib/pipeFrame_1.8.0.tar.gz && rm -rf pipeFrame.buildbin-libdir && mkdir pipeFrame.buildbin-libdir && C:\Users\biocbuild\bbs-3.13-bioc\R\bin\R.exe CMD INSTALL --merge-multiarch --build --library=pipeFrame.buildbin-libdir pipeFrame_1.8.0.tar.gz && C:\Users\biocbuild\bbs-3.13-bioc\R\bin\R.exe CMD INSTALL pipeFrame_1.8.0.zip && rm pipeFrame_1.8.0.tar.gz pipeFrame_1.8.0.zip
###
##############################################################################
##############################################################################
% Total % Received % Xferd Average Speed Time Time Time Current
Dload Upload Total Spent Left Speed
0 0 0 0 0 0 0 0 --:--:-- --:--:-- --:--:-- 0
25 389k 25 99689 0 0 512k 0 --:--:-- --:--:-- --:--:-- 512k
100 389k 100 389k 0 0 1033k 0 --:--:-- --:--:-- --:--:-- 1032k
install for i386
* installing *source* package 'pipeFrame' ...
** using staged installation
** R
** inst
** byte-compile and prepare package for lazy loading
** help
*** installing help indices
converting help for package 'pipeFrame'
finding HTML links ... done
Step-class html
Utils html
getObjsInPipe html
graphMng html
ignoreCheck html
initPipeFrame html
loadConfig html
loadStep html
runWithFinishCheck html
setGenome html
setJobName html
setPipeName html
setRefDir html
setThreads html
setTmpDir html
** building package indices
** installing vignettes
** testing if installed package can be loaded from temporary location
** testing if installed package can be loaded from final location
** testing if installed package keeps a record of temporary installation path
install for x64
* installing *source* package 'pipeFrame' ...
** testing if installed package can be loaded
* MD5 sums
packaged installation of 'pipeFrame' as pipeFrame_1.8.0.zip
* DONE (pipeFrame)
* installing to library 'C:/Users/biocbuild/bbs-3.13-bioc/R/library'
package 'pipeFrame' successfully unpacked and MD5 sums checked