| Back to Multiple platform build/check report for BioC 3.13 | 
 | 
This page was generated on 2021-10-15 15:06:15 -0400 (Fri, 15 Oct 2021).
| To the developers/maintainers of the perturbatr package: - Please allow up to 24 hours (and sometimes 48 hours) for your latest push to git@git.bioconductor.org:packages/perturbatr.git to reflect on this report. See How and When does the builder pull? When will my changes propagate? here for more information. - Make sure to use the following settings in order to reproduce any error or warning you see on this page. | 
| Package 1374/2041 | Hostname | OS / Arch | INSTALL | BUILD | CHECK | BUILD BIN | ||||||||
| perturbatr 1.12.0  (landing page) Simon Dirmeier 
 | nebbiolo1 | Linux (Ubuntu 20.04.2 LTS) / x86_64 | OK | OK | ERROR | |||||||||
| tokay2 | Windows Server 2012 R2 Standard / x64 | OK | OK | ERROR | OK | |||||||||
| machv2 | macOS 10.14.6 Mojave / x86_64 | OK | OK | ERROR | OK | |||||||||
| Package: perturbatr | 
| Version: 1.12.0 | 
| Command: C:\Users\biocbuild\bbs-3.13-bioc\R\bin\R.exe CMD check --force-multiarch --install=check:perturbatr.install-out.txt --library=C:\Users\biocbuild\bbs-3.13-bioc\R\library --no-vignettes --timings perturbatr_1.12.0.tar.gz | 
| StartedAt: 2021-10-15 03:18:34 -0400 (Fri, 15 Oct 2021) | 
| EndedAt: 2021-10-15 03:33:18 -0400 (Fri, 15 Oct 2021) | 
| EllapsedTime: 883.3 seconds | 
| RetCode: 1 | 
| Status: ERROR | 
| CheckDir: perturbatr.Rcheck | 
| Warnings: NA | 
##############################################################################
##############################################################################
###
### Running command:
###
###   C:\Users\biocbuild\bbs-3.13-bioc\R\bin\R.exe CMD check --force-multiarch --install=check:perturbatr.install-out.txt --library=C:\Users\biocbuild\bbs-3.13-bioc\R\library --no-vignettes --timings perturbatr_1.12.0.tar.gz
###
##############################################################################
##############################################################################
* using log directory 'C:/Users/biocbuild/bbs-3.13-bioc/meat/perturbatr.Rcheck'
* using R version 4.1.1 (2021-08-10)
* using platform: x86_64-w64-mingw32 (64-bit)
* using session charset: ISO8859-1
* using option '--no-vignettes'
* checking for file 'perturbatr/DESCRIPTION' ... OK
* checking extension type ... Package
* this is package 'perturbatr' version '1.12.0'
* checking package namespace information ... OK
* checking package dependencies ... OK
* checking if this is a source package ... OK
* checking if there is a namespace ... OK
* checking for hidden files and directories ... OK
* checking for portable file names ... OK
* checking whether package 'perturbatr' can be installed ... OK
* checking installed package size ... OK
* checking package directory ... OK
* checking 'build' directory ... OK
* checking DESCRIPTION meta-information ... OK
* checking top-level files ... OK
* checking for left-over files ... OK
* checking index information ... OK
* checking package subdirectories ... OK
* checking R files for non-ASCII characters ... OK
* checking R files for syntax errors ... OK
* loading checks for arch 'i386'
** checking whether the package can be loaded ... OK
** checking whether the package can be loaded with stated dependencies ... OK
** checking whether the package can be unloaded cleanly ... OK
** checking whether the namespace can be loaded with stated dependencies ... OK
** checking whether the namespace can be unloaded cleanly ... OK
* loading checks for arch 'x64'
** checking whether the package can be loaded ... OK
** checking whether the package can be loaded with stated dependencies ... OK
** checking whether the package can be unloaded cleanly ... OK
** checking whether the namespace can be loaded with stated dependencies ... OK
** checking whether the namespace can be unloaded cleanly ... OK
* checking dependencies in R code ... OK
* checking S3 generic/method consistency ... OK
* checking replacement functions ... OK
* checking foreign function calls ... OK
* checking R code for possible problems ... OK
* checking Rd files ... OK
* checking Rd metadata ... OK
* checking Rd cross-references ... OK
* checking for missing documentation entries ... OK
* checking for code/documentation mismatches ... OK
* checking Rd \usage sections ... OK
* checking Rd contents ... OK
* checking for unstated dependencies in examples ... OK
* checking contents of 'data' directory ... OK
* checking data for non-ASCII characters ... OK
* checking LazyData ... OK
* checking data for ASCII and uncompressed saves ... OK
* checking files in 'vignettes' ... OK
* checking examples ...
** running examples for arch 'i386' ... OK
Examples with CPU (user + system) or elapsed time > 5s
            user system elapsed
bootstrap 154.26   22.7  177.05
** running examples for arch 'x64' ... OK
Examples with CPU (user + system) or elapsed time > 5s
            user system elapsed
bootstrap 181.51  37.83  219.64
* checking for unstated dependencies in 'tests' ... OK
* checking tests ...
** running tests for arch 'i386' ...
  Running 'testthat.R'
 ERROR
Running the tests in 'tests/testthat.R' failed.
Last 13 lines of output:
  Attaching package: 'perturbatr'
  
  The following object is masked from 'package:stats':
  
      filter
  
  > 
  > test_check("perturbatr")
  == Failed tests ================================================================
  -- Failure (test_util.R:29:3): data plots --------------------------------------
  `s <- plot(rnaiscreen)` produced warnings.
  
  [ FAIL 1 | WARN 4 | SKIP 0 | PASS 40 ]
  Error: Test failures
  Execution halted
** running tests for arch 'x64' ...
  Running 'testthat.R'
 ERROR
Running the tests in 'tests/testthat.R' failed.
Last 13 lines of output:
  Attaching package: 'perturbatr'
  
  The following object is masked from 'package:stats':
  
      filter
  
  > 
  > test_check("perturbatr")
  == Failed tests ================================================================
  -- Failure (test_util.R:29:3): data plots --------------------------------------
  `s <- plot(rnaiscreen)` produced warnings.
  
  [ FAIL 1 | WARN 4 | SKIP 0 | PASS 40 ]
  Error: Test failures
  Execution halted
* checking for unstated dependencies in vignettes ... OK
* checking package vignettes in 'inst/doc' ... OK
* checking running R code from vignettes ... SKIPPED
* checking re-building of vignette outputs ... SKIPPED
* checking PDF version of manual ... OK
* DONE
Status: 2 ERRORs
See
  'C:/Users/biocbuild/bbs-3.13-bioc/meat/perturbatr.Rcheck/00check.log'
for details.
perturbatr.Rcheck/00install.out
##############################################################################
##############################################################################
###
### Running command:
###
###   C:\cygwin\bin\curl.exe -O http://155.52.207.165/BBS/3.13/bioc/src/contrib/perturbatr_1.12.0.tar.gz && rm -rf perturbatr.buildbin-libdir && mkdir perturbatr.buildbin-libdir && C:\Users\biocbuild\bbs-3.13-bioc\R\bin\R.exe CMD INSTALL --merge-multiarch --build --library=perturbatr.buildbin-libdir perturbatr_1.12.0.tar.gz && C:\Users\biocbuild\bbs-3.13-bioc\R\bin\R.exe CMD INSTALL perturbatr_1.12.0.zip && rm perturbatr_1.12.0.tar.gz perturbatr_1.12.0.zip
###
##############################################################################
##############################################################################
  % Total    % Received % Xferd  Average Speed   Time    Time     Time  Current
                                 Dload  Upload   Total   Spent    Left  Speed
  0     0    0     0    0     0      0      0 --:--:-- --:--:-- --:--:--     0
 21 3989k   21  872k    0     0  1207k      0  0:00:03 --:--:--  0:00:03 1206k
 72 3989k   72 2896k    0     0  1673k      0  0:00:02  0:00:01  0:00:01 1674k
100 3989k  100 3989k    0     0  1874k      0  0:00:02  0:00:02 --:--:-- 1875k
install for i386
* installing *source* package 'perturbatr' ...
** using staged installation
** R
** data
*** moving datasets to lazyload DB
** inst
** byte-compile and prepare package for lazy loading
** help
*** installing help indices
  converting help for package 'perturbatr'
    finding HTML links ... done
    HMAnalysedPerturbationData-class        html  
    NetworkAnalysedPerturbationData-class   html  
    PerturbationData-class                  html  
    bootstrap                               html  
    dataSet-methods                         html  
    diffuse-methods                         html  
    filter-methods                          html  
    geneEffects-methods                     html  
    graph-methods                           html  
    hm-methods                              html  
    inference-methods                       html  
    isBootstrapped-methods                  html  
    modelFit-methods                        html  
    nestedGeneEffects-methods               html  
    params-methods                          html  
    perturbatr-package                      html  
    plot.NetworkAnalysedPerturbationData    html  
    plot.PerturbationData                   html  
    rbind.PerturbationData                  html  
    rnaiscreen                              html  
    setModelData-methods                    html  
** building package indices
** installing vignettes
** testing if installed package can be loaded from temporary location
** testing if installed package can be loaded from final location
** testing if installed package keeps a record of temporary installation path
install for x64
* installing *source* package 'perturbatr' ...
** testing if installed package can be loaded
* MD5 sums
packaged installation of 'perturbatr' as perturbatr_1.12.0.zip
* DONE (perturbatr)
* installing to library 'C:/Users/biocbuild/bbs-3.13-bioc/R/library'
package 'perturbatr' successfully unpacked and MD5 sums checked
| perturbatr.Rcheck/tests_i386/testthat.Rout.fail 
R version 4.1.1 (2021-08-10) -- "Kick Things"
Copyright (C) 2021 The R Foundation for Statistical Computing
Platform: i386-w64-mingw32/i386 (32-bit)
R is free software and comes with ABSOLUTELY NO WARRANTY.
You are welcome to redistribute it under certain conditions.
Type 'license()' or 'licence()' for distribution details.
R is a collaborative project with many contributors.
Type 'contributors()' for more information and
'citation()' on how to cite R or R packages in publications.
Type 'demo()' for some demos, 'help()' for on-line help, or
'help.start()' for an HTML browser interface to help.
Type 'q()' to quit R.
> # perturbatr: analysis of high-throughput gene perturbation screens
> #
> # Copyright (C) 2018 Simon Dirmeier
> #
> # This file is part of perturbatr
> #
> # perturbatr is free software: you can redistribute it and/or modify
> # it under the terms of the GNU General Public License as published by
> # the Free Software Foundation, either version 3 of the License, or
> # (at your option) any later version.
> #
> # perturbatr is distributed in the hope that it will be useful,
> # but WITHOUT ANY WARRANTY; without even the implied warranty of
> # MERCHANTABILITY or FITNESS FOR A PARTICULAR PURPOSE.  See the
> # GNU General Public License for more details.
> #
> # You should have received a copy of the GNU General Public License
> # along with perturbatr If not, see <http://www.gnu.org/licenses/>.
> 
> 
> library(testthat)
> library(perturbatr)
Attaching package: 'perturbatr'
The following object is masked from 'package:stats':
    filter
> 
> test_check("perturbatr")
== Failed tests ================================================================
-- Failure (test_util.R:29:3): data plots --------------------------------------
`s <- plot(rnaiscreen)` produced warnings.
[ FAIL 1 | WARN 4 | SKIP 0 | PASS 40 ]
Error: Test failures
Execution halted
 | perturbatr.Rcheck/tests_x64/testthat.Rout.fail 
R version 4.1.1 (2021-08-10) -- "Kick Things"
Copyright (C) 2021 The R Foundation for Statistical Computing
Platform: x86_64-w64-mingw32/x64 (64-bit)
R is free software and comes with ABSOLUTELY NO WARRANTY.
You are welcome to redistribute it under certain conditions.
Type 'license()' or 'licence()' for distribution details.
R is a collaborative project with many contributors.
Type 'contributors()' for more information and
'citation()' on how to cite R or R packages in publications.
Type 'demo()' for some demos, 'help()' for on-line help, or
'help.start()' for an HTML browser interface to help.
Type 'q()' to quit R.
> # perturbatr: analysis of high-throughput gene perturbation screens
> #
> # Copyright (C) 2018 Simon Dirmeier
> #
> # This file is part of perturbatr
> #
> # perturbatr is free software: you can redistribute it and/or modify
> # it under the terms of the GNU General Public License as published by
> # the Free Software Foundation, either version 3 of the License, or
> # (at your option) any later version.
> #
> # perturbatr is distributed in the hope that it will be useful,
> # but WITHOUT ANY WARRANTY; without even the implied warranty of
> # MERCHANTABILITY or FITNESS FOR A PARTICULAR PURPOSE.  See the
> # GNU General Public License for more details.
> #
> # You should have received a copy of the GNU General Public License
> # along with perturbatr If not, see <http://www.gnu.org/licenses/>.
> 
> 
> library(testthat)
> library(perturbatr)
Attaching package: 'perturbatr'
The following object is masked from 'package:stats':
    filter
> 
> test_check("perturbatr")
== Failed tests ================================================================
-- Failure (test_util.R:29:3): data plots --------------------------------------
`s <- plot(rnaiscreen)` produced warnings.
[ FAIL 1 | WARN 4 | SKIP 0 | PASS 40 ]
Error: Test failures
Execution halted
 | 
| perturbatr.Rcheck/examples_i386/perturbatr-Ex.timings 
 | perturbatr.Rcheck/examples_x64/perturbatr-Ex.timings 
 |