| Back to Multiple platform build/check report for BioC 3.13 |
|
This page was generated on 2021-10-15 15:05:48 -0400 (Fri, 15 Oct 2021).
|
To the developers/maintainers of the pepStat package: - Please allow up to 24 hours (and sometimes 48 hours) for your latest push to git@git.bioconductor.org:packages/pepStat.git to reflect on this report. See How and When does the builder pull? When will my changes propagate? here for more information. - Make sure to use the following settings in order to reproduce any error or warning you see on this page. |
| Package 1370/2041 | Hostname | OS / Arch | INSTALL | BUILD | CHECK | BUILD BIN | ||||||||
| pepStat 1.26.0 (landing page) Gregory C Imholte
| nebbiolo1 | Linux (Ubuntu 20.04.2 LTS) / x86_64 | OK | OK | OK | |||||||||
| tokay2 | Windows Server 2012 R2 Standard / x64 | OK | OK | OK | OK | |||||||||
| machv2 | macOS 10.14.6 Mojave / x86_64 | OK | OK | OK | OK | |||||||||
| Package: pepStat |
| Version: 1.26.0 |
| Command: /home/biocbuild/bbs-3.13-bioc/R/bin/R CMD check --install=check:pepStat.install-out.txt --library=/home/biocbuild/bbs-3.13-bioc/R/library --no-vignettes --timings pepStat_1.26.0.tar.gz |
| StartedAt: 2021-10-14 10:59:29 -0400 (Thu, 14 Oct 2021) |
| EndedAt: 2021-10-14 11:01:31 -0400 (Thu, 14 Oct 2021) |
| EllapsedTime: 122.1 seconds |
| RetCode: 0 |
| Status: OK |
| CheckDir: pepStat.Rcheck |
| Warnings: 0 |
##############################################################################
##############################################################################
###
### Running command:
###
### /home/biocbuild/bbs-3.13-bioc/R/bin/R CMD check --install=check:pepStat.install-out.txt --library=/home/biocbuild/bbs-3.13-bioc/R/library --no-vignettes --timings pepStat_1.26.0.tar.gz
###
##############################################################################
##############################################################################
* using log directory ‘/home/biocbuild/bbs-3.13-bioc/meat/pepStat.Rcheck’
* using R version 4.1.1 (2021-08-10)
* using platform: x86_64-pc-linux-gnu (64-bit)
* using session charset: UTF-8
* using option ‘--no-vignettes’
* checking for file ‘pepStat/DESCRIPTION’ ... OK
* checking extension type ... Package
* this is package ‘pepStat’ version ‘1.26.0’
* checking package namespace information ... OK
* checking package dependencies ... OK
* checking if this is a source package ... OK
* checking if there is a namespace ... OK
* checking for hidden files and directories ... OK
* checking for portable file names ... OK
* checking for sufficient/correct file permissions ... OK
* checking whether package ‘pepStat’ can be installed ... OK
* checking installed package size ... OK
* checking package directory ... OK
* checking ‘build’ directory ... OK
* checking DESCRIPTION meta-information ... NOTE
Malformed Description field: should contain one or more complete sentences.
* checking top-level files ... OK
* checking for left-over files ... OK
* checking index information ... OK
* checking package subdirectories ... OK
* checking R files for non-ASCII characters ... OK
* checking R files for syntax errors ... OK
* checking whether the package can be loaded ... OK
* checking whether the package can be loaded with stated dependencies ... OK
* checking whether the package can be unloaded cleanly ... OK
* checking whether the namespace can be loaded with stated dependencies ... NOTE
Warning: no function found corresponding to methods exports from ‘pepStat’ for: ‘end’, ‘start’, ‘values’
A namespace must be able to be loaded with just the base namespace
loaded: otherwise if the namespace gets loaded by a saved object, the
session will be unable to start.
Probably some imports need to be declared in the NAMESPACE file.
* checking whether the namespace can be unloaded cleanly ... OK
* checking dependencies in R code ... OK
* checking S3 generic/method consistency ... OK
* checking replacement functions ... OK
* checking foreign function calls ... OK
* checking R code for possible problems ... NOTE
.findFDR : <anonymous>: no visible global function definition for
‘median’
.sanitize_mapping_file2: no visible global function definition for
‘read.csv’
create_db: no visible global function definition for ‘mcols<-’
create_db: no visible global function definition for ‘mcols’
getPlotCoords: no visible global function definition for ‘values’
getWeightedEstimator : <anonymous>: no visible global function
definition for ‘lm.fit’
getWeightedEstimator : <anonymous>: no visible global function
definition for ‘lm.wfit’
getWeightedEstimator : <anonymous> : <anonymous>: no visible global
function definition for ‘sd’
getZpep: no visible global function definition for ‘values’
getZpep : <anonymous>: no visible global function definition for
‘values’
plotArrayImage: no visible global function definition for
‘dev.interactive’
plotArrayImage: no visible global function definition for
‘devAskNewPage’
plotArrayImage: no visible global function definition for ‘dev.hold’
plotArrayImage: no visible global function definition for ‘dev.flush’
plotArrayResiduals: no visible global function definition for
‘dev.interactive’
plotArrayResiduals: no visible global function definition for
‘devAskNewPage’
plotArrayResiduals: no visible global function definition for
‘dev.hold’
plotArrayResiduals: no visible global function definition for
‘dev.flush’
summarizePeptides: no visible global function definition for ‘values<-’
summarizePeptides: no visible global function definition for ‘values’
coerce,peptideSet-ExpressionSet: no visible global function definition
for ‘annotation’
end,peptideSet: no visible global function definition for ‘end’
featureID,peptideSet: no visible global function definition for
‘values’
pepZscore,GRanges: no visible global function definition for ‘values’
peptide,peptideSet: no visible global function definition for ‘values’
peptide<-,peptideSet-character: no visible global function definition
for ‘values’
peptide<-,peptideSet-character: no visible global function definition
for ‘values<-’
position,peptideSet: no visible global function definition for ‘start’
position,peptideSet: no visible global function definition for ‘end’
start,peptideSet: no visible global function definition for ‘start’
values,peptideSet: no visible global function definition for ‘values’
values<-,peptideSet: no visible global function definition for
‘values<-’
write.pSet,peptideSet: no visible global function definition for
‘start’
write.pSet,peptideSet: no visible global function definition for ‘end’
write.pSet,peptideSet: no visible global function definition for
‘write.csv’
Undefined global functions or variables:
annotation dev.flush dev.hold dev.interactive devAskNewPage end
lm.fit lm.wfit mcols mcols<- median read.csv sd start values values<-
write.csv
Consider adding
importFrom("grDevices", "dev.flush", "dev.hold", "dev.interactive",
"devAskNewPage")
importFrom("stats", "end", "lm.fit", "lm.wfit", "median", "sd",
"start")
importFrom("utils", "read.csv", "write.csv")
to your NAMESPACE file.
* checking Rd files ... OK
* checking Rd metadata ... OK
* checking Rd cross-references ... OK
* checking for missing documentation entries ... OK
* checking for code/documentation mismatches ... OK
* checking Rd \usage sections ... OK
* checking Rd contents ... OK
* checking for unstated dependencies in examples ... OK
* checking installed files from ‘inst/doc’ ... OK
* checking files in ‘vignettes’ ... OK
* checking examples ... OK
* checking for unstated dependencies in vignettes ... OK
* checking package vignettes in ‘inst/doc’ ... OK
* checking running R code from vignettes ... SKIPPED
* checking re-building of vignette outputs ... SKIPPED
* checking PDF version of manual ... OK
* DONE
Status: 3 NOTEs
See
‘/home/biocbuild/bbs-3.13-bioc/meat/pepStat.Rcheck/00check.log’
for details.
pepStat.Rcheck/00install.out
############################################################################## ############################################################################## ### ### Running command: ### ### /home/biocbuild/bbs-3.13-bioc/R/bin/R CMD INSTALL pepStat ### ############################################################################## ############################################################################## * installing to library ‘/home/biocbuild/bbs-3.13-bioc/R/library’ * installing *source* package ‘pepStat’ ... ** using staged installation ** R ** inst ** byte-compile and prepare package for lazy loading No methods found in package ‘GenomicRanges’ for request: ‘mcols<-’ when loading ‘pepStat’ No methods found in package ‘GenomicRanges’ for request: ‘mcols’ when loading ‘pepStat’ No methods found in package ‘IRanges’ for request: ‘values<-’ when loading ‘pepStat’ No methods found in package ‘IRanges’ for request: ‘values’ when loading ‘pepStat’ ** help *** installing help indices ** building package indices ** installing vignettes ‘pepStat.Rnw’ ** testing if installed package can be loaded from temporary location No methods found in package ‘GenomicRanges’ for request: ‘mcols<-’ when loading ‘pepStat’ No methods found in package ‘GenomicRanges’ for request: ‘mcols’ when loading ‘pepStat’ No methods found in package ‘IRanges’ for request: ‘values<-’ when loading ‘pepStat’ No methods found in package ‘IRanges’ for request: ‘values’ when loading ‘pepStat’ ** testing if installed package can be loaded from final location No methods found in package ‘GenomicRanges’ for request: ‘mcols<-’ when loading ‘pepStat’ No methods found in package ‘GenomicRanges’ for request: ‘mcols’ when loading ‘pepStat’ No methods found in package ‘IRanges’ for request: ‘values<-’ when loading ‘pepStat’ No methods found in package ‘IRanges’ for request: ‘values’ when loading ‘pepStat’ ** testing if installed package keeps a record of temporary installation path * DONE (pepStat)
pepStat.Rcheck/pepStat-Ex.timings
| name | user | system | elapsed | |
| create_db | 0.105 | 0.000 | 0.106 | |
| makeCalls | 4.496 | 0.087 | 4.607 | |
| makePeptideSet | 1.384 | 0.035 | 1.420 | |
| normalizeArray | 3.535 | 0.011 | 3.547 | |
| plotArray | 3.523 | 0.028 | 3.551 | |
| restab | 3.467 | 0.024 | 3.491 | |
| shinyPepStat | 0 | 0 | 0 | |
| slidingMean | 4.038 | 0.011 | 4.051 | |
| summarizePeptides | 3.376 | 0.052 | 3.429 | |