| Back to Multiple platform build/check report for BioC 3.13 |
|
This page was generated on 2021-10-15 15:06:15 -0400 (Fri, 15 Oct 2021).
|
To the developers/maintainers of the pathview package: - Please allow up to 24 hours (and sometimes 48 hours) for your latest push to git@git.bioconductor.org:packages/pathview.git to reflect on this report. See How and When does the builder pull? When will my changes propagate? here for more information. - Make sure to use the following settings in order to reproduce any error or warning you see on this page. |
| Package 1353/2041 | Hostname | OS / Arch | INSTALL | BUILD | CHECK | BUILD BIN | ||||||||
| pathview 1.32.0 (landing page) Weijun Luo
| nebbiolo1 | Linux (Ubuntu 20.04.2 LTS) / x86_64 | OK | OK | WARNINGS | |||||||||
| tokay2 | Windows Server 2012 R2 Standard / x64 | OK | OK | WARNINGS | OK | |||||||||
| machv2 | macOS 10.14.6 Mojave / x86_64 | OK | OK | WARNINGS | OK | |||||||||
| Package: pathview |
| Version: 1.32.0 |
| Command: rm -rf pathview.buildbin-libdir && mkdir pathview.buildbin-libdir && C:\Users\biocbuild\bbs-3.13-bioc\R\bin\R.exe CMD INSTALL --merge-multiarch --build --library=pathview.buildbin-libdir pathview_1.32.0.tar.gz |
| StartedAt: 2021-10-15 10:53:41 -0400 (Fri, 15 Oct 2021) |
| EndedAt: 2021-10-15 10:54:54 -0400 (Fri, 15 Oct 2021) |
| EllapsedTime: 73.0 seconds |
| RetCode: 0 |
| Status: OK |
| PackageFile: pathview_1.32.0.zip |
| PackageFileSize: 2.516 MiB |
##############################################################################
##############################################################################
###
### Running command:
###
### rm -rf pathview.buildbin-libdir && mkdir pathview.buildbin-libdir && C:\Users\biocbuild\bbs-3.13-bioc\R\bin\R.exe CMD INSTALL --merge-multiarch --build --library=pathview.buildbin-libdir pathview_1.32.0.tar.gz
###
##############################################################################
##############################################################################
install for i386
* installing *source* package 'pathview' ...
** using staged installation
** R
** data
*** moving datasets to lazyload DB
** inst
** byte-compile and prepare package for lazy loading
** help
*** installing help indices
converting help for package 'pathview'
finding HTML links ... done
combineKEGGnodes html
cpd.accs html
cpdidmap html
demo.data html
download.kegg html
eg2id html
kegg.species.code html
korg html
mol.sum html
node.color html
node.info html
node.map html
pathview-internal html
pathview-package html
pathview html
sim.mol.data html
wordwrap html
** building package indices
** installing vignettes
** testing if installed package can be loaded from temporary location
** testing if installed package can be loaded from final location
** testing if installed package keeps a record of temporary installation path
install for x64
* installing *source* package 'pathview' ...
** testing if installed package can be loaded
* MD5 sums
packaged installation of 'pathview' as pathview_1.32.0.zip
* DONE (pathview)