| Back to Multiple platform build/check report for BioC 3.13 |
|
This page was generated on 2021-10-15 15:06:15 -0400 (Fri, 15 Oct 2021).
|
To the developers/maintainers of the pandaR package: - Please allow up to 24 hours (and sometimes 48 hours) for your latest push to git@git.bioconductor.org:packages/pandaR.git to reflect on this report. See How and When does the builder pull? When will my changes propagate? here for more information. - Make sure to use the following settings in order to reproduce any error or warning you see on this page. |
| Package 1339/2041 | Hostname | OS / Arch | INSTALL | BUILD | CHECK | BUILD BIN | ||||||||
| pandaR 1.24.0 (landing page) Joseph N. Paulson
| nebbiolo1 | Linux (Ubuntu 20.04.2 LTS) / x86_64 | OK | OK | WARNINGS | |||||||||
| tokay2 | Windows Server 2012 R2 Standard / x64 | OK | OK | WARNINGS | OK | |||||||||
| machv2 | macOS 10.14.6 Mojave / x86_64 | OK | OK | WARNINGS | OK | |||||||||
| Package: pandaR |
| Version: 1.24.0 |
| Command: C:\cygwin\bin\curl.exe -O http://155.52.207.165/BBS/3.13/bioc/src/contrib/pandaR_1.24.0.tar.gz && rm -rf pandaR.buildbin-libdir && mkdir pandaR.buildbin-libdir && C:\Users\biocbuild\bbs-3.13-bioc\R\bin\R.exe CMD INSTALL --merge-multiarch --build --library=pandaR.buildbin-libdir pandaR_1.24.0.tar.gz && C:\Users\biocbuild\bbs-3.13-bioc\R\bin\R.exe CMD INSTALL pandaR_1.24.0.zip && rm pandaR_1.24.0.tar.gz pandaR_1.24.0.zip |
| StartedAt: 2021-10-14 08:23:33 -0400 (Thu, 14 Oct 2021) |
| EndedAt: 2021-10-14 08:24:40 -0400 (Thu, 14 Oct 2021) |
| EllapsedTime: 67.5 seconds |
| RetCode: 0 |
| Status: OK |
##############################################################################
##############################################################################
###
### Running command:
###
### C:\cygwin\bin\curl.exe -O http://155.52.207.165/BBS/3.13/bioc/src/contrib/pandaR_1.24.0.tar.gz && rm -rf pandaR.buildbin-libdir && mkdir pandaR.buildbin-libdir && C:\Users\biocbuild\bbs-3.13-bioc\R\bin\R.exe CMD INSTALL --merge-multiarch --build --library=pandaR.buildbin-libdir pandaR_1.24.0.tar.gz && C:\Users\biocbuild\bbs-3.13-bioc\R\bin\R.exe CMD INSTALL pandaR_1.24.0.zip && rm pandaR_1.24.0.tar.gz pandaR_1.24.0.zip
###
##############################################################################
##############################################################################
% Total % Received % Xferd Average Speed Time Time Time Current
Dload Upload Total Spent Left Speed
0 0 0 0 0 0 0 0 --:--:-- --:--:-- --:--:-- 0
14 8845k 14 1286k 0 0 1521k 0 0:00:05 --:--:-- 0:00:05 1520k
44 8845k 44 3963k 0 0 2111k 0 0:00:04 0:00:01 0:00:03 2111k
84 8845k 84 7498k 0 0 2632k 0 0:00:03 0:00:02 0:00:01 2632k
100 8845k 100 8845k 0 0 2811k 0 0:00:03 0:00:03 --:--:-- 2811k
install for i386
* installing *source* package 'pandaR' ...
** using staged installation
** R
** data
*** moving datasets to lazyload DB
** inst
** byte-compile and prepare package for lazy loading
** help
*** installing help indices
converting help for package 'pandaR'
finding HTML links ... done
calcDegree html
calcDegreeDifference html
importPandaMatlab html
multiplot html
panda html
pandaR html
pandaResult html
pandaResultPairs html
pandaToyData html
plotCommunityDetection html
plotGraph html
plotZ html
plotZbyTF html
print.panda html
subnetwork html
summary.panda html
targetedGenes html
testMotif html
topedges html
** building package indices
** installing vignettes
** testing if installed package can be loaded from temporary location
** testing if installed package can be loaded from final location
** testing if installed package keeps a record of temporary installation path
install for x64
* installing *source* package 'pandaR' ...
** testing if installed package can be loaded
* MD5 sums
packaged installation of 'pandaR' as pandaR_1.24.0.zip
* DONE (pandaR)
* installing to library 'C:/Users/biocbuild/bbs-3.13-bioc/R/library'
package 'pandaR' successfully unpacked and MD5 sums checked