| Back to Multiple platform build/check report for BioC 3.13 |
|
This page was generated on 2021-10-15 15:06:46 -0400 (Fri, 15 Oct 2021).
|
To the developers/maintainers of the packFinder package: - Please allow up to 24 hours (and sometimes 48 hours) for your latest push to git@git.bioconductor.org:packages/packFinder.git to reflect on this report. See How and When does the builder pull? When will my changes propagate? here for more information. - Make sure to use the following settings in order to reproduce any error or warning you see on this page. |
| Package 1333/2041 | Hostname | OS / Arch | INSTALL | BUILD | CHECK | BUILD BIN | ||||||||
| packFinder 1.4.0 (landing page) Jack Gisby
| nebbiolo1 | Linux (Ubuntu 20.04.2 LTS) / x86_64 | OK | OK | OK | |||||||||
| tokay2 | Windows Server 2012 R2 Standard / x64 | OK | OK | OK | OK | |||||||||
| machv2 | macOS 10.14.6 Mojave / x86_64 | OK | OK | OK | OK | |||||||||
| Package: packFinder |
| Version: 1.4.0 |
| Command: /Library/Frameworks/R.framework/Versions/Current/Resources/bin/R CMD check --install=check:packFinder.install-out.txt --library=/Library/Frameworks/R.framework/Versions/Current/Resources/library --no-vignettes --timings packFinder_1.4.0.tar.gz |
| StartedAt: 2021-10-14 22:03:53 -0400 (Thu, 14 Oct 2021) |
| EndedAt: 2021-10-14 22:05:13 -0400 (Thu, 14 Oct 2021) |
| EllapsedTime: 80.0 seconds |
| RetCode: 0 |
| Status: OK |
| CheckDir: packFinder.Rcheck |
| Warnings: 0 |
##############################################################################
##############################################################################
###
### Running command:
###
### /Library/Frameworks/R.framework/Versions/Current/Resources/bin/R CMD check --install=check:packFinder.install-out.txt --library=/Library/Frameworks/R.framework/Versions/Current/Resources/library --no-vignettes --timings packFinder_1.4.0.tar.gz
###
##############################################################################
##############################################################################
* using log directory ‘/Users/biocbuild/bbs-3.13-bioc/meat/packFinder.Rcheck’
* using R version 4.1.1 (2021-08-10)
* using platform: x86_64-apple-darwin17.0 (64-bit)
* using session charset: UTF-8
* using option ‘--no-vignettes’
* checking for file ‘packFinder/DESCRIPTION’ ... OK
* checking extension type ... Package
* this is package ‘packFinder’ version ‘1.4.0’
* package encoding: UTF-8
* checking package namespace information ... OK
* checking package dependencies ... OK
* checking if this is a source package ... OK
* checking if there is a namespace ... OK
* checking for hidden files and directories ... NOTE
Found the following hidden files and directories:
.git_fetch_output.txt
.git_merge_output.txt
These were most likely included in error. See section ‘Package
structure’ in the ‘Writing R Extensions’ manual.
* checking for portable file names ... OK
* checking for sufficient/correct file permissions ... OK
* checking whether package ‘packFinder’ can be installed ... OK
* checking installed package size ... OK
* checking package directory ... OK
* checking ‘build’ directory ... OK
* checking DESCRIPTION meta-information ... OK
* checking top-level files ... OK
* checking for left-over files ... OK
* checking index information ... OK
* checking package subdirectories ... OK
* checking R files for non-ASCII characters ... OK
* checking R files for syntax errors ... OK
* checking whether the package can be loaded ... OK
* checking whether the package can be loaded with stated dependencies ... OK
* checking whether the package can be unloaded cleanly ... OK
* checking whether the namespace can be loaded with stated dependencies ... OK
* checking whether the namespace can be unloaded cleanly ... OK
* checking dependencies in R code ... OK
* checking S3 generic/method consistency ... OK
* checking replacement functions ... OK
* checking foreign function calls ... OK
* checking R code for possible problems ... OK
* checking Rd files ... OK
* checking Rd metadata ... OK
* checking Rd cross-references ... OK
* checking for missing documentation entries ... OK
* checking for code/documentation mismatches ... OK
* checking Rd \usage sections ... OK
* checking Rd contents ... OK
* checking for unstated dependencies in examples ... OK
* checking contents of ‘data’ directory ... OK
* checking data for non-ASCII characters ... OK
* checking data for ASCII and uncompressed saves ... OK
* checking files in ‘vignettes’ ... OK
* checking examples ... OK
Examples with CPU (user + system) or elapsed time > 5s
user system elapsed
arabidopsisThalianaRefseq 7.489 0.29 7.794
* checking for unstated dependencies in ‘tests’ ... OK
* checking tests ...
Running ‘testthat.R’
OK
* checking for unstated dependencies in vignettes ... OK
* checking package vignettes in ‘inst/doc’ ... OK
* checking running R code from vignettes ... SKIPPED
* checking re-building of vignette outputs ... SKIPPED
* checking PDF version of manual ... OK
* DONE
Status: 1 NOTE
See
‘/Users/biocbuild/bbs-3.13-bioc/meat/packFinder.Rcheck/00check.log’
for details.
packFinder.Rcheck/00install.out
############################################################################## ############################################################################## ### ### Running command: ### ### /Library/Frameworks/R.framework/Versions/Current/Resources/bin/R CMD INSTALL packFinder ### ############################################################################## ############################################################################## * installing to library ‘/Library/Frameworks/R.framework/Versions/4.1/Resources/library’ * installing *source* package ‘packFinder’ ... ** using staged installation ** R ** data ** inst ** byte-compile and prepare package for lazy loading ** help *** installing help indices ** building package indices ** installing vignettes ** testing if installed package can be loaded from temporary location ** testing if installed package can be loaded from final location ** testing if installed package keeps a record of temporary installation path * DONE (packFinder)
packFinder.Rcheck/tests/testthat.Rout
R version 4.1.1 (2021-08-10) -- "Kick Things"
Copyright (C) 2021 The R Foundation for Statistical Computing
Platform: x86_64-apple-darwin17.0 (64-bit)
R is free software and comes with ABSOLUTELY NO WARRANTY.
You are welcome to redistribute it under certain conditions.
Type 'license()' or 'licence()' for distribution details.
R is a collaborative project with many contributors.
Type 'contributors()' for more information and
'citation()' on how to cite R or R packages in publications.
Type 'demo()' for some demos, 'help()' for on-line help, or
'help.start()' for an HTML browser interface to help.
Type 'q()' to quit R.
> library(testthat)
> library(packFinder)
>
> test_check("packFinder")
DNAStringSet object of length 1:
width seq names
[1] 3800001 GGTGTTAAAAGGTTCTTGAGTG...TAGTCAGGTTTCTAACAGAAAA Chr3
[1] "File successfully written to tempTestOutput/packMatches.csv"
[1] "FASTA written to tempTestOutput/packMatches.fasta"
[ FAIL 0 | WARN 0 | SKIP 0 | PASS 31 ]
>
> proc.time()
user system elapsed
10.999 0.510 11.504
packFinder.Rcheck/packFinder-Ex.timings
| name | user | system | elapsed | |
| arabidopsisThalianaRefseq | 7.489 | 0.290 | 7.794 | |
| blastAnalysis | 0.001 | 0.000 | 0.001 | |
| blastAnnotate | 0.011 | 0.003 | 0.014 | |
| collapseSeqs | 1.218 | 0.010 | 1.228 | |
| filterWildcards | 0.144 | 0.009 | 0.153 | |
| getPackSeqs | 2.107 | 0.009 | 2.119 | |
| getPacksFromCsv | 0.006 | 0.002 | 0.008 | |
| getPacksFromFasta | 0.112 | 0.008 | 0.122 | |
| getPacksFromGRanges | 0.133 | 0.002 | 0.135 | |
| getTsds | 0.118 | 0.006 | 0.124 | |
| identifyPotentialPackElements | 0.978 | 0.007 | 0.985 | |
| identifyTirMatches | 0.116 | 0.004 | 0.120 | |
| makeBlastDb | 0.000 | 0.001 | 0.001 | |
| packAlign | 0.098 | 0.007 | 0.106 | |
| packBlast | 0.000 | 0.000 | 0.001 | |
| packClust | 0.097 | 0.006 | 0.103 | |
| packMatches | 2.117 | 0.013 | 2.134 | |
| packSearch | 1.768 | 0.008 | 1.776 | |
| packsToCsv | 0.003 | 0.002 | 0.005 | |
| packsToFasta | 0.132 | 0.007 | 0.139 | |
| packsToGRanges | 0.055 | 0.001 | 0.056 | |
| readBlast | 0.005 | 0.001 | 0.006 | |
| readUc | 0.006 | 0.002 | 0.009 | |
| tirClust | 0.817 | 0.021 | 0.839 | |