Back to Multiple platform build/check report for BioC 3.13 |
|
This page was generated on 2021-10-15 15:06:14 -0400 (Fri, 15 Oct 2021).
To the developers/maintainers of the optimalFlow package: - Please allow up to 24 hours (and sometimes 48 hours) for your latest push to git@git.bioconductor.org:packages/optimalFlow.git to reflect on this report. See How and When does the builder pull? When will my changes propagate? here for more information. - Make sure to use the following settings in order to reproduce any error or warning you see on this page. |
Package 1319/2041 | Hostname | OS / Arch | INSTALL | BUILD | CHECK | BUILD BIN | ||||||||
optimalFlow 1.4.0 (landing page) Hristo Inouzhe
| nebbiolo1 | Linux (Ubuntu 20.04.2 LTS) / x86_64 | OK | OK | OK | ![]() | ||||||||
tokay2 | Windows Server 2012 R2 Standard / x64 | OK | OK | OK | OK | ![]() | ||||||||
machv2 | macOS 10.14.6 Mojave / x86_64 | OK | OK | OK | OK | ![]() | ||||||||
Package: optimalFlow |
Version: 1.4.0 |
Command: C:\cygwin\bin\curl.exe -O http://155.52.207.165/BBS/3.13/bioc/src/contrib/optimalFlow_1.4.0.tar.gz && rm -rf optimalFlow.buildbin-libdir && mkdir optimalFlow.buildbin-libdir && C:\Users\biocbuild\bbs-3.13-bioc\R\bin\R.exe CMD INSTALL --merge-multiarch --build --library=optimalFlow.buildbin-libdir optimalFlow_1.4.0.tar.gz && C:\Users\biocbuild\bbs-3.13-bioc\R\bin\R.exe CMD INSTALL optimalFlow_1.4.0.zip && rm optimalFlow_1.4.0.tar.gz optimalFlow_1.4.0.zip |
StartedAt: 2021-10-14 11:17:57 -0400 (Thu, 14 Oct 2021) |
EndedAt: 2021-10-14 11:18:27 -0400 (Thu, 14 Oct 2021) |
EllapsedTime: 30.1 seconds |
RetCode: 0 |
Status: OK |
############################################################################## ############################################################################## ### ### Running command: ### ### C:\cygwin\bin\curl.exe -O http://155.52.207.165/BBS/3.13/bioc/src/contrib/optimalFlow_1.4.0.tar.gz && rm -rf optimalFlow.buildbin-libdir && mkdir optimalFlow.buildbin-libdir && C:\Users\biocbuild\bbs-3.13-bioc\R\bin\R.exe CMD INSTALL --merge-multiarch --build --library=optimalFlow.buildbin-libdir optimalFlow_1.4.0.tar.gz && C:\Users\biocbuild\bbs-3.13-bioc\R\bin\R.exe CMD INSTALL optimalFlow_1.4.0.zip && rm optimalFlow_1.4.0.tar.gz optimalFlow_1.4.0.zip ### ############################################################################## ############################################################################## % Total % Received % Xferd Average Speed Time Time Time Current Dload Upload Total Spent Left Speed 0 0 0 0 0 0 0 0 --:--:-- --:--:-- --:--:-- 0 0 956k 0 2487 0 0 31068 0 0:00:31 --:--:-- 0:00:31 31087 100 956k 100 956k 0 0 1594k 0 --:--:-- --:--:-- --:--:-- 1596k install for i386 * installing *source* package 'optimalFlow' ... ** using staged installation ** R ** byte-compile and prepare package for lazy loading ** help *** installing help indices converting help for package 'optimalFlow' finding HTML links ... done costWasserMatchingEllipse html cytoPlot html cytoPlot3d html cytoPlotDatabase html cytoPlotDatabase3d html estimCovCellGeneral html estimationCellBarycenter html f1Score html f1ScoreVoting html labelTransfer html labelTransferEllipse html optimalFlowClassification html optimalFlowTemplates html qdaClassification html tclustWithInitialization html tclust_H html trimmedKBarycenter html voteLabelTransfer html w2dist html wasserCostFunction html ** building package indices ** installing vignettes ** testing if installed package can be loaded from temporary location ** testing if installed package can be loaded from final location ** testing if installed package keeps a record of temporary installation path install for x64 * installing *source* package 'optimalFlow' ... ** testing if installed package can be loaded * MD5 sums packaged installation of 'optimalFlow' as optimalFlow_1.4.0.zip * DONE (optimalFlow) * installing to library 'C:/Users/biocbuild/bbs-3.13-bioc/R/library' package 'optimalFlow' successfully unpacked and MD5 sums checked