| Back to Multiple platform build/check report for BioC 3.13 |
|
This page was generated on 2021-10-15 15:06:14 -0400 (Fri, 15 Oct 2021).
|
To the developers/maintainers of the omicplotR package: - Please allow up to 24 hours (and sometimes 48 hours) for your latest push to git@git.bioconductor.org:packages/omicplotR.git to reflect on this report. See How and When does the builder pull? When will my changes propagate? here for more information. - Make sure to use the following settings in order to reproduce any error or warning you see on this page. |
| Package 1298/2041 | Hostname | OS / Arch | INSTALL | BUILD | CHECK | BUILD BIN | ||||||||
| omicplotR 1.12.0 (landing page) Daniel Giguere
| nebbiolo1 | Linux (Ubuntu 20.04.2 LTS) / x86_64 | OK | OK | OK | |||||||||
| tokay2 | Windows Server 2012 R2 Standard / x64 | OK | OK | OK | OK | |||||||||
| machv2 | macOS 10.14.6 Mojave / x86_64 | OK | OK | OK | OK | |||||||||
| Package: omicplotR |
| Version: 1.12.0 |
| Command: C:\cygwin\bin\curl.exe -O http://155.52.207.165/BBS/3.13/bioc/src/contrib/omicplotR_1.12.0.tar.gz && rm -rf omicplotR.buildbin-libdir && mkdir omicplotR.buildbin-libdir && C:\Users\biocbuild\bbs-3.13-bioc\R\bin\R.exe CMD INSTALL --merge-multiarch --build --library=omicplotR.buildbin-libdir omicplotR_1.12.0.tar.gz && C:\Users\biocbuild\bbs-3.13-bioc\R\bin\R.exe CMD INSTALL omicplotR_1.12.0.zip && rm omicplotR_1.12.0.tar.gz omicplotR_1.12.0.zip |
| StartedAt: 2021-10-14 11:02:05 -0400 (Thu, 14 Oct 2021) |
| EndedAt: 2021-10-14 11:03:04 -0400 (Thu, 14 Oct 2021) |
| EllapsedTime: 58.7 seconds |
| RetCode: 0 |
| Status: OK |
##############################################################################
##############################################################################
###
### Running command:
###
### C:\cygwin\bin\curl.exe -O http://155.52.207.165/BBS/3.13/bioc/src/contrib/omicplotR_1.12.0.tar.gz && rm -rf omicplotR.buildbin-libdir && mkdir omicplotR.buildbin-libdir && C:\Users\biocbuild\bbs-3.13-bioc\R\bin\R.exe CMD INSTALL --merge-multiarch --build --library=omicplotR.buildbin-libdir omicplotR_1.12.0.tar.gz && C:\Users\biocbuild\bbs-3.13-bioc\R\bin\R.exe CMD INSTALL omicplotR_1.12.0.zip && rm omicplotR_1.12.0.tar.gz omicplotR_1.12.0.zip
###
##############################################################################
##############################################################################
% Total % Received % Xferd Average Speed Time Time Time Current
Dload Upload Total Spent Left Speed
0 0 0 0 0 0 0 0 --:--:-- --:--:-- --:--:-- 0
78 873k 78 689k 0 0 1305k 0 --:--:-- --:--:-- --:--:-- 1305k
100 873k 100 873k 0 0 1445k 0 --:--:-- --:--:-- --:--:-- 1445k
install for i386
* installing *source* package 'omicplotR' ...
** using staged installation
** R
** data
*** moving datasets to lazyload DB
** inst
** byte-compile and prepare package for lazy loading
** help
*** installing help indices
converting help for package 'omicplotR'
finding HTML links ... done
internal html
metadata html
omicplotR-package html
omicplotr.run html
otu_table html
** building package indices
** installing vignettes
** testing if installed package can be loaded from temporary location
** testing if installed package can be loaded from final location
** testing if installed package keeps a record of temporary installation path
install for x64
* installing *source* package 'omicplotR' ...
** testing if installed package can be loaded
* MD5 sums
packaged installation of 'omicplotR' as omicplotR_1.12.0.zip
* DONE (omicplotR)
* installing to library 'C:/Users/biocbuild/bbs-3.13-bioc/R/library'
package 'omicplotR' successfully unpacked and MD5 sums checked