| Back to Multiple platform build/check report for BioC 3.13 | 
  | 
This page was generated on 2021-10-15 15:06:14 -0400 (Fri, 15 Oct 2021).
| 
To the developers/maintainers of the nucleR package: - Please allow up to 24 hours (and sometimes 48 hours) for your latest push to git@git.bioconductor.org:packages/nucleR.git to reflect on this report. See How and When does the builder pull? When will my changes propagate? here for more information. - Make sure to use the following settings in order to reproduce any error or warning you see on this page.  | 
| Package 1285/2041 | Hostname | OS / Arch | INSTALL | BUILD | CHECK | BUILD BIN | ||||||||
| nucleR 2.24.0  (landing page) Alba Sala 
  | nebbiolo1 | Linux (Ubuntu 20.04.2 LTS) / x86_64 | OK | OK | WARNINGS | |||||||||
| tokay2 | Windows Server 2012 R2 Standard / x64 | OK | OK | WARNINGS | OK | |||||||||
| machv2 | macOS 10.14.6 Mojave / x86_64 | OK | OK | WARNINGS | OK | |||||||||
| Package: nucleR | 
| Version: 2.24.0 | 
| Command: rm -rf nucleR.buildbin-libdir && mkdir nucleR.buildbin-libdir && C:\Users\biocbuild\bbs-3.13-bioc\R\bin\R.exe CMD INSTALL --merge-multiarch --build --library=nucleR.buildbin-libdir nucleR_2.24.0.tar.gz | 
| StartedAt: 2021-10-15 10:44:30 -0400 (Fri, 15 Oct 2021) | 
| EndedAt: 2021-10-15 10:45:44 -0400 (Fri, 15 Oct 2021) | 
| EllapsedTime: 74.8 seconds | 
| RetCode: 0 | 
| Status: OK | 
| PackageFile: nucleR_2.24.0.zip | 
| PackageFileSize: 1.315 MiB | 
##############################################################################
##############################################################################
###
### Running command:
###
###   rm -rf nucleR.buildbin-libdir && mkdir nucleR.buildbin-libdir && C:\Users\biocbuild\bbs-3.13-bioc\R\bin\R.exe CMD INSTALL --merge-multiarch --build --library=nucleR.buildbin-libdir nucleR_2.24.0.tar.gz
###
##############################################################################
##############################################################################
install for i386
* installing *source* package 'nucleR' ...
** using staged installation
** R
** data
** inst
** byte-compile and prepare package for lazy loading
** help
*** installing help indices
  converting help for package 'nucleR'
    finding HTML links ... done
    controlCorrection                       html  
    coverage.rpm                            html  
    dot-fftRegion                           html  
    dot-getThreshold                        html  
    dot-loadFiles                           html  
    dot-loadPairedBam                       html  
    dot-loadSingleBam                       html  
    dot-mid                                 html  
    dot-processStrand                       html  
    dot-unlist_as_integer                   html  
    dot-vectorizedAll                       html  
    dot-xlapply                             html  
    export.bed                              html  
    export.wig                              html  
    filterFFT                               html  
    fragmentLenDetect                       html  
    mergeCalls                              html  
    nucleR-package                          html  
    nucleosome_htseq                        html  
    nucleosome_tiling                       html  
    pcKeepCompDetect                        html  
    peakDetection                           html  
    peakScoring                             html  
    plotPeaks                               html  
    processReads                            html  
    processTilingArray                      html  
    readBAM                                 html  
    readBowtie                              html  
    syntheticNucMap                         html  
** building package indices
** installing vignettes
** testing if installed package can be loaded from temporary location
** testing if installed package can be loaded from final location
** testing if installed package keeps a record of temporary installation path
install for x64
* installing *source* package 'nucleR' ...
** testing if installed package can be loaded
* MD5 sums
packaged installation of 'nucleR' as nucleR_2.24.0.zip
* DONE (nucleR)