| Back to Multiple platform build/check report for BioC 3.13 |
|
This page was generated on 2021-10-15 15:05:47 -0400 (Fri, 15 Oct 2021).
|
To the developers/maintainers of the netresponse package: - Please allow up to 24 hours (and sometimes 48 hours) for your latest push to git@git.bioconductor.org:packages/netresponse.git to reflect on this report. See How and When does the builder pull? When will my changes propagate? here for more information. - Make sure to use the following settings in order to reproduce any error or warning you see on this page. |
| Package 1267/2041 | Hostname | OS / Arch | INSTALL | BUILD | CHECK | BUILD BIN | ||||||||
| netresponse 1.52.0 (landing page) Leo Lahti
| nebbiolo1 | Linux (Ubuntu 20.04.2 LTS) / x86_64 | OK | OK | OK | |||||||||
| tokay2 | Windows Server 2012 R2 Standard / x64 | OK | OK | OK | OK | |||||||||
| machv2 | macOS 10.14.6 Mojave / x86_64 | OK | OK | OK | OK | |||||||||
| Package: netresponse |
| Version: 1.52.0 |
| Command: /home/biocbuild/bbs-3.13-bioc/R/bin/R CMD INSTALL netresponse |
| StartedAt: 2021-10-14 06:11:57 -0400 (Thu, 14 Oct 2021) |
| EndedAt: 2021-10-14 06:12:08 -0400 (Thu, 14 Oct 2021) |
| EllapsedTime: 11.7 seconds |
| RetCode: 0 |
| Status: OK |
##############################################################################
##############################################################################
###
### Running command:
###
### /home/biocbuild/bbs-3.13-bioc/R/bin/R CMD INSTALL netresponse
###
##############################################################################
##############################################################################
* installing to library ‘/home/biocbuild/bbs-3.13-bioc/R/library’
* installing *source* package ‘netresponse’ ...
** using staged installation
** libs
gcc -I"/home/biocbuild/bbs-3.13-bioc/R/include" -DNDEBUG -I/usr/local/include -fpic -g -O2 -Wall -c netresponse.c -o netresponse.o
netresponse.c: In function ‘mHPpost’:
netresponse.c:264:15: warning: unused variable ‘prior_fields’ [-Wunused-variable]
264 | const char *prior_fields[]={"Mumu","S2mu",
| ^~~~~~~~~~~~
netresponse.c: In function ‘mLogLambda’:
netresponse.c:713:3: warning: ‘U_p’ may be used uninitialized in this function [-Wmaybe-uninitialized]
713 | vdp_mk_log_lambda(Mumu, S2mu, Mubar, Mutilde,
| ^~~~~~~~~~~~~~~~~~~~~~~~~~~~~~~~~~~~~~~~~~~~~
714 | AlphaKsi, BetaKsi, KsiAlpha, KsiBeta,
| ~~~~~~~~~~~~~~~~~~~~~~~~~~~~~~~~~~~~~
715 | post_gamma, log_lambda, prior_alpha,
| ~~~~~~~~~~~~~~~~~~~~~~~~~~~~~~~~~~~~
716 | U_p, U_hat,
| ~~~~~~~~~~~
717 | datalen, dim1, dim2, data1, data2,
| ~~~~~~~~~~~~~~~~~~~~~~~~~~~~~~~~~~
718 | Ns, ncentroids, implicitnoisevar);
| ~~~~~~~~~~~~~~~~~~~~~~~~~~~~~~~~~
netresponse.c:713:3: warning: ‘KsiBeta’ may be used uninitialized in this function [-Wmaybe-uninitialized]
netresponse.c:713:3: warning: ‘KsiAlpha’ may be used uninitialized in this function [-Wmaybe-uninitialized]
netresponse.c:713:3: warning: ‘BetaKsi’ may be used uninitialized in this function [-Wmaybe-uninitialized]
netresponse.c:713:3: warning: ‘AlphaKsi’ may be used uninitialized in this function [-Wmaybe-uninitialized]
netresponse.c:713:3: warning: ‘Mutilde’ may be used uninitialized in this function [-Wmaybe-uninitialized]
netresponse.c:713:3: warning: ‘Mubar’ may be used uninitialized in this function [-Wmaybe-uninitialized]
netresponse.c:713:3: warning: ‘S2mu’ may be used uninitialized in this function [-Wmaybe-uninitialized]
netresponse.c:713:3: warning: ‘Mumu’ may be used uninitialized in this function [-Wmaybe-uninitialized]
gcc -shared -L/home/biocbuild/bbs-3.13-bioc/R/lib -L/usr/local/lib -o netresponse.so netresponse.o -L/home/biocbuild/bbs-3.13-bioc/R/lib -lR
installing to /home/biocbuild/bbs-3.13-bioc/R/library/00LOCK-netresponse/00new/netresponse/libs
** R
** data
** inst
** byte-compile and prepare package for lazy loading
** help
*** installing help indices
** building package indices
** installing vignettes
** testing if installed package can be loaded from temporary location
** checking absolute paths in shared objects and dynamic libraries
** testing if installed package can be loaded from final location
** testing if installed package keeps a record of temporary installation path
* DONE (netresponse)