| Back to Multiple platform build/check report for BioC 3.13 | 
  | 
This page was generated on 2021-10-15 15:06:14 -0400 (Fri, 15 Oct 2021).
| 
To the developers/maintainers of the netSmooth package: - Please allow up to 24 hours (and sometimes 48 hours) for your latest push to git@git.bioconductor.org:packages/netSmooth.git to reflect on this report. See How and When does the builder pull? When will my changes propagate? here for more information. - Make sure to use the following settings in order to reproduce any error or warning you see on this page.  | 
| Package 1269/2041 | Hostname | OS / Arch | INSTALL | BUILD | CHECK | BUILD BIN | ||||||||
| netSmooth 1.12.0  (landing page) Jonathan Ronen 
  | nebbiolo1 | Linux (Ubuntu 20.04.2 LTS) / x86_64 | OK | OK | OK | |||||||||
| tokay2 | Windows Server 2012 R2 Standard / x64 | OK | OK | OK | OK | |||||||||
| machv2 | macOS 10.14.6 Mojave / x86_64 | OK | OK | OK | OK | |||||||||
| Package: netSmooth | 
| Version: 1.12.0 | 
| Command: C:\cygwin\bin\curl.exe -O http://155.52.207.165/BBS/3.13/bioc/src/contrib/netSmooth_1.12.0.tar.gz && rm -rf netSmooth.buildbin-libdir && mkdir netSmooth.buildbin-libdir && C:\Users\biocbuild\bbs-3.13-bioc\R\bin\R.exe CMD INSTALL --merge-multiarch --build --library=netSmooth.buildbin-libdir netSmooth_1.12.0.tar.gz && C:\Users\biocbuild\bbs-3.13-bioc\R\bin\R.exe CMD INSTALL netSmooth_1.12.0.zip && rm netSmooth_1.12.0.tar.gz netSmooth_1.12.0.zip | 
| StartedAt: 2021-10-14 11:19:02 -0400 (Thu, 14 Oct 2021) | 
| EndedAt: 2021-10-14 11:20:40 -0400 (Thu, 14 Oct 2021) | 
| EllapsedTime: 98.0 seconds | 
| RetCode: 0 | 
| Status: OK | 
##############################################################################
##############################################################################
###
### Running command:
###
###   C:\cygwin\bin\curl.exe -O http://155.52.207.165/BBS/3.13/bioc/src/contrib/netSmooth_1.12.0.tar.gz && rm -rf netSmooth.buildbin-libdir && mkdir netSmooth.buildbin-libdir && C:\Users\biocbuild\bbs-3.13-bioc\R\bin\R.exe CMD INSTALL --merge-multiarch --build --library=netSmooth.buildbin-libdir netSmooth_1.12.0.tar.gz && C:\Users\biocbuild\bbs-3.13-bioc\R\bin\R.exe CMD INSTALL netSmooth_1.12.0.zip && rm netSmooth_1.12.0.tar.gz netSmooth_1.12.0.zip
###
##############################################################################
##############################################################################
  % Total    % Received % Xferd  Average Speed   Time    Time     Time  Current
                                 Dload  Upload   Total   Spent    Left  Speed
  0     0    0     0    0     0      0      0 --:--:-- --:--:-- --:--:--     0
 17 2967k   17  506k    0     0  1231k      0  0:00:02 --:--:--  0:00:02 1231k
 97 2967k   97 2905k    0     0  2055k      0  0:00:01  0:00:01 --:--:-- 2056k
100 2967k  100 2967k    0     0  2083k      0  0:00:01  0:00:01 --:--:-- 2083k
install for i386
* installing *source* package 'netSmooth' ...
** using staged installation
** R
** data
*** moving datasets to lazyload DB
** inst
** byte-compile and prepare package for lazy loading
** help
*** installing help indices
  converting help for package 'netSmooth'
    finding HTML links ... done
    calc2DEntropy                           html  
    clusterExperimentWorkflow               html  
    clusterOne                              html  
    dimReduce                               html  
    human.ppi                               html  
    l1NormalizeColumns                      html  
    l1NormalizeRows                         html  
    mouse.ppi                               html  
    netSmooth                               html  
REDIRECT:topic	 Previous alias or file overwritten by alias: C:/Users/biocbuild/bbs-3.13-bioc/meat/netSmooth.buildbin-libdir/00LOCK-netSmooth/00new/netSmooth/help/netSmooth+2CMatrix-method.html
    pickDimReduction                        html  
REDIRECT:topic	 Previous alias or file overwritten by alias: C:/Users/biocbuild/bbs-3.13-bioc/meat/netSmooth.buildbin-libdir/00LOCK-netSmooth/00new/netSmooth/help/pickDimReduction+2CMatrix-method.html
    projectFromNetworkRecombine-matrix-method
                                            html  
    projectOnNetwork                        html  
    randomWalkByIterations                  html  
    randomWalkByMatrixInv-matrix-method     html  
    randomWalkBySolve-matrix-method         html  
    robustClusters                          html  
    scoreSmoothing                          html  
    smallPPI                                html  
    smallscRNAseq                           html  
    smoothAndRecombine-matrix-method        html  
** building package indices
** installing vignettes
** testing if installed package can be loaded from temporary location
** testing if installed package can be loaded from final location
** testing if installed package keeps a record of temporary installation path
install for x64
* installing *source* package 'netSmooth' ...
** testing if installed package can be loaded
* MD5 sums
packaged installation of 'netSmooth' as netSmooth_1.12.0.zip
* DONE (netSmooth)
* installing to library 'C:/Users/biocbuild/bbs-3.13-bioc/R/library'
package 'netSmooth' successfully unpacked and MD5 sums checked