Back to Multiple platform build/check report for BioC 3.13 |
|
This page was generated on 2021-10-15 15:06:13 -0400 (Fri, 15 Oct 2021).
To the developers/maintainers of the ndexr package: - Please allow up to 24 hours (and sometimes 48 hours) for your latest push to git@git.bioconductor.org:packages/ndexr.git to reflect on this report. See How and When does the builder pull? When will my changes propagate? here for more information. - Make sure to use the following settings in order to reproduce any error or warning you see on this page. |
Package 1255/2041 | Hostname | OS / Arch | INSTALL | BUILD | CHECK | BUILD BIN | ||||||||
ndexr 1.14.1 (landing page) Florian Auer
| nebbiolo1 | Linux (Ubuntu 20.04.2 LTS) / x86_64 | OK | OK | OK | ![]() | ||||||||
tokay2 | Windows Server 2012 R2 Standard / x64 | OK | OK | OK | OK | ![]() | ||||||||
machv2 | macOS 10.14.6 Mojave / x86_64 | OK | OK | OK | OK | ![]() | ||||||||
Package: ndexr |
Version: 1.14.1 |
Command: rm -rf ndexr.buildbin-libdir && mkdir ndexr.buildbin-libdir && C:\Users\biocbuild\bbs-3.13-bioc\R\bin\R.exe CMD INSTALL --merge-multiarch --build --library=ndexr.buildbin-libdir ndexr_1.14.1.tar.gz |
StartedAt: 2021-10-15 10:40:36 -0400 (Fri, 15 Oct 2021) |
EndedAt: 2021-10-15 10:41:34 -0400 (Fri, 15 Oct 2021) |
EllapsedTime: 57.7 seconds |
RetCode: 0 |
Status: OK |
PackageFile: ndexr_1.14.1.zip |
PackageFileSize: 395 KiB |
############################################################################## ############################################################################## ### ### Running command: ### ### rm -rf ndexr.buildbin-libdir && mkdir ndexr.buildbin-libdir && C:\Users\biocbuild\bbs-3.13-bioc\R\bin\R.exe CMD INSTALL --merge-multiarch --build --library=ndexr.buildbin-libdir ndexr_1.14.1.tar.gz ### ############################################################################## ############################################################################## install for i386 * installing *source* package 'ndexr' ... ** using staged installation ** R ** inst ** byte-compile and prepare package for lazy loading ** help *** installing help indices converting help for package 'ndexr' finding HTML links ... done listToRCode html ndex_conf_header html ndex_config html ndex_connect html ndex_create_group html ndex_create_network html ndex_create_user html ndex_delete_group html ndex_delete_network html ndex_delete_user html ndex_find_groups html ndex_find_networks html ndex_find_user_byId html ndex_find_user_byName html ndex_find_users html ndex_get_group html ndex_get_network html ndex_group_delete_membership html ndex_group_list_networks html ndex_group_list_users html ndex_group_network_get_permission html ndex_group_set_membership html ndex_helper_encodeParams html ndex_helper_getApi html ndex_helper_httpResponseHandler html ndex_internal_addAspects html ndex_network_aspect_get_metadata html ndex_network_delete_permission html ndex_network_get_aspect html ndex_network_get_metadata html ndex_network_get_permission html ndex_network_get_provenance html ndex_network_get_summary html ndex_network_set_systemProperties html ndex_network_update_aspect html ndex_network_update_permission html ndex_network_update_profile html ndex_rest_DELETE html ndex_rest_GET html ndex_rest_POST html ndex_rest_PUT html ndex_update_group html ndex_update_network html ndex_update_user html ndex_user_change_password html ndex_user_forgot_password html ndex_user_get_networksummary html ndex_user_get_showcase html ndex_user_list_groups html ndex_user_list_permissions html ndex_user_mail_password html ndex_user_show_group html ndex_user_show_permission html ndex_verify_user html ndexr-package html ngraph_toRCX html print.NDExConnection html print.RCX html rcx_asNewNetwork html rcx_aspect_toJSON html rcx_fromJSON html rcx_new html rcx_toJSON html rcx_toNGraph html rcx_toRCXgraph html rcx_updateMetaData html rcxgraph_toRCX html ** building package indices ** installing vignettes ** testing if installed package can be loaded from temporary location ** testing if installed package can be loaded from final location ** testing if installed package keeps a record of temporary installation path install for x64 * installing *source* package 'ndexr' ... ** testing if installed package can be loaded * MD5 sums packaged installation of 'ndexr' as ndexr_1.14.1.zip * DONE (ndexr)