| Back to Multiple platform build/check report for BioC 3.13 |
|
This page was generated on 2021-10-15 15:06:13 -0400 (Fri, 15 Oct 2021).
|
To the developers/maintainers of the ncRNAtools package: - Please allow up to 24 hours (and sometimes 48 hours) for your latest push to git@git.bioconductor.org:packages/ncRNAtools.git to reflect on this report. See How and When does the builder pull? When will my changes propagate? here for more information. - Make sure to use the following settings in order to reproduce any error or warning you see on this page. |
| Package 1254/2041 | Hostname | OS / Arch | INSTALL | BUILD | CHECK | BUILD BIN | ||||||||
| ncRNAtools 1.2.1 (landing page) Lara Selles Vidal
| nebbiolo1 | Linux (Ubuntu 20.04.2 LTS) / x86_64 | OK | OK | OK | |||||||||
| tokay2 | Windows Server 2012 R2 Standard / x64 | OK | OK | OK | OK | |||||||||
| machv2 | macOS 10.14.6 Mojave / x86_64 | OK | OK | OK | OK | |||||||||
| Package: ncRNAtools |
| Version: 1.2.1 |
| Command: C:\cygwin\bin\curl.exe -O http://155.52.207.165/BBS/3.13/bioc/src/contrib/ncRNAtools_1.2.1.tar.gz && rm -rf ncRNAtools.buildbin-libdir && mkdir ncRNAtools.buildbin-libdir && C:\Users\biocbuild\bbs-3.13-bioc\R\bin\R.exe CMD INSTALL --merge-multiarch --build --library=ncRNAtools.buildbin-libdir ncRNAtools_1.2.1.tar.gz && C:\Users\biocbuild\bbs-3.13-bioc\R\bin\R.exe CMD INSTALL ncRNAtools_1.2.1.zip && rm ncRNAtools_1.2.1.tar.gz ncRNAtools_1.2.1.zip |
| StartedAt: 2021-10-14 08:22:52 -0400 (Thu, 14 Oct 2021) |
| EndedAt: 2021-10-14 08:24:01 -0400 (Thu, 14 Oct 2021) |
| EllapsedTime: 69.4 seconds |
| RetCode: 0 |
| Status: OK |
##############################################################################
##############################################################################
###
### Running command:
###
### C:\cygwin\bin\curl.exe -O http://155.52.207.165/BBS/3.13/bioc/src/contrib/ncRNAtools_1.2.1.tar.gz && rm -rf ncRNAtools.buildbin-libdir && mkdir ncRNAtools.buildbin-libdir && C:\Users\biocbuild\bbs-3.13-bioc\R\bin\R.exe CMD INSTALL --merge-multiarch --build --library=ncRNAtools.buildbin-libdir ncRNAtools_1.2.1.tar.gz && C:\Users\biocbuild\bbs-3.13-bioc\R\bin\R.exe CMD INSTALL ncRNAtools_1.2.1.zip && rm ncRNAtools_1.2.1.tar.gz ncRNAtools_1.2.1.zip
###
##############################################################################
##############################################################################
% Total % Received % Xferd Average Speed Time Time Time Current
Dload Upload Total Spent Left Speed
0 0 0 0 0 0 0 0 --:--:-- --:--:-- --:--:-- 0
100 32003 100 32003 0 0 268k 0 --:--:-- --:--:-- --:--:-- 271k
install for i386
* installing *source* package 'ncRNAtools' ...
** using staged installation
** R
** inst
** byte-compile and prepare package for lazy loading
** help
*** installing help indices
converting help for package 'ncRNAtools'
finding HTML links ... done
findPairedBases html
flattenDotBracket html
generatePairsProbabilityMatrix html
pairsToSecondaryStructure html
plotCompositePairsMatrix html
plotPairsProbabilityMatrix html
predictAlternativeSecondaryStructures html
predictSecondaryStructure html
readCT html
readDotBracket html
rnaCentralGenomicCoordinatesSearch html
rnaCentralRetrieveEntry html
rnaCentralTextSearch html
writeCT html
writeDotBracket html
** building package indices
** installing vignettes
** testing if installed package can be loaded from temporary location
** testing if installed package can be loaded from final location
** testing if installed package keeps a record of temporary installation path
install for x64
* installing *source* package 'ncRNAtools' ...
** testing if installed package can be loaded
* MD5 sums
packaged installation of 'ncRNAtools' as ncRNAtools_1.2.1.zip
* DONE (ncRNAtools)
* installing to library 'C:/Users/biocbuild/bbs-3.13-bioc/R/library'
package 'ncRNAtools' successfully unpacked and MD5 sums checked