Back to Multiple platform build/check report for BioC 3.13 |
|
This page was generated on 2021-10-15 15:06:44 -0400 (Fri, 15 Oct 2021).
To the developers/maintainers of the musicatk package: - Please allow up to 24 hours (and sometimes 48 hours) for your latest push to git@git.bioconductor.org:packages/musicatk.git to reflect on this report. See How and When does the builder pull? When will my changes propagate? here for more information. - Make sure to use the following settings in order to reproduce any error or warning you see on this page. |
Package 1235/2041 | Hostname | OS / Arch | INSTALL | BUILD | CHECK | BUILD BIN | ||||||||
musicatk 1.2.0 (landing page) Aaron Chevalier
| nebbiolo1 | Linux (Ubuntu 20.04.2 LTS) / x86_64 | OK | OK | OK | ![]() | ||||||||
tokay2 | Windows Server 2012 R2 Standard / x64 | OK | OK | OK | OK | ![]() | ||||||||
machv2 | macOS 10.14.6 Mojave / x86_64 | OK | OK | OK | OK | ![]() | ||||||||
Package: musicatk |
Version: 1.2.0 |
Command: /Library/Frameworks/R.framework/Versions/Current/Resources/bin/R CMD check --install=check:musicatk.install-out.txt --library=/Library/Frameworks/R.framework/Versions/Current/Resources/library --no-vignettes --timings musicatk_1.2.0.tar.gz |
StartedAt: 2021-10-14 21:36:06 -0400 (Thu, 14 Oct 2021) |
EndedAt: 2021-10-14 21:43:44 -0400 (Thu, 14 Oct 2021) |
EllapsedTime: 458.3 seconds |
RetCode: 0 |
Status: OK |
CheckDir: musicatk.Rcheck |
Warnings: 0 |
############################################################################## ############################################################################## ### ### Running command: ### ### /Library/Frameworks/R.framework/Versions/Current/Resources/bin/R CMD check --install=check:musicatk.install-out.txt --library=/Library/Frameworks/R.framework/Versions/Current/Resources/library --no-vignettes --timings musicatk_1.2.0.tar.gz ### ############################################################################## ############################################################################## * using log directory ‘/Users/biocbuild/bbs-3.13-bioc/meat/musicatk.Rcheck’ * using R version 4.1.1 (2021-08-10) * using platform: x86_64-apple-darwin17.0 (64-bit) * using session charset: UTF-8 * using option ‘--no-vignettes’ * checking for file ‘musicatk/DESCRIPTION’ ... OK * checking extension type ... Package * this is package ‘musicatk’ version ‘1.2.0’ * package encoding: UTF-8 * checking package namespace information ... OK * checking package dependencies ... OK * checking if this is a source package ... OK * checking if there is a namespace ... OK * checking for hidden files and directories ... NOTE Found the following hidden files and directories: .git_fetch_output.txt .git_merge_output.txt These were most likely included in error. See section ‘Package structure’ in the ‘Writing R Extensions’ manual. * checking for portable file names ... OK * checking for sufficient/correct file permissions ... OK * checking whether package ‘musicatk’ can be installed ... OK * checking installed package size ... OK * checking package directory ... OK * checking ‘build’ directory ... OK * checking DESCRIPTION meta-information ... OK * checking top-level files ... OK * checking for left-over files ... OK * checking index information ... OK * checking package subdirectories ... OK * checking R files for non-ASCII characters ... OK * checking R files for syntax errors ... OK * checking whether the package can be loaded ... OK * checking whether the package can be loaded with stated dependencies ... OK * checking whether the package can be unloaded cleanly ... OK * checking whether the namespace can be loaded with stated dependencies ... OK * checking whether the namespace can be unloaded cleanly ... OK * checking dependencies in R code ... OK * checking S3 generic/method consistency ... OK * checking replacement functions ... OK * checking foreign function calls ... OK * checking R code for possible problems ... NOTE plot_heatmap: no visible binding for global variable ‘.’ Undefined global functions or variables: . * checking Rd files ... OK * checking Rd metadata ... OK * checking Rd cross-references ... OK * checking for missing documentation entries ... OK * checking for code/documentation mismatches ... OK * checking Rd \usage sections ... OK * checking Rd contents ... OK * checking for unstated dependencies in examples ... OK * checking contents of ‘data’ directory ... OK * checking data for non-ASCII characters ... OK * checking LazyData ... OK * checking data for ASCII and uncompressed saves ... OK * checking files in ‘vignettes’ ... OK * checking examples ... OK Examples with CPU (user + system) or elapsed time > 5s user system elapsed build_standard_table 12.807 0.625 13.445 extract_variants 8.588 0.046 8.644 add_flank_to_variants 5.155 0.253 5.412 plot_cluster 5.036 0.048 5.081 create_umap 4.991 0.050 5.036 combine_count_tables 4.780 0.233 5.015 * checking for unstated dependencies in ‘tests’ ... OK * checking tests ... Running ‘testthat.R’ OK * checking for unstated dependencies in vignettes ... OK * checking package vignettes in ‘inst/doc’ ... OK * checking running R code from vignettes ... SKIPPED * checking re-building of vignette outputs ... SKIPPED * checking PDF version of manual ... OK * DONE Status: 2 NOTEs See ‘/Users/biocbuild/bbs-3.13-bioc/meat/musicatk.Rcheck/00check.log’ for details.
musicatk.Rcheck/00install.out
############################################################################## ############################################################################## ### ### Running command: ### ### /Library/Frameworks/R.framework/Versions/Current/Resources/bin/R CMD INSTALL musicatk ### ############################################################################## ############################################################################## * installing to library ‘/Library/Frameworks/R.framework/Versions/4.1/Resources/library’ * installing *source* package ‘musicatk’ ... ** using staged installation ** R ** data *** moving datasets to lazyload DB ** inst ** byte-compile and prepare package for lazy loading ** help *** installing help indices ** building package indices ** installing vignettes ** testing if installed package can be loaded from temporary location ** testing if installed package can be loaded from final location ** testing if installed package keeps a record of temporary installation path * DONE (musicatk)
musicatk.Rcheck/tests/testthat.Rout
R version 4.1.1 (2021-08-10) -- "Kick Things" Copyright (C) 2021 The R Foundation for Statistical Computing Platform: x86_64-apple-darwin17.0 (64-bit) R is free software and comes with ABSOLUTELY NO WARRANTY. You are welcome to redistribute it under certain conditions. Type 'license()' or 'licence()' for distribution details. R is a collaborative project with many contributors. Type 'contributors()' for more information and 'citation()' on how to cite R or R packages in publications. Type 'demo()' for some demos, 'help()' for on-line help, or 'help.start()' for an HTML browser interface to help. Type 'q()' to quit R. > library("testthat") > library("musicatk") Loading required package: NMF Loading required package: pkgmaker Loading required package: registry Loading required package: rngtools Loading required package: cluster NMF - BioConductor layer [OK] | Shared memory capabilities [NO: synchronicity] | Cores 23/24 To enable shared memory capabilities, try: install.extras(' NMF ') Attaching package: 'NMF' The following object is masked from 'package:testthat': compare > > test_check("musicatk") [ FAIL 0 | WARN 1 | SKIP 0 | PASS 42 ] > > proc.time() user system elapsed 25.523 1.095 26.607
musicatk.Rcheck/musicatk-Ex.timings
name | user | system | elapsed | |
add_flank_to_variants | 5.155 | 0.253 | 5.412 | |
add_variant_type | 0.019 | 0.005 | 0.023 | |
annotate_replication_strand | 0.220 | 0.021 | 0.241 | |
annotate_transcript_strand | 1.704 | 0.065 | 1.771 | |
annotate_variant_length | 0.013 | 0.003 | 0.016 | |
annotate_variant_type | 0.004 | 0.003 | 0.007 | |
auto_predict_grid | 2.848 | 0.112 | 2.964 | |
build_custom_table | 1.504 | 0.022 | 1.529 | |
build_standard_table | 12.807 | 0.625 | 13.445 | |
built_tables | 0.002 | 0.002 | 0.003 | |
cluster_exposure | 0.016 | 0.004 | 0.021 | |
combine_count_tables | 4.780 | 0.233 | 5.015 | |
combine_predict_grid | 2.733 | 0.040 | 2.775 | |
compare_cosmic_v2 | 3.950 | 0.014 | 3.966 | |
compare_cosmic_v3 | 1.822 | 0.006 | 1.829 | |
compare_results | 2.369 | 0.027 | 2.410 | |
cosmic_v2_subtype_map | 0.002 | 0.000 | 0.003 | |
create_musica | 1.429 | 0.105 | 1.540 | |
create_umap | 4.991 | 0.050 | 5.036 | |
discover_signatures | 1.386 | 0.094 | 1.483 | |
drop_annotation | 0.004 | 0.002 | 0.006 | |
exposure_differential_analysis | 0.029 | 0.003 | 0.033 | |
exposures | 0.006 | 0.004 | 0.010 | |
extract_count_tables | 0.007 | 0.002 | 0.009 | |
extract_variants | 8.588 | 0.046 | 8.644 | |
extract_variants_from_maf | 0.185 | 0.001 | 0.187 | |
extract_variants_from_maf_file | 0.170 | 0.002 | 0.172 | |
extract_variants_from_matrix | 0.201 | 0.002 | 0.203 | |
extract_variants_from_vcf | 1.416 | 0.021 | 1.438 | |
extract_variants_from_vcf_file | 0.868 | 0.003 | 0.873 | |
generate_result_grid | 0.239 | 0.002 | 0.241 | |
get_musica | 0.010 | 0.004 | 0.014 | |
k_select | 1.507 | 0.035 | 1.544 | |
name_signatures | 0.005 | 0.003 | 0.007 | |
pipe | 0.004 | 0.001 | 0.005 | |
plot_cluster | 5.036 | 0.048 | 5.081 | |
plot_differential_analysis | 0.256 | 0.003 | 0.259 | |
plot_exposures | 0.253 | 0.004 | 0.257 | |
plot_heatmap | 1.247 | 0.091 | 1.339 | |
plot_sample_counts | 0.537 | 0.012 | 0.549 | |
plot_sample_reconstruction_error | 0.813 | 0.007 | 0.823 | |
plot_signatures | 0.780 | 0.004 | 0.785 | |
plot_umap | 4.027 | 0.069 | 4.093 | |
predict_exposure | 2.023 | 0.123 | 2.150 | |
rc | 0.003 | 0.001 | 0.004 | |
samp_annot | 0.010 | 0.004 | 0.014 | |
sample_names | 0.005 | 0.003 | 0.008 | |
select_genome | 0.000 | 0.000 | 0.001 | |
signatures | 0.007 | 0.007 | 0.014 | |
subset_musica_by_annotation | 0.007 | 0.002 | 0.010 | |
subset_musica_by_counts | 0.012 | 0.004 | 0.015 | |
subset_variant_by_type | 0.008 | 0.004 | 0.012 | |
subset_variants_by_samples | 0.006 | 0.002 | 0.009 | |
table_selected | 0.003 | 0.003 | 0.005 | |
tables | 0.014 | 0.006 | 0.019 | |
umap | 0.006 | 0.005 | 0.011 | |
variants | 0.014 | 0.007 | 0.021 | |