| Back to Multiple platform build/check report for BioC 3.13 |
|
This page was generated on 2021-10-15 15:06:13 -0400 (Fri, 15 Oct 2021).
|
To the developers/maintainers of the multicrispr package: - Please allow up to 24 hours (and sometimes 48 hours) for your latest push to git@git.bioconductor.org:packages/multicrispr.git to reflect on this report. See How and When does the builder pull? When will my changes propagate? here for more information. - Make sure to use the following settings in order to reproduce any error or warning you see on this page. |
| Package 1221/2041 | Hostname | OS / Arch | INSTALL | BUILD | CHECK | BUILD BIN | ||||||||
| multicrispr 1.2.0 (landing page) Aditya Bhagwat
| nebbiolo1 | Linux (Ubuntu 20.04.2 LTS) / x86_64 | OK | OK | OK | |||||||||
| tokay2 | Windows Server 2012 R2 Standard / x64 | OK | OK | OK | OK | |||||||||
| machv2 | macOS 10.14.6 Mojave / x86_64 | OK | OK | OK | OK | |||||||||
| Package: multicrispr |
| Version: 1.2.0 |
| Command: rm -rf multicrispr.buildbin-libdir && mkdir multicrispr.buildbin-libdir && C:\Users\biocbuild\bbs-3.13-bioc\R\bin\R.exe CMD INSTALL --merge-multiarch --build --library=multicrispr.buildbin-libdir multicrispr_1.2.0.tar.gz |
| StartedAt: 2021-10-15 10:36:16 -0400 (Fri, 15 Oct 2021) |
| EndedAt: 2021-10-15 10:37:39 -0400 (Fri, 15 Oct 2021) |
| EllapsedTime: 83.0 seconds |
| RetCode: 0 |
| Status: OK |
| PackageFile: multicrispr_1.2.0.zip |
| PackageFileSize: 2.121 MiB |
##############################################################################
##############################################################################
###
### Running command:
###
### rm -rf multicrispr.buildbin-libdir && mkdir multicrispr.buildbin-libdir && C:\Users\biocbuild\bbs-3.13-bioc\R\bin\R.exe CMD INSTALL --merge-multiarch --build --library=multicrispr.buildbin-libdir multicrispr_1.2.0.tar.gz
###
##############################################################################
##############################################################################
install for i386
* installing *source* package 'multicrispr' ...
** using staged installation
** R
** inst
** byte-compile and prepare package for lazy loading
** help
*** installing help indices
converting help for package 'multicrispr'
finding HTML links ... done
add_genome_matches html
add_inverse_strand html
add_seq html
add_target_matches html
bed_to_granges html
char_to_granges html
double_flank html
extend_for_pe html
extend_pe_to_gg html
extract_matchranges html
finding level-2 HTML links ... done
extract_subranges html
find_gg html
find_primespacers html
find_spacers html
genes_to_granges html
gr2dt html
has_been_indexed html
index_genome html
index_targets html
plot_intervals html
plot_karyogram html
score_ontargets html
up_flank html
write_ranges html
** building package indices
** installing vignettes
** testing if installed package can be loaded from temporary location
** testing if installed package can be loaded from final location
** testing if installed package keeps a record of temporary installation path
install for x64
* installing *source* package 'multicrispr' ...
** testing if installed package can be loaded
* MD5 sums
packaged installation of 'multicrispr' as multicrispr_1.2.0.zip
* DONE (multicrispr)