| Back to Multiple platform build/check report for BioC 3.13 |
|
This page was generated on 2021-10-15 15:06:13 -0400 (Fri, 15 Oct 2021).
|
To the developers/maintainers of the multiSight package: - Please allow up to 24 hours (and sometimes 48 hours) for your latest push to git@git.bioconductor.org:packages/multiSight.git to reflect on this report. See How and When does the builder pull? When will my changes propagate? here for more information. - Make sure to use the following settings in order to reproduce any error or warning you see on this page. |
| Package 1229/2041 | Hostname | OS / Arch | INSTALL | BUILD | CHECK | BUILD BIN | ||||||||
| multiSight 1.0.0 (landing page) Florian Jeanneret
| nebbiolo1 | Linux (Ubuntu 20.04.2 LTS) / x86_64 | OK | OK | OK | |||||||||
| tokay2 | Windows Server 2012 R2 Standard / x64 | OK | OK | OK | OK | |||||||||
| machv2 | macOS 10.14.6 Mojave / x86_64 | OK | OK | OK | OK | |||||||||
| Package: multiSight |
| Version: 1.0.0 |
| Command: rm -rf multiSight.buildbin-libdir && mkdir multiSight.buildbin-libdir && C:\Users\biocbuild\bbs-3.13-bioc\R\bin\R.exe CMD INSTALL --merge-multiarch --build --library=multiSight.buildbin-libdir multiSight_1.0.0.tar.gz |
| StartedAt: 2021-10-15 10:37:22 -0400 (Fri, 15 Oct 2021) |
| EndedAt: 2021-10-15 10:38:47 -0400 (Fri, 15 Oct 2021) |
| EllapsedTime: 85.1 seconds |
| RetCode: 0 |
| Status: OK |
| PackageFile: multiSight_1.0.0.zip |
| PackageFileSize: 2.567 MiB |
##############################################################################
##############################################################################
###
### Running command:
###
### rm -rf multiSight.buildbin-libdir && mkdir multiSight.buildbin-libdir && C:\Users\biocbuild\bbs-3.13-bioc\R\bin\R.exe CMD INSTALL --merge-multiarch --build --library=multiSight.buildbin-libdir multiSight_1.0.0.tar.gz
###
##############################################################################
##############################################################################
install for i386
* installing *source* package 'multiSight' ...
** using staged installation
** R
** data
** inst
** byte-compile and prepare package for lazy loading
** help
*** installing help indices
converting help for package 'multiSight'
finding HTML links ... done
assessPerformance_Biosigner html
assessPerformance_Diablo html
biosignerRes html
buildFeatTable html
convertToEntrezid html
correlationNetworkInference html
deseqRes html
diabloRes html
enrichResList html
enrichWP html
getDataSelectedFeatures html
mod_hypothesisGenerator_server html
mod_understand_server html
mod_understand_ui html
mod_user_input_server html
mutualInformationNI html
omic2 html
partialCorrelationNI html
pubmedInsight html
runFeatureNumberTuning html
runMultiDeseqAnalysis html
runMultiEnrichment html
runMultiEnrichment_result html
runSPLSDA html
runSVMRFmodels_Biosigner html
run_app html
splitDatatoTrainTest html
stoufferTable html
** building package indices
** installing vignettes
** testing if installed package can be loaded from temporary location
** testing if installed package can be loaded from final location
** testing if installed package keeps a record of temporary installation path
install for x64
* installing *source* package 'multiSight' ...
** testing if installed package can be loaded
* MD5 sums
packaged installation of 'multiSight' as multiSight_1.0.0.zip
* DONE (multiSight)