| Back to Multiple platform build/check report for BioC 3.13 |
|
This page was generated on 2021-10-15 15:06:13 -0400 (Fri, 15 Oct 2021).
|
To the developers/maintainers of the multiMiR package: - Please allow up to 24 hours (and sometimes 48 hours) for your latest push to git@git.bioconductor.org:packages/multiMiR.git to reflect on this report. See How and When does the builder pull? When will my changes propagate? here for more information. - Make sure to use the following settings in order to reproduce any error or warning you see on this page. |
| Package 1226/2041 | Hostname | OS / Arch | INSTALL | BUILD | CHECK | BUILD BIN | ||||||||
| multiMiR 1.14.0 (landing page) Matt Mulvahill
| nebbiolo1 | Linux (Ubuntu 20.04.2 LTS) / x86_64 | OK | OK | OK | |||||||||
| tokay2 | Windows Server 2012 R2 Standard / x64 | OK | OK | OK | OK | |||||||||
| machv2 | macOS 10.14.6 Mojave / x86_64 | OK | OK | OK | OK | |||||||||
| Package: multiMiR |
| Version: 1.14.0 |
| Command: rm -rf multiMiR.buildbin-libdir && mkdir multiMiR.buildbin-libdir && C:\Users\biocbuild\bbs-3.13-bioc\R\bin\R.exe CMD INSTALL --merge-multiarch --build --library=multiMiR.buildbin-libdir multiMiR_1.14.0.tar.gz |
| StartedAt: 2021-10-15 10:36:58 -0400 (Fri, 15 Oct 2021) |
| EndedAt: 2021-10-15 10:38:22 -0400 (Fri, 15 Oct 2021) |
| EllapsedTime: 84.2 seconds |
| RetCode: 0 |
| Status: OK |
| PackageFile: multiMiR_1.14.0.zip |
| PackageFileSize: 675 KiB |
##############################################################################
##############################################################################
###
### Running command:
###
### rm -rf multiMiR.buildbin-libdir && mkdir multiMiR.buildbin-libdir && C:\Users\biocbuild\bbs-3.13-bioc\R\bin\R.exe CMD INSTALL --merge-multiarch --build --library=multiMiR.buildbin-libdir multiMiR_1.14.0.tar.gz
###
##############################################################################
##############################################################################
install for i386
* installing *source* package 'multiMiR' ...
** using staged installation
** R
** inst
** byte-compile and prepare package for lazy loading
** help
*** installing help indices
converting help for package 'multiMiR'
finding HTML links ... done
add.multimir.links html
all_tables html
as.mmquery html
as_mmsql_components html
build_mmsql html
default_cutoff html
deprecate_arg html
extract_mmquery html
get.multimir.cutoffs html
get_multimir html
list_multimir html
mmquery_bioc-class html
multiMiR html
REDIRECT:topic Previous alias or file overwritten by alias: C:/Users/biocbuild/bbs-3.13-bioc/meat/multiMiR.buildbin-libdir/00LOCK-multiMiR/00new/multiMiR/help/multimir.html
multimir.summary html
multimir_dbInfo html
multimir_switchDBVersion html
null_to_df html
pad html
parens_quote html
parens_wrap html
parse_orgs html
parse_response html
query_multimir html
quote_wrap html
remove_empty_strings html
remove_table html
search_multimir html
split_by html
sql_org html
sql_validated html
submit_request html
** building package indices
** installing vignettes
** testing if installed package can be loaded from temporary location
** testing if installed package can be loaded from final location
** testing if installed package keeps a record of temporary installation path
install for x64
* installing *source* package 'multiMiR' ...
** testing if installed package can be loaded
* MD5 sums
packaged installation of 'multiMiR' as multiMiR_1.14.0.zip
* DONE (multiMiR)