| Back to Multiple platform build/check report for BioC 3.13 |
|
This page was generated on 2021-10-15 15:06:13 -0400 (Fri, 15 Oct 2021).
|
To the developers/maintainers of the multiGSEA package: - Please allow up to 24 hours (and sometimes 48 hours) for your latest push to git@git.bioconductor.org:packages/multiGSEA.git to reflect on this report. See How and When does the builder pull? When will my changes propagate? here for more information. - Make sure to use the following settings in order to reproduce any error or warning you see on this page. |
| Package 1223/2041 | Hostname | OS / Arch | INSTALL | BUILD | CHECK | BUILD BIN | ||||||||
| multiGSEA 1.2.0 (landing page) Sebastian Canzler
| nebbiolo1 | Linux (Ubuntu 20.04.2 LTS) / x86_64 | OK | OK | OK | |||||||||
| tokay2 | Windows Server 2012 R2 Standard / x64 | OK | OK | OK | OK | |||||||||
| machv2 | macOS 10.14.6 Mojave / x86_64 | OK | OK | OK | OK | |||||||||
| Package: multiGSEA |
| Version: 1.2.0 |
| Command: C:\cygwin\bin\curl.exe -O http://155.52.207.165/BBS/3.13/bioc/src/contrib/multiGSEA_1.2.0.tar.gz && rm -rf multiGSEA.buildbin-libdir && mkdir multiGSEA.buildbin-libdir && C:\Users\biocbuild\bbs-3.13-bioc\R\bin\R.exe CMD INSTALL --merge-multiarch --build --library=multiGSEA.buildbin-libdir multiGSEA_1.2.0.tar.gz && C:\Users\biocbuild\bbs-3.13-bioc\R\bin\R.exe CMD INSTALL multiGSEA_1.2.0.zip && rm multiGSEA_1.2.0.tar.gz multiGSEA_1.2.0.zip |
| StartedAt: 2021-10-14 09:07:35 -0400 (Thu, 14 Oct 2021) |
| EndedAt: 2021-10-14 09:08:41 -0400 (Thu, 14 Oct 2021) |
| EllapsedTime: 66.6 seconds |
| RetCode: 0 |
| Status: OK |
##############################################################################
##############################################################################
###
### Running command:
###
### C:\cygwin\bin\curl.exe -O http://155.52.207.165/BBS/3.13/bioc/src/contrib/multiGSEA_1.2.0.tar.gz && rm -rf multiGSEA.buildbin-libdir && mkdir multiGSEA.buildbin-libdir && C:\Users\biocbuild\bbs-3.13-bioc\R\bin\R.exe CMD INSTALL --merge-multiarch --build --library=multiGSEA.buildbin-libdir multiGSEA_1.2.0.tar.gz && C:\Users\biocbuild\bbs-3.13-bioc\R\bin\R.exe CMD INSTALL multiGSEA_1.2.0.zip && rm multiGSEA_1.2.0.tar.gz multiGSEA_1.2.0.zip
###
##############################################################################
##############################################################################
% Total % Received % Xferd Average Speed Time Time Time Current
Dload Upload Total Spent Left Speed
0 0 0 0 0 0 0 0 --:--:-- --:--:-- --:--:-- 0
100 649k 100 649k 0 0 1428k 0 --:--:-- --:--:-- --:--:-- 1433k
install for i386
* installing *source* package 'multiGSEA' ...
** using staged installation
** R
** data
** inst
** byte-compile and prepare package for lazy loading
** help
*** installing help indices
converting help for package 'multiGSEA'
finding HTML links ... done
archiveDir html
archivePath html
combinePvalues html
extractPvalues html
getFeatures html
getGeneMapping html
getIDMappingDatabase html
getMappedFeatures html
getMetaboliteMapping html
getMultiOmicsFeatures html
getOrganisms html
initOmicsDataStructure html
loadLocal html
mapIDType html
metabolome html
multiGSEA html
proteome html
rankFeatures html
rename_duplicates html
transcriptome html
** building package indices
** installing vignettes
** testing if installed package can be loaded from temporary location
** testing if installed package can be loaded from final location
** testing if installed package keeps a record of temporary installation path
install for x64
* installing *source* package 'multiGSEA' ...
** testing if installed package can be loaded
* MD5 sums
packaged installation of 'multiGSEA' as multiGSEA_1.2.0.zip
* DONE (multiGSEA)
* installing to library 'C:/Users/biocbuild/bbs-3.13-bioc/R/library'
package 'multiGSEA' successfully unpacked and MD5 sums checked