| Back to Multiple platform build/check report for BioC 3.13 |
|
This page was generated on 2021-10-15 15:06:12 -0400 (Fri, 15 Oct 2021).
|
To the developers/maintainers of the msgbsR package: - Please allow up to 24 hours (and sometimes 48 hours) for your latest push to git@git.bioconductor.org:packages/msgbsR.git to reflect on this report. See How and When does the builder pull? When will my changes propagate? here for more information. - Make sure to use the following settings in order to reproduce any error or warning you see on this page. |
| Package 1197/2041 | Hostname | OS / Arch | INSTALL | BUILD | CHECK | BUILD BIN | ||||||||
| msgbsR 1.16.0 (landing page) Benjamin Mayne
| nebbiolo1 | Linux (Ubuntu 20.04.2 LTS) / x86_64 | OK | OK | WARNINGS | |||||||||
| tokay2 | Windows Server 2012 R2 Standard / x64 | OK | OK | WARNINGS | OK | |||||||||
| machv2 | macOS 10.14.6 Mojave / x86_64 | OK | OK | WARNINGS | OK | |||||||||
| Package: msgbsR |
| Version: 1.16.0 |
| Command: C:\cygwin\bin\curl.exe -O http://155.52.207.165/BBS/3.13/bioc/src/contrib/msgbsR_1.16.0.tar.gz && rm -rf msgbsR.buildbin-libdir && mkdir msgbsR.buildbin-libdir && C:\Users\biocbuild\bbs-3.13-bioc\R\bin\R.exe CMD INSTALL --merge-multiarch --build --library=msgbsR.buildbin-libdir msgbsR_1.16.0.tar.gz && C:\Users\biocbuild\bbs-3.13-bioc\R\bin\R.exe CMD INSTALL msgbsR_1.16.0.zip && rm msgbsR_1.16.0.tar.gz msgbsR_1.16.0.zip |
| StartedAt: 2021-10-14 10:58:28 -0400 (Thu, 14 Oct 2021) |
| EndedAt: 2021-10-14 11:00:00 -0400 (Thu, 14 Oct 2021) |
| EllapsedTime: 92.0 seconds |
| RetCode: 0 |
| Status: OK |
##############################################################################
##############################################################################
###
### Running command:
###
### C:\cygwin\bin\curl.exe -O http://155.52.207.165/BBS/3.13/bioc/src/contrib/msgbsR_1.16.0.tar.gz && rm -rf msgbsR.buildbin-libdir && mkdir msgbsR.buildbin-libdir && C:\Users\biocbuild\bbs-3.13-bioc\R\bin\R.exe CMD INSTALL --merge-multiarch --build --library=msgbsR.buildbin-libdir msgbsR_1.16.0.tar.gz && C:\Users\biocbuild\bbs-3.13-bioc\R\bin\R.exe CMD INSTALL msgbsR_1.16.0.zip && rm msgbsR_1.16.0.tar.gz msgbsR_1.16.0.zip
###
##############################################################################
##############################################################################
% Total % Received % Xferd Average Speed Time Time Time Current
Dload Upload Total Spent Left Speed
0 0 0 0 0 0 0 0 --:--:-- --:--:-- --:--:-- 0
14 15.3M 14 2283k 0 0 2887k 0 0:00:05 --:--:-- 0:00:05 2886k
42 15.3M 42 6745k 0 0 3766k 0 0:00:04 0:00:01 0:00:03 3766k
72 15.3M 72 11.2M 0 0 4101k 0 0:00:03 0:00:02 0:00:01 4100k
90 15.3M 90 13.9M 0 0 3752k 0 0:00:04 0:00:03 0:00:01 3752k
90 15.3M 90 13.9M 0 0 2981k 0 0:00:05 0:00:04 0:00:01 2981k
91 15.3M 91 14.0M 0 0 2471k 0 0:00:06 0:00:05 0:00:01 2406k
95 15.3M 95 14.7M 0 0 2211k 0 0:00:07 0:00:06 0:00:01 1658k
100 15.3M 100 15.3M 0 0 2239k 0 0:00:07 0:00:07 --:--:-- 1006k
install for i386
* installing *source* package 'msgbsR' ...
** using staged installation
** R
** data
** inst
** byte-compile and prepare package for lazy loading
** help
*** installing help indices
converting help for package 'msgbsR'
finding HTML links ... done
checkCuts html
cuts html
diffMeth html
msgbsR html
plotCircos html
plotCounts html
ratdata html
ratdata2 html
rawCounts html
** building package indices
** installing vignettes
** testing if installed package can be loaded from temporary location
** testing if installed package can be loaded from final location
** testing if installed package keeps a record of temporary installation path
install for x64
* installing *source* package 'msgbsR' ...
** testing if installed package can be loaded
* MD5 sums
packaged installation of 'msgbsR' as msgbsR_1.16.0.zip
* DONE (msgbsR)
* installing to library 'C:/Users/biocbuild/bbs-3.13-bioc/R/library'
package 'msgbsR' successfully unpacked and MD5 sums checked