| Back to Multiple platform build/check report for BioC 3.13 |
|
This page was generated on 2021-10-15 15:06:43 -0400 (Fri, 15 Oct 2021).
|
To the developers/maintainers of the motifcounter package: - Please allow up to 24 hours (and sometimes 48 hours) for your latest push to git@git.bioconductor.org:packages/motifcounter.git to reflect on this report. See How and When does the builder pull? When will my changes propagate? here for more information. - Make sure to use the following settings in order to reproduce any error or warning you see on this page. |
| Package 1182/2041 | Hostname | OS / Arch | INSTALL | BUILD | CHECK | BUILD BIN | ||||||||
| motifcounter 1.16.0 (landing page) Wolfgang Kopp
| nebbiolo1 | Linux (Ubuntu 20.04.2 LTS) / x86_64 | OK | OK | OK | |||||||||
| tokay2 | Windows Server 2012 R2 Standard / x64 | OK | OK | OK | OK | |||||||||
| machv2 | macOS 10.14.6 Mojave / x86_64 | OK | OK | OK | OK | |||||||||
| Package: motifcounter |
| Version: 1.16.0 |
| Command: /Library/Frameworks/R.framework/Versions/Current/Resources/bin/R CMD check --install=check:motifcounter.install-out.txt --library=/Library/Frameworks/R.framework/Versions/Current/Resources/library --no-vignettes --timings motifcounter_1.16.0.tar.gz |
| StartedAt: 2021-10-14 21:22:21 -0400 (Thu, 14 Oct 2021) |
| EndedAt: 2021-10-14 21:26:46 -0400 (Thu, 14 Oct 2021) |
| EllapsedTime: 264.9 seconds |
| RetCode: 0 |
| Status: OK |
| CheckDir: motifcounter.Rcheck |
| Warnings: 0 |
##############################################################################
##############################################################################
###
### Running command:
###
### /Library/Frameworks/R.framework/Versions/Current/Resources/bin/R CMD check --install=check:motifcounter.install-out.txt --library=/Library/Frameworks/R.framework/Versions/Current/Resources/library --no-vignettes --timings motifcounter_1.16.0.tar.gz
###
##############################################################################
##############################################################################
* using log directory ‘/Users/biocbuild/bbs-3.13-bioc/meat/motifcounter.Rcheck’
* using R version 4.1.1 (2021-08-10)
* using platform: x86_64-apple-darwin17.0 (64-bit)
* using session charset: UTF-8
* using option ‘--no-vignettes’
* checking for file ‘motifcounter/DESCRIPTION’ ... OK
* checking extension type ... Package
* this is package ‘motifcounter’ version ‘1.16.0’
* checking package namespace information ... OK
* checking package dependencies ... OK
* checking if this is a source package ... OK
* checking if there is a namespace ... OK
* checking for hidden files and directories ... NOTE
Found the following hidden files and directories:
.git_fetch_output.txt
.git_merge_output.txt
.zenodo.json
These were most likely included in error. See section ‘Package
structure’ in the ‘Writing R Extensions’ manual.
* checking for portable file names ... OK
* checking for sufficient/correct file permissions ... OK
* checking whether package ‘motifcounter’ can be installed ... OK
* checking installed package size ... OK
* checking package directory ... OK
* checking ‘build’ directory ... OK
* checking DESCRIPTION meta-information ... OK
* checking top-level files ... OK
* checking for left-over files ... OK
* checking index information ... OK
* checking package subdirectories ... OK
* checking R files for non-ASCII characters ... OK
* checking R files for syntax errors ... OK
* checking whether the package can be loaded ... OK
* checking whether the package can be loaded with stated dependencies ... OK
* checking whether the package can be unloaded cleanly ... OK
* checking whether the namespace can be loaded with stated dependencies ... OK
* checking whether the namespace can be unloaded cleanly ... OK
* checking dependencies in R code ... OK
* checking S3 generic/method consistency ... OK
* checking replacement functions ... OK
* checking foreign function calls ... OK
* checking R code for possible problems ... OK
* checking Rd files ... OK
* checking Rd metadata ... OK
* checking Rd cross-references ... OK
* checking for missing documentation entries ... OK
* checking for code/documentation mismatches ... OK
* checking Rd \usage sections ... OK
* checking Rd contents ... OK
* checking for unstated dependencies in examples ... OK
* checking line endings in C/C++/Fortran sources/headers ... OK
* checking line endings in Makefiles ... OK
* checking compilation flags in Makevars ... OK
* checking for GNU extensions in Makefiles ... OK
* checking for portable use of $(BLAS_LIBS) and $(LAPACK_LIBS) ... OK
* checking use of PKG_*FLAGS in Makefiles ... OK
* checking compiled code ... NOTE
Note: information on .o files is not available
* checking files in ‘vignettes’ ... OK
* checking examples ... OK
Examples with CPU (user + system) or elapsed time > 5s
user system elapsed
simulateClumpSizeDist 15.311 0.314 15.638
* checking for unstated dependencies in ‘tests’ ... OK
* checking tests ...
Running ‘testthat.R’
OK
* checking for unstated dependencies in vignettes ... OK
* checking package vignettes in ‘inst/doc’ ... OK
* checking running R code from vignettes ... SKIPPED
* checking re-building of vignette outputs ... SKIPPED
* checking PDF version of manual ... OK
* DONE
Status: 2 NOTEs
See
‘/Users/biocbuild/bbs-3.13-bioc/meat/motifcounter.Rcheck/00check.log’
for details.
motifcounter.Rcheck/00install.out
##############################################################################
##############################################################################
###
### Running command:
###
### /Library/Frameworks/R.framework/Versions/Current/Resources/bin/R CMD INSTALL motifcounter
###
##############################################################################
##############################################################################
* installing to library ‘/Library/Frameworks/R.framework/Versions/4.1/Resources/library’
* installing *source* package ‘motifcounter’ ...
** using staged installation
** libs
clang -mmacosx-version-min=10.13 -I"/Library/Frameworks/R.framework/Resources/include" -DNDEBUG -I/usr/local/include -DIN_R -fPIC -Wall -g -O2 -c Rbackground.c -o Rbackground.o
clang -mmacosx-version-min=10.13 -I"/Library/Frameworks/R.framework/Resources/include" -DNDEBUG -I/usr/local/include -DIN_R -fPIC -Wall -g -O2 -c Rcombinatorial.c -o Rcombinatorial.o
clang -mmacosx-version-min=10.13 -I"/Library/Frameworks/R.framework/Resources/include" -DNDEBUG -I/usr/local/include -DIN_R -fPIC -Wall -g -O2 -c Rcompoundpoisson.c -o Rcompoundpoisson.o
clang -mmacosx-version-min=10.13 -I"/Library/Frameworks/R.framework/Resources/include" -DNDEBUG -I/usr/local/include -DIN_R -fPIC -Wall -g -O2 -c Rminmaxscore.c -o Rminmaxscore.o
clang -mmacosx-version-min=10.13 -I"/Library/Frameworks/R.framework/Resources/include" -DNDEBUG -I/usr/local/include -DIN_R -fPIC -Wall -g -O2 -c Roption.c -o Roption.o
clang -mmacosx-version-min=10.13 -I"/Library/Frameworks/R.framework/Resources/include" -DNDEBUG -I/usr/local/include -DIN_R -fPIC -Wall -g -O2 -c Roverlap.c -o Roverlap.o
clang -mmacosx-version-min=10.13 -I"/Library/Frameworks/R.framework/Resources/include" -DNDEBUG -I/usr/local/include -DIN_R -fPIC -Wall -g -O2 -c Rscore1d.c -o Rscore1d.o
clang -mmacosx-version-min=10.13 -I"/Library/Frameworks/R.framework/Resources/include" -DNDEBUG -I/usr/local/include -DIN_R -fPIC -Wall -g -O2 -c Rsequence.c -o Rsequence.o
Rsequence.c:143:21: warning: unused variable 'noscores' [-Wunused-variable]
int mins, maxs, noscores;
^
1 warning generated.
clang -mmacosx-version-min=10.13 -I"/Library/Frameworks/R.framework/Resources/include" -DNDEBUG -I/usr/local/include -DIN_R -fPIC -Wall -g -O2 -c Rsimulate.c -o Rsimulate.o
clang -mmacosx-version-min=10.13 -I"/Library/Frameworks/R.framework/Resources/include" -DNDEBUG -I/usr/local/include -DIN_R -fPIC -Wall -g -O2 -c background.c -o background.o
clang -mmacosx-version-min=10.13 -I"/Library/Frameworks/R.framework/Resources/include" -DNDEBUG -I/usr/local/include -DIN_R -fPIC -Wall -g -O2 -c combinatorial.c -o combinatorial.o
clang -mmacosx-version-min=10.13 -I"/Library/Frameworks/R.framework/Resources/include" -DNDEBUG -I/usr/local/include -DIN_R -fPIC -Wall -g -O2 -c compoundpoisson.c -o compoundpoisson.o
clang -mmacosx-version-min=10.13 -I"/Library/Frameworks/R.framework/Resources/include" -DNDEBUG -I/usr/local/include -DIN_R -fPIC -Wall -g -O2 -c markovchain.c -o markovchain.o
clang -mmacosx-version-min=10.13 -I"/Library/Frameworks/R.framework/Resources/include" -DNDEBUG -I/usr/local/include -DIN_R -fPIC -Wall -g -O2 -c markovchain_single.c -o markovchain_single.o
clang -mmacosx-version-min=10.13 -I"/Library/Frameworks/R.framework/Resources/include" -DNDEBUG -I/usr/local/include -DIN_R -fPIC -Wall -g -O2 -c matrix.c -o matrix.o
clang -mmacosx-version-min=10.13 -I"/Library/Frameworks/R.framework/Resources/include" -DNDEBUG -I/usr/local/include -DIN_R -fPIC -Wall -g -O2 -c mdist_register.c -o mdist_register.o
clang -mmacosx-version-min=10.13 -I"/Library/Frameworks/R.framework/Resources/include" -DNDEBUG -I/usr/local/include -DIN_R -fPIC -Wall -g -O2 -c minmaxscore.c -o minmaxscore.o
clang -mmacosx-version-min=10.13 -I"/Library/Frameworks/R.framework/Resources/include" -DNDEBUG -I/usr/local/include -DIN_R -fPIC -Wall -g -O2 -c overlap.c -o overlap.o
clang -mmacosx-version-min=10.13 -I"/Library/Frameworks/R.framework/Resources/include" -DNDEBUG -I/usr/local/include -DIN_R -fPIC -Wall -g -O2 -c score1d.c -o score1d.o
clang -mmacosx-version-min=10.13 -I"/Library/Frameworks/R.framework/Resources/include" -DNDEBUG -I/usr/local/include -DIN_R -fPIC -Wall -g -O2 -c score2d.c -o score2d.o
clang -mmacosx-version-min=10.13 -I"/Library/Frameworks/R.framework/Resources/include" -DNDEBUG -I/usr/local/include -DIN_R -fPIC -Wall -g -O2 -c scorefunctions.c -o scorefunctions.o
scorefunctions.c:84:22: warning: unused variable 'cindex' [-Wunused-variable]
int j, i, index, cindex, ds;
^
scorefunctions.c:119:17: warning: unused variable 'cindex' [-Wunused-variable]
int s, index, cindex;
^
scorefunctions.c:159:19: warning: unused variable 'cindex' [-Wunused-variable]
int s, index, cindex;
^
3 warnings generated.
clang -mmacosx-version-min=10.13 -I"/Library/Frameworks/R.framework/Resources/include" -DNDEBUG -I/usr/local/include -DIN_R -fPIC -Wall -g -O2 -c sequence.c -o sequence.o
clang -mmacosx-version-min=10.13 -I"/Library/Frameworks/R.framework/Resources/include" -DNDEBUG -I/usr/local/include -DIN_R -fPIC -Wall -g -O2 -c simulate.c -o simulate.o
clang -mmacosx-version-min=10.13 -dynamiclib -Wl,-headerpad_max_install_names -undefined dynamic_lookup -single_module -multiply_defined suppress -L/Library/Frameworks/R.framework/Resources/lib -L/usr/local/lib -o motifcounter.so Rbackground.o Rcombinatorial.o Rcompoundpoisson.o Rminmaxscore.o Roption.o Roverlap.o Rscore1d.o Rsequence.o Rsimulate.o background.o combinatorial.o compoundpoisson.o markovchain.o markovchain_single.o matrix.o mdist_register.o minmaxscore.o overlap.o score1d.o score2d.o scorefunctions.o sequence.o simulate.o -F/Library/Frameworks/R.framework/.. -framework R -Wl,-framework -Wl,CoreFoundation
installing to /Library/Frameworks/R.framework/Versions/4.1/Resources/library/00LOCK-motifcounter/00new/motifcounter/libs
** R
** inst
** byte-compile and prepare package for lazy loading
** help
*** installing help indices
** building package indices
** installing vignettes
** testing if installed package can be loaded from temporary location
** checking absolute paths in shared objects and dynamic libraries
** testing if installed package can be loaded from final location
** testing if installed package keeps a record of temporary installation path
* DONE (motifcounter)
motifcounter.Rcheck/tests/testthat.Rout
R version 4.1.1 (2021-08-10) -- "Kick Things"
Copyright (C) 2021 The R Foundation for Statistical Computing
Platform: x86_64-apple-darwin17.0 (64-bit)
R is free software and comes with ABSOLUTELY NO WARRANTY.
You are welcome to redistribute it under certain conditions.
Type 'license()' or 'licence()' for distribution details.
R is a collaborative project with many contributors.
Type 'contributors()' for more information and
'citation()' on how to cite R or R packages in publications.
Type 'demo()' for some demos, 'help()' for on-line help, or
'help.start()' for an HTML browser interface to help.
Type 'q()' to quit R.
> library(testthat)
> library(motifcounter)
>
> test_check("motifcounter")
[ FAIL 0 | WARN 1 | SKIP 0 | PASS 841 ]
>
> proc.time()
user system elapsed
137.423 1.636 139.178
motifcounter.Rcheck/motifcounter-Ex.timings
| name | user | system | elapsed | |
| clumpSizeDist | 0.222 | 0.024 | 0.250 | |
| combinatorialDist | 0.267 | 0.017 | 0.285 | |
| compoundPoissonDist | 0.269 | 0.023 | 0.292 | |
| computeClumpStartProb | 0.185 | 0.005 | 0.190 | |
| generateDNAString | 0.131 | 0.001 | 0.132 | |
| generateDNAStringSet | 0.170 | 0.001 | 0.172 | |
| hitStrand | 0.100 | 0.002 | 0.102 | |
| lenSequences | 0.110 | 0.013 | 0.122 | |
| markovModel | 0.173 | 0.019 | 0.192 | |
| motifAndBackgroundValid | 0.096 | 0.002 | 0.099 | |
| motifEnrichment | 3.583 | 0.015 | 3.601 | |
| motifHitProfile | 0.114 | 0.006 | 0.120 | |
| motifHits | 0.119 | 0.004 | 0.123 | |
| motifValid | 0.003 | 0.000 | 0.003 | |
| motifcounter-package | 1.129 | 0.020 | 1.149 | |
| motifcounterOptions | 0 | 0 | 0 | |
| normalizeMotif | 0.002 | 0.000 | 0.002 | |
| numMotifHits | 0.785 | 0.009 | 0.794 | |
| probOverlapHit | 0.191 | 0.006 | 0.197 | |
| readBackground | 0.092 | 0.000 | 0.093 | |
| revcompMotif | 0.002 | 0.000 | 0.002 | |
| scoreDist | 0.084 | 0.000 | 0.084 | |
| scoreDistBf | 0.101 | 0.001 | 0.102 | |
| scoreDistEmpirical | 2.815 | 0.047 | 2.869 | |
| scoreHistogram | 0.256 | 0.008 | 0.264 | |
| scoreHistogramSingleSeq | 0.125 | 0.010 | 0.134 | |
| scoreProfile | 0.657 | 0.004 | 0.661 | |
| scoreSequence | 0.096 | 0.005 | 0.102 | |
| scoreStrand | 0.118 | 0.003 | 0.122 | |
| scoreThreshold | 0.120 | 0.002 | 0.122 | |
| sigLevel | 0 | 0 | 0 | |
| simulateClumpSizeDist | 15.311 | 0.314 | 15.638 | |
| simulateNumHitsDist | 2.280 | 0.029 | 2.314 | |