| Back to Multiple platform build/check report for BioC 3.13 |
|
This page was generated on 2021-10-15 15:06:12 -0400 (Fri, 15 Oct 2021).
|
To the developers/maintainers of the mogsa package: - Please allow up to 24 hours (and sometimes 48 hours) for your latest push to git@git.bioconductor.org:packages/mogsa.git to reflect on this report. See How and When does the builder pull? When will my changes propagate? here for more information. - Make sure to use the following settings in order to reproduce any error or warning you see on this page. |
| Package 1175/2041 | Hostname | OS / Arch | INSTALL | BUILD | CHECK | BUILD BIN | ||||||||
| mogsa 1.26.0 (landing page) Chen Meng
| nebbiolo1 | Linux (Ubuntu 20.04.2 LTS) / x86_64 | OK | OK | OK | |||||||||
| tokay2 | Windows Server 2012 R2 Standard / x64 | OK | OK | OK | OK | |||||||||
| machv2 | macOS 10.14.6 Mojave / x86_64 | OK | OK | OK | OK | |||||||||
| Package: mogsa |
| Version: 1.26.0 |
| Command: rm -rf mogsa.buildbin-libdir && mkdir mogsa.buildbin-libdir && C:\Users\biocbuild\bbs-3.13-bioc\R\bin\R.exe CMD INSTALL --merge-multiarch --build --library=mogsa.buildbin-libdir mogsa_1.26.0.tar.gz |
| StartedAt: 2021-10-15 10:30:07 -0400 (Fri, 15 Oct 2021) |
| EndedAt: 2021-10-15 10:31:29 -0400 (Fri, 15 Oct 2021) |
| EllapsedTime: 82.3 seconds |
| RetCode: 0 |
| Status: OK |
| PackageFile: mogsa_1.26.0.zip |
| PackageFileSize: 1.279 MiB |
##############################################################################
##############################################################################
###
### Running command:
###
### rm -rf mogsa.buildbin-libdir && mkdir mogsa.buildbin-libdir && C:\Users\biocbuild\bbs-3.13-bioc\R\bin\R.exe CMD INSTALL --merge-multiarch --build --library=mogsa.buildbin-libdir mogsa_1.26.0.tar.gz
###
##############################################################################
##############################################################################
install for i386
* installing *source* package 'mogsa' ...
** using staged installation
** R
** data
** inst
** byte-compile and prepare package for lazy loading
** help
*** installing help indices
converting help for package 'mogsa'
finding HTML links ... done
GIS html
NCI60_4array_supdata html
NCI60_4arrays html
annotate.gs html
biSoftK html
bootMbpca html
bootMbpcaK html
bootMoa html
box.gs.feature html
combine-methods html
decompose.gs.group html
decompose.gs.ind html
deflat html
distMoa html
getmgsa html
matpower html
mbpca html
mgsa-class html
moGap html
moa-class html
moa html
moa.sup-class html
moaCoef html
moaScore html
mogsa-package html
mogsa html
msvd html
nipalsSoftK html
pairwise.rv html
plot-methods html
plotGS html
prepGraphite html
prepMsigDB html
prepSupMoa html
print-methods html
processOpt html
show-methods html
softK html
summary-methods html
sup.moa html
toMoa html
wsvd html
** building package indices
** installing vignettes
** testing if installed package can be loaded from temporary location
** testing if installed package can be loaded from final location
** testing if installed package keeps a record of temporary installation path
install for x64
* installing *source* package 'mogsa' ...
** testing if installed package can be loaded
* MD5 sums
packaged installation of 'mogsa' as mogsa_1.26.0.zip
* DONE (mogsa)