| Back to Multiple platform build/check report for BioC 3.13 | 
 | 
This page was generated on 2021-10-15 15:06:12 -0400 (Fri, 15 Oct 2021).
| To the developers/maintainers of the moanin package: - Please allow up to 24 hours (and sometimes 48 hours) for your latest push to git@git.bioconductor.org:packages/moanin.git to reflect on this report. See How and When does the builder pull? When will my changes propagate? here for more information. - Make sure to use the following settings in order to reproduce any error or warning you see on this page. | 
| Package 1169/2041 | Hostname | OS / Arch | INSTALL | BUILD | CHECK | BUILD BIN | ||||||||
| moanin 1.0.0  (landing page) Nelle Varoquaux 
 | nebbiolo1 | Linux (Ubuntu 20.04.2 LTS) / x86_64 | OK | OK | OK |  | ||||||||
| tokay2 | Windows Server 2012 R2 Standard / x64 | OK | OK | OK | OK |  | ||||||||
| machv2 | macOS 10.14.6 Mojave / x86_64 | OK | OK | OK | OK |  | ||||||||
| Package: moanin | 
| Version: 1.0.0 | 
| Command: rm -rf moanin.buildbin-libdir && mkdir moanin.buildbin-libdir && C:\Users\biocbuild\bbs-3.13-bioc\R\bin\R.exe CMD INSTALL --merge-multiarch --build --library=moanin.buildbin-libdir moanin_1.0.0.tar.gz | 
| StartedAt: 2021-10-15 10:29:14 -0400 (Fri, 15 Oct 2021) | 
| EndedAt: 2021-10-15 10:30:40 -0400 (Fri, 15 Oct 2021) | 
| EllapsedTime: 86.6 seconds | 
| RetCode: 0 | 
| Status: OK | 
| PackageFile: moanin_1.0.0.zip | 
| PackageFileSize: 952.9 KiB | 
##############################################################################
##############################################################################
###
### Running command:
###
###   rm -rf moanin.buildbin-libdir && mkdir moanin.buildbin-libdir && C:\Users\biocbuild\bbs-3.13-bioc\R\bin\R.exe CMD INSTALL --merge-multiarch --build --library=moanin.buildbin-libdir moanin_1.0.0.tar.gz
###
##############################################################################
##############################################################################
install for i386
* installing *source* package 'moanin' ...
** using staged installation
** R
** data
** inst
** byte-compile and prepare package for lazy loading
groupGOTerms: 	GOBPTerm, GOMFTerm, GOCCTerm environments built.
** help
*** installing help indices
  converting help for package 'moanin'
    finding HTML links ... done
    DE_timecourse                           html  
    DE_timepoints                           html  
    Moanin-class                            html  
    finding level-2 HTML links ... done
    Moanin-methods                          html  
    consensus_matrix                        html  
    create_meta_prediction                  html  
    estimate_log_fold_change                html  
    exampleData                             html  
    expression_filtering                    html  
    find_enriched_go_terms                  html  
    fit_predict_splines                     html  
    fit_splines                             html  
    get_auc_similarity_scores               html  
    internal                                html  
    perWeek_barplot                         html  
    plot_splines_data                       html  
    pvalues_fisher_method                   html  
    rescale_values                          html  
    splines_kmeans                          html  
    splines_kmeans_score_and_label          html  
** building package indices
** installing vignettes
** testing if installed package can be loaded from temporary location
groupGOTerms: 	GOBPTerm, GOMFTerm, GOCCTerm environments built.
** testing if installed package can be loaded from final location
groupGOTerms: 	GOBPTerm, GOMFTerm, GOCCTerm environments built.
** testing if installed package keeps a record of temporary installation path
install for x64
* installing *source* package 'moanin' ...
** testing if installed package can be loaded
groupGOTerms: 	GOBPTerm, GOMFTerm, GOCCTerm environments built.
* MD5 sums
packaged installation of 'moanin' as moanin_1.0.0.zip
* DONE (moanin)