| Back to Multiple platform build/check report for BioC 3.13 |
|
This page was generated on 2021-10-15 15:05:45 -0400 (Fri, 15 Oct 2021).
|
To the developers/maintainers of the mirIntegrator package: - Please allow up to 24 hours (and sometimes 48 hours) for your latest push to git@git.bioconductor.org:packages/mirIntegrator.git to reflect on this report. See How and When does the builder pull? When will my changes propagate? here for more information. - Make sure to use the following settings in order to reproduce any error or warning you see on this page. |
| Package 1148/2041 | Hostname | OS / Arch | INSTALL | BUILD | CHECK | BUILD BIN | ||||||||
| mirIntegrator 1.22.0 (landing page) Diana Diaz
| nebbiolo1 | Linux (Ubuntu 20.04.2 LTS) / x86_64 | OK | OK | OK | |||||||||
| tokay2 | Windows Server 2012 R2 Standard / x64 | OK | OK | OK | OK | |||||||||
| machv2 | macOS 10.14.6 Mojave / x86_64 | OK | OK | OK | OK | |||||||||
| Package: mirIntegrator |
| Version: 1.22.0 |
| Command: /home/biocbuild/bbs-3.13-bioc/R/bin/R CMD check --install=check:mirIntegrator.install-out.txt --library=/home/biocbuild/bbs-3.13-bioc/R/library --no-vignettes --timings mirIntegrator_1.22.0.tar.gz |
| StartedAt: 2021-10-14 10:37:49 -0400 (Thu, 14 Oct 2021) |
| EndedAt: 2021-10-14 10:39:55 -0400 (Thu, 14 Oct 2021) |
| EllapsedTime: 126.0 seconds |
| RetCode: 0 |
| Status: OK |
| CheckDir: mirIntegrator.Rcheck |
| Warnings: 0 |
##############################################################################
##############################################################################
###
### Running command:
###
### /home/biocbuild/bbs-3.13-bioc/R/bin/R CMD check --install=check:mirIntegrator.install-out.txt --library=/home/biocbuild/bbs-3.13-bioc/R/library --no-vignettes --timings mirIntegrator_1.22.0.tar.gz
###
##############################################################################
##############################################################################
* using log directory ‘/home/biocbuild/bbs-3.13-bioc/meat/mirIntegrator.Rcheck’
* using R version 4.1.1 (2021-08-10)
* using platform: x86_64-pc-linux-gnu (64-bit)
* using session charset: UTF-8
* using option ‘--no-vignettes’
* checking for file ‘mirIntegrator/DESCRIPTION’ ... OK
* checking extension type ... Package
* this is package ‘mirIntegrator’ version ‘1.22.0’
* checking package namespace information ... OK
* checking package dependencies ... OK
* checking if this is a source package ... OK
* checking if there is a namespace ... OK
* checking for hidden files and directories ... OK
* checking for portable file names ... OK
* checking for sufficient/correct file permissions ... OK
* checking whether package ‘mirIntegrator’ can be installed ... OK
* checking installed package size ... OK
* checking package directory ... OK
* checking ‘build’ directory ... OK
* checking DESCRIPTION meta-information ... OK
* checking top-level files ... OK
* checking for left-over files ... OK
* checking index information ... OK
* checking package subdirectories ... OK
* checking R files for non-ASCII characters ... OK
* checking R files for syntax errors ... OK
* checking whether the package can be loaded ... OK
* checking whether the package can be loaded with stated dependencies ... OK
* checking whether the package can be unloaded cleanly ... OK
* checking whether the namespace can be loaded with stated dependencies ... OK
* checking whether the namespace can be unloaded cleanly ... OK
* checking dependencies in R code ... OK
* checking S3 generic/method consistency ... OK
* checking replacement functions ... OK
* checking foreign function calls ... OK
* checking R code for possible problems ... NOTE
integrate_mir : isGraphNEL: no visible global function definition for
‘is’
pathways2pdf: no visible global function definition for ‘pdf’
pathways2pdf: no visible global function definition for ‘par’
pathways2pdf: no visible global function definition for ‘graphics.off’
plotLines: no visible binding for global variable ‘x’
plotLines: no visible binding for global variable ‘y’
plotLines: no visible binding for global variable ‘pathways_set’
plotPathway2Colors: no visible global function definition for ‘legend’
plot_change: no visible global function definition for ‘complete.cases’
Undefined global functions or variables:
complete.cases graphics.off is legend par pathways_set pdf x y
Consider adding
importFrom("grDevices", "graphics.off", "pdf")
importFrom("graphics", "legend", "par")
importFrom("methods", "is")
importFrom("stats", "complete.cases")
to your NAMESPACE file (and ensure that your DESCRIPTION Imports field
contains 'methods').
* checking Rd files ... OK
* checking Rd metadata ... OK
* checking Rd cross-references ... OK
* checking for missing documentation entries ... OK
* checking for code/documentation mismatches ... OK
* checking Rd \usage sections ... OK
* checking Rd contents ... OK
* checking for unstated dependencies in examples ... OK
* checking contents of ‘data’ directory ... OK
* checking data for non-ASCII characters ... OK
* checking data for ASCII and uncompressed saves ... OK
* checking files in ‘vignettes’ ... OK
* checking examples ... OK
* checking for unstated dependencies in ‘tests’ ... OK
* checking tests ...
Running ‘runTests.R’
OK
* checking for unstated dependencies in vignettes ... OK
* checking package vignettes in ‘inst/doc’ ... OK
* checking running R code from vignettes ... SKIPPED
* checking re-building of vignette outputs ... SKIPPED
* checking PDF version of manual ... OK
* DONE
Status: 1 NOTE
See
‘/home/biocbuild/bbs-3.13-bioc/meat/mirIntegrator.Rcheck/00check.log’
for details.
mirIntegrator.Rcheck/00install.out
############################################################################## ############################################################################## ### ### Running command: ### ### /home/biocbuild/bbs-3.13-bioc/R/bin/R CMD INSTALL mirIntegrator ### ############################################################################## ############################################################################## * installing to library ‘/home/biocbuild/bbs-3.13-bioc/R/library’ * installing *source* package ‘mirIntegrator’ ... ** using staged installation ** R ** data ** inst ** byte-compile and prepare package for lazy loading ** help *** installing help indices ** building package indices ** installing vignettes ** testing if installed package can be loaded from temporary location ** testing if installed package can be loaded from final location ** testing if installed package keeps a record of temporary installation path * DONE (mirIntegrator)
mirIntegrator.Rcheck/tests/runTests.Rout
R version 4.1.1 (2021-08-10) -- "Kick Things"
Copyright (C) 2021 The R Foundation for Statistical Computing
Platform: x86_64-pc-linux-gnu (64-bit)
R is free software and comes with ABSOLUTELY NO WARRANTY.
You are welcome to redistribute it under certain conditions.
Type 'license()' or 'licence()' for distribution details.
R is a collaborative project with many contributors.
Type 'contributors()' for more information and
'citation()' on how to cite R or R packages in publications.
Type 'demo()' for some demos, 'help()' for on-line help, or
'help.start()' for an HTML browser interface to help.
Type 'q()' to quit R.
> BiocGenerics:::testPackage("mirIntegrator")
Loading required package: graph
Loading required package: BiocGenerics
Loading required package: parallel
Attaching package: 'BiocGenerics'
The following objects are masked from 'package:parallel':
clusterApply, clusterApplyLB, clusterCall, clusterEvalQ,
clusterExport, clusterMap, parApply, parCapply, parLapply,
parLapplyLB, parRapply, parSapply, parSapplyLB
The following objects are masked from 'package:stats':
IQR, mad, sd, var, xtabs
The following objects are masked from 'package:base':
Filter, Find, Map, Position, Reduce, anyDuplicated, append,
as.data.frame, basename, cbind, colnames, dirname, do.call,
duplicated, eval, evalq, get, grep, grepl, intersect, is.unsorted,
lapply, mapply, match, mget, order, paste, pmax, pmax.int, pmin,
pmin.int, rank, rbind, rownames, sapply, setdiff, sort, table,
tapply, union, unique, unsplit, which.max, which.min
RUNIT TEST PROTOCOL -- Thu Oct 14 10:39:52 2021
***********************************************
Number of test functions: 2
Number of errors: 0
Number of failures: 0
1 Test Suite :
mirIntegrator RUnit Tests - 2 test functions, 0 errors, 0 failures
Number of test functions: 2
Number of errors: 0
Number of failures: 0
>
> proc.time()
user system elapsed
7.320 0.298 7.604
mirIntegrator.Rcheck/mirIntegrator-Ex.timings
| name | user | system | elapsed | |
| GSE43592_mRNA | 0.113 | 0.011 | 0.125 | |
| GSE43592_miRNA | 0.008 | 0.001 | 0.009 | |
| augmented_pathways | 0.416 | 0.024 | 0.441 | |
| integrate_mir | 2.601 | 0.050 | 2.651 | |
| kegg_pathways | 0.162 | 0.010 | 0.172 | |
| mirTarBase | 0.059 | 0.004 | 0.062 | |
| names_pathways | 0.001 | 0.003 | 0.002 | |
| pathways2pdf | 4.215 | 0.063 | 4.279 | |
| plot_augmented_pathway | 1.275 | 0.032 | 1.307 | |
| plot_change | 1.385 | 0.017 | 1.402 | |
| smallest_pathway | 0.377 | 0.023 | 0.401 | |