| Back to Multiple platform build/check report for BioC 3.13 |
|
This page was generated on 2021-10-15 15:06:11 -0400 (Fri, 15 Oct 2021).
|
To the developers/maintainers of the mia package: - Please allow up to 24 hours (and sometimes 48 hours) for your latest push to git@git.bioconductor.org:packages/mia.git to reflect on this report. See How and When does the builder pull? When will my changes propagate? here for more information. - Make sure to use the following settings in order to reproduce any error or warning you see on this page. |
| Package 1124/2041 | Hostname | OS / Arch | INSTALL | BUILD | CHECK | BUILD BIN | ||||||||
| mia 1.0.8 (landing page) Felix G.M. Ernst
| nebbiolo1 | Linux (Ubuntu 20.04.2 LTS) / x86_64 | OK | OK | OK | |||||||||
| tokay2 | Windows Server 2012 R2 Standard / x64 | OK | OK | OK | OK | |||||||||
| machv2 | macOS 10.14.6 Mojave / x86_64 | OK | OK | OK | OK | |||||||||
| Package: mia |
| Version: 1.0.8 |
| Command: rm -rf mia.buildbin-libdir && mkdir mia.buildbin-libdir && C:\Users\biocbuild\bbs-3.13-bioc\R\bin\R.exe CMD INSTALL --merge-multiarch --build --library=mia.buildbin-libdir mia_1.0.8.tar.gz |
| StartedAt: 2021-10-15 10:23:10 -0400 (Fri, 15 Oct 2021) |
| EndedAt: 2021-10-15 10:24:43 -0400 (Fri, 15 Oct 2021) |
| EllapsedTime: 93.0 seconds |
| RetCode: 0 |
| Status: OK |
| PackageFile: mia_1.0.8.zip |
| PackageFileSize: 2.196 MiB |
##############################################################################
##############################################################################
###
### Running command:
###
### rm -rf mia.buildbin-libdir && mkdir mia.buildbin-libdir && C:\Users\biocbuild\bbs-3.13-bioc\R\bin\R.exe CMD INSTALL --merge-multiarch --build --library=mia.buildbin-libdir mia_1.0.8.tar.gz
###
##############################################################################
##############################################################################
install for i386
* installing *source* package 'mia' ...
** using staged installation
** R
** data
** inst
** byte-compile and prepare package for lazy loading
** help
*** installing help indices
converting help for package 'mia'
finding HTML links ... done
agglomerate-methods html
calculateDMN html
calculateDistance html
calculateJSD html
calculateUniFrac html
estimateDivergence html
finding level-2 HTML links ... done
estimateDiversity html
estimateDominance html
estimateEvenness html
estimateRichness html
getAbundance html
getPrevalence html
isContaminant html
loadFromMothur html
loadFromQIIME2 html
makePhyloseqFromTreeSummarizedExperiment
html
makeSummarizedExperimentFromBiom html
makeTreeSummarizedExperimentFromDADA2 html
makeTreeSummarizedExperimentFromphyloseq
html
meltAssay html
merge-methods html
mia-datasets html
mia-package html
perSampleDominantTaxa html
relabundance html
runCCA html
runDPCoA html
runNMDS html
splitByRanks html
subsetSamples html
summaries html
taxonomy-methods html
transformCounts html
** building package indices
** installing vignettes
** testing if installed package can be loaded from temporary location
** testing if installed package can be loaded from final location
** testing if installed package keeps a record of temporary installation path
install for x64
* installing *source* package 'mia' ...
** testing if installed package can be loaded
* MD5 sums
packaged installation of 'mia' as mia_1.0.8.zip
* DONE (mia)