| Back to Multiple platform build/check report for BioC 3.13 |
|
This page was generated on 2021-10-15 15:06:12 -0400 (Fri, 15 Oct 2021).
|
To the developers/maintainers of the miRNApath package: - Please allow up to 24 hours (and sometimes 48 hours) for your latest push to git@git.bioconductor.org:packages/miRNApath.git to reflect on this report. See How and When does the builder pull? When will my changes propagate? here for more information. - Make sure to use the following settings in order to reproduce any error or warning you see on this page. |
| Package 1152/2041 | Hostname | OS / Arch | INSTALL | BUILD | CHECK | BUILD BIN | ||||||||
| miRNApath 1.52.0 (landing page) James M. Ward
| nebbiolo1 | Linux (Ubuntu 20.04.2 LTS) / x86_64 | OK | OK | OK | |||||||||
| tokay2 | Windows Server 2012 R2 Standard / x64 | OK | OK | OK | OK | |||||||||
| machv2 | macOS 10.14.6 Mojave / x86_64 | OK | OK | OK | OK | |||||||||
| Package: miRNApath |
| Version: 1.52.0 |
| Command: rm -rf miRNApath.buildbin-libdir && mkdir miRNApath.buildbin-libdir && C:\Users\biocbuild\bbs-3.13-bioc\R\bin\R.exe CMD INSTALL --merge-multiarch --build --library=miRNApath.buildbin-libdir miRNApath_1.52.0.tar.gz |
| StartedAt: 2021-10-15 10:27:00 -0400 (Fri, 15 Oct 2021) |
| EndedAt: 2021-10-15 10:28:32 -0400 (Fri, 15 Oct 2021) |
| EllapsedTime: 91.9 seconds |
| RetCode: 0 |
| Status: OK |
| PackageFile: miRNApath_1.52.0.zip |
| PackageFileSize: 792.4 KiB |
##############################################################################
##############################################################################
###
### Running command:
###
### rm -rf miRNApath.buildbin-libdir && mkdir miRNApath.buildbin-libdir && C:\Users\biocbuild\bbs-3.13-bioc\R\bin\R.exe CMD INSTALL --merge-multiarch --build --library=miRNApath.buildbin-libdir miRNApath_1.52.0.tar.gz
###
##############################################################################
##############################################################################
install for i386
* installing *source* package 'miRNApath' ...
** using staged installation
** R
** data
** inst
** byte-compile and prepare package for lazy loading
** help
*** installing help indices
converting help for package 'miRNApath'
finding HTML links ... done
checkColumns html
convertFoldChange html
filtermirnapath html
loadmirnapath html
loadmirnapathways html
loadmirnatogene html
miRNApath-package html
mirnaTable html
mirnaobj html
mirnapath-class html
runEnrichment html
** building package indices
** installing vignettes
** testing if installed package can be loaded from temporary location
** testing if installed package can be loaded from final location
** testing if installed package keeps a record of temporary installation path
install for x64
* installing *source* package 'miRNApath' ...
** testing if installed package can be loaded
* MD5 sums
packaged installation of 'miRNApath' as miRNApath_1.52.0.zip
* DONE (miRNApath)