| Back to Multiple platform build/check report for BioC 3.13 |
|
This page was generated on 2021-10-15 15:06:12 -0400 (Fri, 15 Oct 2021).
|
To the developers/maintainers of the miRBaseConverter package: - Please allow up to 24 hours (and sometimes 48 hours) for your latest push to git@git.bioconductor.org:packages/miRBaseConverter.git to reflect on this report. See How and When does the builder pull? When will my changes propagate? here for more information. - Make sure to use the following settings in order to reproduce any error or warning you see on this page. |
| Package 1146/2041 | Hostname | OS / Arch | INSTALL | BUILD | CHECK | BUILD BIN | ||||||||
| miRBaseConverter 1.16.0 (landing page) Taosheng Xu
| nebbiolo1 | Linux (Ubuntu 20.04.2 LTS) / x86_64 | OK | OK | OK | |||||||||
| tokay2 | Windows Server 2012 R2 Standard / x64 | OK | OK | OK | OK | |||||||||
| machv2 | macOS 10.14.6 Mojave / x86_64 | OK | OK | OK | OK | |||||||||
| Package: miRBaseConverter |
| Version: 1.16.0 |
| Command: rm -rf miRBaseConverter.buildbin-libdir && mkdir miRBaseConverter.buildbin-libdir && C:\Users\biocbuild\bbs-3.13-bioc\R\bin\R.exe CMD INSTALL --merge-multiarch --build --library=miRBaseConverter.buildbin-libdir miRBaseConverter_1.16.0.tar.gz |
| StartedAt: 2021-10-15 10:26:18 -0400 (Fri, 15 Oct 2021) |
| EndedAt: 2021-10-15 10:27:49 -0400 (Fri, 15 Oct 2021) |
| EllapsedTime: 91.1 seconds |
| RetCode: 0 |
| Status: OK |
| PackageFile: miRBaseConverter_1.16.0.zip |
| PackageFileSize: 2.013 MiB |
##############################################################################
##############################################################################
###
### Running command:
###
### rm -rf miRBaseConverter.buildbin-libdir && mkdir miRBaseConverter.buildbin-libdir && C:\Users\biocbuild\bbs-3.13-bioc\R\bin\R.exe CMD INSTALL --merge-multiarch --build --library=miRBaseConverter.buildbin-libdir miRBaseConverter_1.16.0.tar.gz
###
##############################################################################
##############################################################################
install for i386
* installing *source* package 'miRBaseConverter' ...
** using staged installation
** R
** data
*** moving datasets to lazyload DB
** inst
** byte-compile and prepare package for lazy loading
** help
*** installing help indices
converting help for package 'miRBaseConverter'
finding HTML links ... done
checkMiRNAAlive html
checkMiRNAFamily html
checkMiRNAVersion html
getAllMiRNAs html
getAllSpecies html
getAllVersionInfo html
getMiRNAHistory html
getMiRNASequence html
getMiRNATable html
goTo_miRBase html
goTo_miRNAFamily html
miRNATest html
miRNAVersionConvert html
miRNA_AccessionToName html
miRNA_MatureToPrecursor html
miRNA_NameToAccession html
miRNA_PrecursorToMature html
** building package indices
** installing vignettes
** testing if installed package can be loaded from temporary location
** testing if installed package can be loaded from final location
** testing if installed package keeps a record of temporary installation path
install for x64
* installing *source* package 'miRBaseConverter' ...
** testing if installed package can be loaded
* MD5 sums
packaged installation of 'miRBaseConverter' as miRBaseConverter_1.16.0.zip
* DONE (miRBaseConverter)