| Back to Multiple platform build/check report for BioC 3.13 | 
 | 
This page was generated on 2021-10-15 15:06:11 -0400 (Fri, 15 Oct 2021).
| To the developers/maintainers of the methylscaper package: - Please allow up to 24 hours (and sometimes 48 hours) for your latest push to git@git.bioconductor.org:packages/methylscaper.git to reflect on this report. See How and When does the builder pull? When will my changes propagate? here for more information. - Make sure to use the following settings in order to reproduce any error or warning you see on this page. | 
| Package 1113/2041 | Hostname | OS / Arch | INSTALL | BUILD | CHECK | BUILD BIN | ||||||||
| methylscaper 1.0.1  (landing page) Bacher Rhonda 
 | nebbiolo1 | Linux (Ubuntu 20.04.2 LTS) / x86_64 | OK | OK | OK |  | ||||||||
| tokay2 | Windows Server 2012 R2 Standard / x64 | OK | OK | OK | OK |  | ||||||||
| machv2 | macOS 10.14.6 Mojave / x86_64 | OK | OK | OK | OK |  | ||||||||
| Package: methylscaper | 
| Version: 1.0.1 | 
| Command: rm -rf methylscaper.buildbin-libdir && mkdir methylscaper.buildbin-libdir && C:\Users\biocbuild\bbs-3.13-bioc\R\bin\R.exe CMD INSTALL --merge-multiarch --build --library=methylscaper.buildbin-libdir methylscaper_1.0.1.tar.gz | 
| StartedAt: 2021-10-15 10:21:38 -0400 (Fri, 15 Oct 2021) | 
| EndedAt: 2021-10-15 10:23:02 -0400 (Fri, 15 Oct 2021) | 
| EllapsedTime: 84.1 seconds | 
| RetCode: 0 | 
| Status: OK | 
| PackageFile: methylscaper_1.0.1.zip | 
| PackageFileSize: 2.904 MiB | 
##############################################################################
##############################################################################
###
### Running command:
###
###   rm -rf methylscaper.buildbin-libdir && mkdir methylscaper.buildbin-libdir && C:\Users\biocbuild\bbs-3.13-bioc\R\bin\R.exe CMD INSTALL --merge-multiarch --build --library=methylscaper.buildbin-libdir methylscaper_1.0.1.tar.gz
###
##############################################################################
##############################################################################
install for i386
* installing *source* package 'methylscaper' ...
** using staged installation
** R
** data
** inst
** byte-compile and prepare package for lazy loading
** help
*** installing help indices
  converting help for package 'methylscaper'
    finding HTML links ... done
    check_package                           html  
    forceReverse                            html  
    human_bm                                html  
    initialOrder                            html  
    methyl_average_status                   html  
    methyl_percent_sites                    html  
    methyl_proportion                       html  
    methylscaper                            html  
    mouse_bm                                html  
    plotSequence                            html  
    prepSC                                  html  
    reads_sm                                html  
    ref_seq                                 html  
    refineFunction                          html  
    reformatSCE                             html  
    runAlign                                html  
    singlecell_subset                       html  
    singlemolecule_example                  html  
    subsetSC                                html  
** building package indices
** installing vignettes
** testing if installed package can be loaded from temporary location
** testing if installed package can be loaded from final location
** testing if installed package keeps a record of temporary installation path
install for x64
* installing *source* package 'methylscaper' ...
** testing if installed package can be loaded
* MD5 sums
packaged installation of 'methylscaper' as methylscaper_1.0.1.zip
* DONE (methylscaper)