| Back to Multiple platform build/check report for BioC 3.13 |
|
This page was generated on 2021-10-15 15:06:11 -0400 (Fri, 15 Oct 2021).
|
To the developers/maintainers of the methylGSA package: - Please allow up to 24 hours (and sometimes 48 hours) for your latest push to git@git.bioconductor.org:packages/methylGSA.git to reflect on this report. See How and When does the builder pull? When will my changes propagate? here for more information. - Make sure to use the following settings in order to reproduce any error or warning you see on this page. |
| Package 1107/2041 | Hostname | OS / Arch | INSTALL | BUILD | CHECK | BUILD BIN | ||||||||
| methylGSA 1.10.0 (landing page) Xu Ren
| nebbiolo1 | Linux (Ubuntu 20.04.2 LTS) / x86_64 | OK | OK | OK | |||||||||
| tokay2 | Windows Server 2012 R2 Standard / x64 | OK | OK | OK | OK | |||||||||
| machv2 | macOS 10.14.6 Mojave / x86_64 | OK | OK | OK | OK | |||||||||
| Package: methylGSA |
| Version: 1.10.0 |
| Command: rm -rf methylGSA.buildbin-libdir && mkdir methylGSA.buildbin-libdir && C:\Users\biocbuild\bbs-3.13-bioc\R\bin\R.exe CMD INSTALL --merge-multiarch --build --library=methylGSA.buildbin-libdir methylGSA_1.10.0.tar.gz |
| StartedAt: 2021-10-15 10:20:45 -0400 (Fri, 15 Oct 2021) |
| EndedAt: 2021-10-15 10:22:11 -0400 (Fri, 15 Oct 2021) |
| EllapsedTime: 85.9 seconds |
| RetCode: 0 |
| Status: OK |
| PackageFile: methylGSA_1.10.0.zip |
| PackageFileSize: 3.18 MiB |
##############################################################################
##############################################################################
###
### Running command:
###
### rm -rf methylGSA.buildbin-libdir && mkdir methylGSA.buildbin-libdir && C:\Users\biocbuild\bbs-3.13-bioc\R\bin\R.exe CMD INSTALL --merge-multiarch --build --library=methylGSA.buildbin-libdir methylGSA_1.10.0.tar.gz
###
##############################################################################
##############################################################################
install for i386
* installing *source* package 'methylGSA' ...
** using staged installation
** R
** data
** inst
** byte-compile and prepare package for lazy loading
** help
*** installing help indices
converting help for package 'methylGSA'
finding HTML links ... done
CpG2Gene html
GS.list html
barplot html
cpg.pval html
getAnnot html
getDescription html
getGS html
methylRRA html
methylglm html
finding level-2 HTML links ... done
methylgometh html
prepareAnnot html
runExample html
** building package indices
** installing vignettes
** testing if installed package can be loaded from temporary location
** testing if installed package can be loaded from final location
** testing if installed package keeps a record of temporary installation path
install for x64
* installing *source* package 'methylGSA' ...
** testing if installed package can be loaded
* MD5 sums
packaged installation of 'methylGSA' as methylGSA_1.10.0.zip
* DONE (methylGSA)