| Back to Multiple platform build/check report for BioC 3.13 |
|
This page was generated on 2021-10-15 15:06:42 -0400 (Fri, 15 Oct 2021).
|
To the developers/maintainers of the metaseqR2 package: - Please allow up to 24 hours (and sometimes 48 hours) for your latest push to git@git.bioconductor.org:packages/metaseqR2.git to reflect on this report. See How and When does the builder pull? When will my changes propagate? here for more information. - Make sure to use the following settings in order to reproduce any error or warning you see on this page. |
| Package 1093/2041 | Hostname | OS / Arch | INSTALL | BUILD | CHECK | BUILD BIN | ||||||||
| metaseqR2 1.4.14 (landing page) Panagiotis Moulos
| nebbiolo1 | Linux (Ubuntu 20.04.2 LTS) / x86_64 | OK | ERROR | skipped | |||||||||
| tokay2 | Windows Server 2012 R2 Standard / x64 | OK | OK | OK | OK | |||||||||
| machv2 | macOS 10.14.6 Mojave / x86_64 | OK | OK | ERROR | OK | |||||||||
| Package: metaseqR2 |
| Version: 1.4.14 |
| Command: rm -rf metaseqR2.buildbin-libdir && mkdir metaseqR2.buildbin-libdir && /Users/biocbuild/BBS/utils/build-universal.sh metaseqR2_1.4.14.tar.gz /Library/Frameworks/R.framework/Versions/Current/Resources/bin/R metaseqR2.buildbin-libdir |
| StartedAt: 2021-10-15 03:03:04 -0400 (Fri, 15 Oct 2021) |
| EndedAt: 2021-10-15 03:05:13 -0400 (Fri, 15 Oct 2021) |
| EllapsedTime: 129.3 seconds |
| RetCode: 0 |
| Status: OK |
| PackageFile: metaseqR2_1.4.14.tgz |
| PackageFileSize: 4.498 MiB |
##############################################################################
##############################################################################
###
### Running command:
###
### rm -rf metaseqR2.buildbin-libdir && mkdir metaseqR2.buildbin-libdir && /Users/biocbuild/BBS/utils/build-universal.sh metaseqR2_1.4.14.tar.gz /Library/Frameworks/R.framework/Versions/Current/Resources/bin/R metaseqR2.buildbin-libdir
###
##############################################################################
##############################################################################
>>>>>>>
>>>>>>> INSTALLATION WITH 'R CMD INSTALL --preclean --no-multiarch --library=metaseqR2.buildbin-libdir metaseqR2_1.4.14.tar.gz'
>>>>>>>
* installing *source* package ‘metaseqR2’ ...
** using staged installation
** libs
clang -mmacosx-version-min=10.13 -I"/Library/Frameworks/R.framework/Resources/include" -DNDEBUG -I/usr/local/include -fPIC -Wall -g -O2 -c pval.c -o pval.o
pval.c:26:11: warning: unused variable 'esttotalperlength' [-Wunused-variable]
double esttotalperlength = total/2;
^
1 warning generated.
clang -mmacosx-version-min=10.13 -dynamiclib -Wl,-headerpad_max_install_names -undefined dynamic_lookup -single_module -multiply_defined suppress -L/Library/Frameworks/R.framework/Resources/lib -L/usr/local/lib -o metaseqR2.so pval.o -F/Library/Frameworks/R.framework/.. -framework R -Wl,-framework -Wl,CoreFoundation
installing to /Users/biocbuild/bbs-3.13-bioc/meat/metaseqR2.buildbin-libdir/00LOCK-metaseqR2/00new/metaseqR2/libs
** R
** data
** inst
** byte-compile and prepare package for lazy loading
** help
*** installing help indices
** building package indices
** installing vignettes
** testing if installed package can be loaded from temporary location
** checking absolute paths in shared objects and dynamic libraries
** testing if installed package can be loaded from final location
** testing if installed package keeps a record of temporary installation path
* DONE (metaseqR2)
>>>>>>>
>>>>>>> FIXING LINKS FOR metaseqR2.buildbin-libdir/metaseqR2/libs/metaseqR2.so
>>>>>>>
install_name_tool -change "/usr/local/lib/libgcc_s.1.dylib" "/Library/Frameworks/R.framework/Versions/4.1/Resources/lib/libgcc_s.1.dylib" "metaseqR2.buildbin-libdir/metaseqR2/libs/metaseqR2.so"
install_name_tool -change "/usr/local/lib/libgfortran.5.dylib" "/Library/Frameworks/R.framework/Versions/4.1/Resources/lib/libgfortran.5.dylib" "metaseqR2.buildbin-libdir/metaseqR2/libs/metaseqR2.so"
install_name_tool -change "/usr/local/lib/libquadmath.0.dylib" "/Library/Frameworks/R.framework/Versions/4.1/Resources/lib/libquadmath.0.dylib" "metaseqR2.buildbin-libdir/metaseqR2/libs/metaseqR2.so"