Back to Multiple platform build/check report for BioC 3.13 |
|
This page was generated on 2021-10-15 15:06:11 -0400 (Fri, 15 Oct 2021).
To the developers/maintainers of the metapod package: - Please allow up to 24 hours (and sometimes 48 hours) for your latest push to git@git.bioconductor.org:packages/metapod.git to reflect on this report. See How and When does the builder pull? When will my changes propagate? here for more information. - Make sure to use the following settings in order to reproduce any error or warning you see on this page. |
Package 1091/2041 | Hostname | OS / Arch | INSTALL | BUILD | CHECK | BUILD BIN | ||||||||
metapod 1.0.0 (landing page) Aaron Lun
| nebbiolo1 | Linux (Ubuntu 20.04.2 LTS) / x86_64 | OK | OK | OK | ![]() | ||||||||
tokay2 | Windows Server 2012 R2 Standard / x64 | OK | OK | OK | OK | ![]() | ||||||||
machv2 | macOS 10.14.6 Mojave / x86_64 | OK | OK | OK | OK | ![]() | ||||||||
Package: metapod |
Version: 1.0.0 |
Command: C:\cygwin\bin\curl.exe -O http://155.52.207.165/BBS/3.13/bioc/src/contrib/metapod_1.0.0.tar.gz && rm -rf metapod.buildbin-libdir && mkdir metapod.buildbin-libdir && C:\Users\biocbuild\bbs-3.13-bioc\R\bin\R.exe CMD INSTALL --merge-multiarch --build --library=metapod.buildbin-libdir metapod_1.0.0.tar.gz && C:\Users\biocbuild\bbs-3.13-bioc\R\bin\R.exe CMD INSTALL metapod_1.0.0.zip && rm metapod_1.0.0.tar.gz metapod_1.0.0.zip |
StartedAt: 2021-10-14 07:02:24 -0400 (Thu, 14 Oct 2021) |
EndedAt: 2021-10-14 07:03:57 -0400 (Thu, 14 Oct 2021) |
EllapsedTime: 93.3 seconds |
RetCode: 0 |
Status: OK |
############################################################################## ############################################################################## ### ### Running command: ### ### C:\cygwin\bin\curl.exe -O http://155.52.207.165/BBS/3.13/bioc/src/contrib/metapod_1.0.0.tar.gz && rm -rf metapod.buildbin-libdir && mkdir metapod.buildbin-libdir && C:\Users\biocbuild\bbs-3.13-bioc\R\bin\R.exe CMD INSTALL --merge-multiarch --build --library=metapod.buildbin-libdir metapod_1.0.0.tar.gz && C:\Users\biocbuild\bbs-3.13-bioc\R\bin\R.exe CMD INSTALL metapod_1.0.0.zip && rm metapod_1.0.0.tar.gz metapod_1.0.0.zip ### ############################################################################## ############################################################################## % Total % Received % Xferd Average Speed Time Time Time Current Dload Upload Total Spent Left Speed 0 0 0 0 0 0 0 0 --:--:-- --:--:-- --:--:-- 0 100 35510 100 35510 0 0 299k 0 --:--:-- --:--:-- --:--:-- 301k install for i386 * installing *source* package 'metapod' ... ** using staged installation ** libs "C:/rtools40/mingw32/bin/"g++ -std=gnu++11 -I"C:/Users/BIOCBU~1/BBS-3~1.13-/R/include" -DNDEBUG -I'C:/Users/biocbuild/bbs-3.13-bioc/R/library/Rcpp/include' -I"c:/extsoft/include" -O2 -Wall -mfpmath=sse -msse2 -mstackrealign -c RcppExports.cpp -o RcppExports.o "C:/rtools40/mingw32/bin/"g++ -std=gnu++11 -I"C:/Users/BIOCBU~1/BBS-3~1.13-/R/include" -DNDEBUG -I'C:/Users/biocbuild/bbs-3.13-bioc/R/library/Rcpp/include' -I"c:/extsoft/include" -O2 -Wall -mfpmath=sse -msse2 -mstackrealign -c combine_group.cpp -o combine_group.o combine_group.cpp: In instantiation of 'Rcpp::List compute_grouped(Rcpp::NumericVector, Rcpp::IntegerVector, Rcpp::RObject, bool, const PREP&) [with PREP = p_simes; Rcpp::List = Rcpp::Vector<19>; Rcpp::NumericVector = Rcpp::Vector<14, Rcpp::PreserveStorage>; Rcpp::IntegerVector = Rcpp::Vector<13>; Rcpp::RObject = Rcpp::RObject_Impl<Rcpp::PreserveStorage>]': combine_group.cpp:81:64: required from here combine_group.cpp:41:26: warning: comparison of integer expressions of different signedness: 'size_t' {aka 'unsigned int'} and 'R_xlen_t' {aka 'int'} [-Wsign-compare] for (size_t g = 0; g < runs.size(); ++g) { ~~^~~~~~~~~~~~~ combine_group.cpp:68:17: warning: comparison of integer expressions of different signedness: 'size_t' {aka 'unsigned int'} and 'R_xlen_t' {aka 'int'} [-Wsign-compare] if (counter != pvals.size()) { ~~~~~~~~^~~~~~~~~~~~~~~ combine_group.cpp: In instantiation of 'Rcpp::List compute_grouped(Rcpp::NumericVector, Rcpp::IntegerVector, Rcpp::RObject, bool, const PREP&) [with PREP = p_berger; Rcpp::List = Rcpp::Vector<19>; Rcpp::NumericVector = Rcpp::Vector<14, Rcpp::PreserveStorage>; Rcpp::IntegerVector = Rcpp::Vector<13>; Rcpp::RObject = Rcpp::RObject_Impl<Rcpp::PreserveStorage>]': combine_group.cpp:86:65: required from here combine_group.cpp:41:26: warning: comparison of integer expressions of different signedness: 'size_t' {aka 'unsigned int'} and 'R_xlen_t' {aka 'int'} [-Wsign-compare] for (size_t g = 0; g < runs.size(); ++g) { ~~^~~~~~~~~~~~~ combine_group.cpp:68:17: warning: comparison of integer expressions of different signedness: 'size_t' {aka 'unsigned int'} and 'R_xlen_t' {aka 'int'} [-Wsign-compare] if (counter != pvals.size()) { ~~~~~~~~^~~~~~~~~~~~~~~ combine_group.cpp: In instantiation of 'Rcpp::List compute_grouped(Rcpp::NumericVector, Rcpp::IntegerVector, Rcpp::RObject, bool, const PREP&) [with PREP = p_wilkinson; Rcpp::List = Rcpp::Vector<19>; Rcpp::NumericVector = Rcpp::Vector<14, Rcpp::PreserveStorage>; Rcpp::IntegerVector = Rcpp::Vector<13>; Rcpp::RObject = Rcpp::RObject_Impl<Rcpp::PreserveStorage>]': combine_group.cpp:91:83: required from here combine_group.cpp:41:26: warning: comparison of integer expressions of different signedness: 'size_t' {aka 'unsigned int'} and 'R_xlen_t' {aka 'int'} [-Wsign-compare] for (size_t g = 0; g < runs.size(); ++g) { ~~^~~~~~~~~~~~~ combine_group.cpp:68:17: warning: comparison of integer expressions of different signedness: 'size_t' {aka 'unsigned int'} and 'R_xlen_t' {aka 'int'} [-Wsign-compare] if (counter != pvals.size()) { ~~~~~~~~^~~~~~~~~~~~~~~ combine_group.cpp: In instantiation of 'Rcpp::List compute_grouped(Rcpp::NumericVector, Rcpp::IntegerVector, Rcpp::RObject, bool, const PREP&) [with PREP = p_holm_min; Rcpp::List = Rcpp::Vector<19>; Rcpp::NumericVector = Rcpp::Vector<14, Rcpp::PreserveStorage>; Rcpp::IntegerVector = Rcpp::Vector<13>; Rcpp::RObject = Rcpp::RObject_Impl<Rcpp::PreserveStorage>]': combine_group.cpp:96:82: required from here combine_group.cpp:41:26: warning: comparison of integer expressions of different signedness: 'size_t' {aka 'unsigned int'} and 'R_xlen_t' {aka 'int'} [-Wsign-compare] for (size_t g = 0; g < runs.size(); ++g) { ~~^~~~~~~~~~~~~ combine_group.cpp:68:17: warning: comparison of integer expressions of different signedness: 'size_t' {aka 'unsigned int'} and 'R_xlen_t' {aka 'int'} [-Wsign-compare] if (counter != pvals.size()) { ~~~~~~~~^~~~~~~~~~~~~~~ combine_group.cpp: In instantiation of 'Rcpp::List compute_grouped(Rcpp::NumericVector, Rcpp::IntegerVector, Rcpp::RObject, bool, const PREP&) [with PREP = p_stouffer; Rcpp::List = Rcpp::Vector<19>; Rcpp::NumericVector = Rcpp::Vector<14, Rcpp::PreserveStorage>; Rcpp::IntegerVector = Rcpp::Vector<13>; Rcpp::RObject = Rcpp::RObject_Impl<Rcpp::PreserveStorage>]': combine_group.cpp:101:67: required from here combine_group.cpp:41:26: warning: comparison of integer expressions of different signedness: 'size_t' {aka 'unsigned int'} and 'R_xlen_t' {aka 'int'} [-Wsign-compare] for (size_t g = 0; g < runs.size(); ++g) { ~~^~~~~~~~~~~~~ combine_group.cpp:68:17: warning: comparison of integer expressions of different signedness: 'size_t' {aka 'unsigned int'} and 'R_xlen_t' {aka 'int'} [-Wsign-compare] if (counter != pvals.size()) { ~~~~~~~~^~~~~~~~~~~~~~~ combine_group.cpp: In instantiation of 'Rcpp::List compute_grouped(Rcpp::NumericVector, Rcpp::IntegerVector, Rcpp::RObject, bool, const PREP&) [with PREP = p_fisher; Rcpp::List = Rcpp::Vector<19>; Rcpp::NumericVector = Rcpp::Vector<14, Rcpp::PreserveStorage>; Rcpp::IntegerVector = Rcpp::Vector<13>; Rcpp::RObject = Rcpp::RObject_Impl<Rcpp::PreserveStorage>]': combine_group.cpp:106:65: required from here combine_group.cpp:41:26: warning: comparison of integer expressions of different signedness: 'size_t' {aka 'unsigned int'} and 'R_xlen_t' {aka 'int'} [-Wsign-compare] for (size_t g = 0; g < runs.size(); ++g) { ~~^~~~~~~~~~~~~ combine_group.cpp:68:17: warning: comparison of integer expressions of different signedness: 'size_t' {aka 'unsigned int'} and 'R_xlen_t' {aka 'int'} [-Wsign-compare] if (counter != pvals.size()) { ~~~~~~~~^~~~~~~~~~~~~~~ combine_group.cpp: In instantiation of 'Rcpp::List compute_grouped(Rcpp::NumericVector, Rcpp::IntegerVector, Rcpp::RObject, bool, const PREP&) [with PREP = p_pearson; Rcpp::List = Rcpp::Vector<19>; Rcpp::NumericVector = Rcpp::Vector<14, Rcpp::PreserveStorage>; Rcpp::IntegerVector = Rcpp::Vector<13>; Rcpp::RObject = Rcpp::RObject_Impl<Rcpp::PreserveStorage>]': combine_group.cpp:111:66: required from here combine_group.cpp:41:26: warning: comparison of integer expressions of different signedness: 'size_t' {aka 'unsigned int'} and 'R_xlen_t' {aka 'int'} [-Wsign-compare] for (size_t g = 0; g < runs.size(); ++g) { ~~^~~~~~~~~~~~~ combine_group.cpp:68:17: warning: comparison of integer expressions of different signedness: 'size_t' {aka 'unsigned int'} and 'R_xlen_t' {aka 'int'} [-Wsign-compare] if (counter != pvals.size()) { ~~~~~~~~^~~~~~~~~~~~~~~ "C:/rtools40/mingw32/bin/"g++ -std=gnu++11 -I"C:/Users/BIOCBU~1/BBS-3~1.13-/R/include" -DNDEBUG -I'C:/Users/biocbuild/bbs-3.13-bioc/R/library/Rcpp/include' -I"c:/extsoft/include" -O2 -Wall -mfpmath=sse -msse2 -mstackrealign -c combine_parallel.cpp -o combine_parallel.o combine_parallel.cpp: In constructor 'parallel_weight_server::parallel_weight_server(size_t, size_t, Rcpp::RObject)': combine_parallel.cpp:28:36: warning: comparison of integer expressions of different signedness: 'R_xlen_t' {aka 'int'} and 'const size_t' {aka 'const unsigned int'} [-Wsign-compare] if (wrepeat.size() != nvectors) { ~~~~~~~~~~~~~~~^~~~~~~~~~~ In file included from p_berger.h:4, from combine_parallel.cpp:1: utils.h: In instantiation of 'parallel_vectors<V>::parallel_vectors(Rcpp::List) [with V = Rcpp::Vector<14, Rcpp::PreserveStorage>; Rcpp::List = Rcpp::Vector<19>]': combine_parallel.cpp:20:82: required from here utils.h:72:31: warning: comparison of integer expressions of different signedness: 'size_t' {aka 'unsigned int'} and 'R_xlen_t' {aka 'int'} [-Wsign-compare] if (nelements != vectors[p].size()) { "C:/rtools40/mingw32/bin/"g++ -std=gnu++11 -I"C:/Users/BIOCBU~1/BBS-3~1.13-/R/include" -DNDEBUG -I'C:/Users/biocbuild/bbs-3.13-bioc/R/library/Rcpp/include' -I"c:/extsoft/include" -O2 -Wall -mfpmath=sse -msse2 -mstackrealign -c count_direction.cpp -o count_direction.o count_direction.cpp: In function 'Rcpp::List count_grouped_direction(Rcpp::NumericVector, Rcpp::IntegerVector, Rcpp::NumericVector, int, double, double, bool)': count_direction.cpp:95:26: warning: comparison of integer expressions of different signedness: 'size_t' {aka 'unsigned int'} and 'R_xlen_t' {aka 'int'} [-Wsign-compare] for (size_t g = 0; g < runs.size(); ++g) { ~~^~~~~~~~~~~~~ count_direction.cpp:98:25: warning: comparison of integer expressions of different signedness: 'size_t' {aka 'unsigned int'} and 'R_xlen_t' {aka 'int'} [-Wsign-compare] if (counter >= pvalues.size()) { ~~~~~~~~^~~~~~~~~~~~~~~~~ count_direction.cpp:120:17: warning: comparison of integer expressions of different signedness: 'size_t' {aka 'unsigned int'} and 'R_xlen_t' {aka 'int'} [-Wsign-compare] if (counter != pvalues.size()) { ~~~~~~~~^~~~~~~~~~~~~~~~~ In file included from count_direction.cpp:2: utils.h: In instantiation of 'parallel_vectors<V>::parallel_vectors(Rcpp::List) [with V = Rcpp::Vector<14, Rcpp::PreserveStorage>; Rcpp::List = Rcpp::Vector<19>]': count_direction.cpp:40:58: required from here utils.h:72:31: warning: comparison of integer expressions of different signedness: 'size_t' {aka 'unsigned int'} and 'R_xlen_t' {aka 'int'} [-Wsign-compare] if (nelements != vectors[p].size()) { "C:/rtools40/mingw32/bin/"g++ -std=gnu++11 -I"C:/Users/BIOCBU~1/BBS-3~1.13-/R/include" -DNDEBUG -I'C:/Users/biocbuild/bbs-3.13-bioc/R/library/Rcpp/include' -I"c:/extsoft/include" -O2 -Wall -mfpmath=sse -msse2 -mstackrealign -c summarize_direction.cpp -o summarize_direction.o summarize_direction.cpp: In function 'Rcpp::IntegerVector summarize_grouped_direction(Rcpp::NumericVector, Rcpp::IntegerVector, Rcpp::LogicalVector, double)': summarize_direction.cpp:43:26: warning: comparison of integer expressions of different signedness: 'size_t' {aka 'unsigned int'} and 'R_xlen_t' {aka 'int'} [-Wsign-compare] for (size_t g = 0; g < runs.size(); ++g) { ~~^~~~~~~~~~~~~ summarize_direction.cpp:46:25: warning: comparison of integer expressions of different signedness: 'size_t' {aka 'unsigned int'} and 'R_xlen_t' {aka 'int'} [-Wsign-compare] if (counter >= effects.size()) { ~~~~~~~~^~~~~~~~~~~~~~~~~ summarize_direction.cpp:61:17: warning: comparison of integer expressions of different signedness: 'size_t' {aka 'unsigned int'} and 'R_xlen_t' {aka 'int'} [-Wsign-compare] if (counter != effects.size()) { ~~~~~~~~^~~~~~~~~~~~~~~~~ In file included from summarize_direction.cpp:2: utils.h: In instantiation of 'parallel_vectors<V>::parallel_vectors(Rcpp::List) [with V = Rcpp::Vector<14, Rcpp::PreserveStorage>; Rcpp::List = Rcpp::Vector<19>]': summarize_direction.cpp:10:58: required from here utils.h:72:31: warning: comparison of integer expressions of different signedness: 'size_t' {aka 'unsigned int'} and 'R_xlen_t' {aka 'int'} [-Wsign-compare] if (nelements != vectors[p].size()) { utils.h: In instantiation of 'parallel_vectors<V>::parallel_vectors(Rcpp::List) [with V = Rcpp::Vector<10, Rcpp::PreserveStorage>; Rcpp::List = Rcpp::Vector<19>]': summarize_direction.cpp:11:66: required from here utils.h:72:31: warning: comparison of integer expressions of different signedness: 'size_t' {aka 'unsigned int'} and 'R_xlen_t' {aka 'int'} [-Wsign-compare] C:/rtools40/mingw32/bin/g++ -shared -s -static-libgcc -o metapod.dll tmp.def RcppExports.o combine_group.o combine_parallel.o count_direction.o summarize_direction.o -Lc:/extsoft/lib/i386 -Lc:/extsoft/lib -LC:/Users/BIOCBU~1/BBS-3~1.13-/R/bin/i386 -lR installing to C:/Users/biocbuild/bbs-3.13-bioc/meat/metapod.buildbin-libdir/00LOCK-metapod/00new/metapod/libs/i386 ** R ** inst ** byte-compile and prepare package for lazy loading ** help *** installing help indices converting help for package 'metapod' finding HTML links ... done averageGroupedStats html averageParallelStats html combineGroupedPValues html combineParallelPValues html countGroupedDirection html countParallelDirection html groupedBerger html groupedFisher html groupedHolmMin html groupedPearson html groupedSimes html groupedStouffer html groupedWilkinson html parallelBerger html parallelFisher html parallelHolmMin html parallelPearson html parallelSimes html parallelStouffer html parallelWilkinson html summarizeGroupedDirection html summarizeParallelDirection html ** building package indices ** installing vignettes ** testing if installed package can be loaded from temporary location ** testing if installed package can be loaded from final location ** testing if installed package keeps a record of temporary installation path install for x64 * installing *source* package 'metapod' ... ** libs "C:/rtools40/mingw64/bin/"g++ -std=gnu++11 -I"C:/Users/BIOCBU~1/BBS-3~1.13-/R/include" -DNDEBUG -I'C:/Users/biocbuild/bbs-3.13-bioc/R/library/Rcpp/include' -I"C:/extsoft/include" -O2 -Wall -mfpmath=sse -msse2 -mstackrealign -c RcppExports.cpp -o RcppExports.o "C:/rtools40/mingw64/bin/"g++ -std=gnu++11 -I"C:/Users/BIOCBU~1/BBS-3~1.13-/R/include" -DNDEBUG -I'C:/Users/biocbuild/bbs-3.13-bioc/R/library/Rcpp/include' -I"C:/extsoft/include" -O2 -Wall -mfpmath=sse -msse2 -mstackrealign -c combine_group.cpp -o combine_group.o combine_group.cpp: In instantiation of 'Rcpp::List compute_grouped(Rcpp::NumericVector, Rcpp::IntegerVector, Rcpp::RObject, bool, const PREP&) [with PREP = p_simes; Rcpp::List = Rcpp::Vector<19>; Rcpp::NumericVector = Rcpp::Vector<14, Rcpp::PreserveStorage>; Rcpp::IntegerVector = Rcpp::Vector<13>; Rcpp::RObject = Rcpp::RObject_Impl<Rcpp::PreserveStorage>]': combine_group.cpp:81:64: required from here combine_group.cpp:41:26: warning: comparison of integer expressions of different signedness: 'size_t' {aka 'long long unsigned int'} and 'R_xlen_t' {aka 'long long int'} [-Wsign-compare] for (size_t g = 0; g < runs.size(); ++g) { ~~^~~~~~~~~~~~~ combine_group.cpp:68:17: warning: comparison of integer expressions of different signedness: 'size_t' {aka 'long long unsigned int'} and 'R_xlen_t' {aka 'long long int'} [-Wsign-compare] if (counter != pvals.size()) { ~~~~~~~~^~~~~~~~~~~~~~~ combine_group.cpp: In instantiation of 'Rcpp::List compute_grouped(Rcpp::NumericVector, Rcpp::IntegerVector, Rcpp::RObject, bool, const PREP&) [with PREP = p_berger; Rcpp::List = Rcpp::Vector<19>; Rcpp::NumericVector = Rcpp::Vector<14, Rcpp::PreserveStorage>; Rcpp::IntegerVector = Rcpp::Vector<13>; Rcpp::RObject = Rcpp::RObject_Impl<Rcpp::PreserveStorage>]': combine_group.cpp:86:65: required from here combine_group.cpp:41:26: warning: comparison of integer expressions of different signedness: 'size_t' {aka 'long long unsigned int'} and 'R_xlen_t' {aka 'long long int'} [-Wsign-compare] for (size_t g = 0; g < runs.size(); ++g) { ~~^~~~~~~~~~~~~ combine_group.cpp:68:17: warning: comparison of integer expressions of different signedness: 'size_t' {aka 'long long unsigned int'} and 'R_xlen_t' {aka 'long long int'} [-Wsign-compare] if (counter != pvals.size()) { ~~~~~~~~^~~~~~~~~~~~~~~ combine_group.cpp: In instantiation of 'Rcpp::List compute_grouped(Rcpp::NumericVector, Rcpp::IntegerVector, Rcpp::RObject, bool, const PREP&) [with PREP = p_wilkinson; Rcpp::List = Rcpp::Vector<19>; Rcpp::NumericVector = Rcpp::Vector<14, Rcpp::PreserveStorage>; Rcpp::IntegerVector = Rcpp::Vector<13>; Rcpp::RObject = Rcpp::RObject_Impl<Rcpp::PreserveStorage>]': combine_group.cpp:91:83: required from here combine_group.cpp:41:26: warning: comparison of integer expressions of different signedness: 'size_t' {aka 'long long unsigned int'} and 'R_xlen_t' {aka 'long long int'} [-Wsign-compare] for (size_t g = 0; g < runs.size(); ++g) { ~~^~~~~~~~~~~~~ combine_group.cpp:68:17: warning: comparison of integer expressions of different signedness: 'size_t' {aka 'long long unsigned int'} and 'R_xlen_t' {aka 'long long int'} [-Wsign-compare] if (counter != pvals.size()) { ~~~~~~~~^~~~~~~~~~~~~~~ combine_group.cpp: In instantiation of 'Rcpp::List compute_grouped(Rcpp::NumericVector, Rcpp::IntegerVector, Rcpp::RObject, bool, const PREP&) [with PREP = p_holm_min; Rcpp::List = Rcpp::Vector<19>; Rcpp::NumericVector = Rcpp::Vector<14, Rcpp::PreserveStorage>; Rcpp::IntegerVector = Rcpp::Vector<13>; Rcpp::RObject = Rcpp::RObject_Impl<Rcpp::PreserveStorage>]': combine_group.cpp:96:82: required from here combine_group.cpp:41:26: warning: comparison of integer expressions of different signedness: 'size_t' {aka 'long long unsigned int'} and 'R_xlen_t' {aka 'long long int'} [-Wsign-compare] for (size_t g = 0; g < runs.size(); ++g) { ~~^~~~~~~~~~~~~ combine_group.cpp:68:17: warning: comparison of integer expressions of different signedness: 'size_t' {aka 'long long unsigned int'} and 'R_xlen_t' {aka 'long long int'} [-Wsign-compare] if (counter != pvals.size()) { ~~~~~~~~^~~~~~~~~~~~~~~ combine_group.cpp: In instantiation of 'Rcpp::List compute_grouped(Rcpp::NumericVector, Rcpp::IntegerVector, Rcpp::RObject, bool, const PREP&) [with PREP = p_stouffer; Rcpp::List = Rcpp::Vector<19>; Rcpp::NumericVector = Rcpp::Vector<14, Rcpp::PreserveStorage>; Rcpp::IntegerVector = Rcpp::Vector<13>; Rcpp::RObject = Rcpp::RObject_Impl<Rcpp::PreserveStorage>]': combine_group.cpp:101:67: required from here combine_group.cpp:41:26: warning: comparison of integer expressions of different signedness: 'size_t' {aka 'long long unsigned int'} and 'R_xlen_t' {aka 'long long int'} [-Wsign-compare] for (size_t g = 0; g < runs.size(); ++g) { ~~^~~~~~~~~~~~~ combine_group.cpp:68:17: warning: comparison of integer expressions of different signedness: 'size_t' {aka 'long long unsigned int'} and 'R_xlen_t' {aka 'long long int'} [-Wsign-compare] if (counter != pvals.size()) { ~~~~~~~~^~~~~~~~~~~~~~~ combine_group.cpp: In instantiation of 'Rcpp::List compute_grouped(Rcpp::NumericVector, Rcpp::IntegerVector, Rcpp::RObject, bool, const PREP&) [with PREP = p_fisher; Rcpp::List = Rcpp::Vector<19>; Rcpp::NumericVector = Rcpp::Vector<14, Rcpp::PreserveStorage>; Rcpp::IntegerVector = Rcpp::Vector<13>; Rcpp::RObject = Rcpp::RObject_Impl<Rcpp::PreserveStorage>]': combine_group.cpp:106:65: required from here combine_group.cpp:41:26: warning: comparison of integer expressions of different signedness: 'size_t' {aka 'long long unsigned int'} and 'R_xlen_t' {aka 'long long int'} [-Wsign-compare] for (size_t g = 0; g < runs.size(); ++g) { ~~^~~~~~~~~~~~~ combine_group.cpp:68:17: warning: comparison of integer expressions of different signedness: 'size_t' {aka 'long long unsigned int'} and 'R_xlen_t' {aka 'long long int'} [-Wsign-compare] if (counter != pvals.size()) { ~~~~~~~~^~~~~~~~~~~~~~~ combine_group.cpp: In instantiation of 'Rcpp::List compute_grouped(Rcpp::NumericVector, Rcpp::IntegerVector, Rcpp::RObject, bool, const PREP&) [with PREP = p_pearson; Rcpp::List = Rcpp::Vector<19>; Rcpp::NumericVector = Rcpp::Vector<14, Rcpp::PreserveStorage>; Rcpp::IntegerVector = Rcpp::Vector<13>; Rcpp::RObject = Rcpp::RObject_Impl<Rcpp::PreserveStorage>]': combine_group.cpp:111:66: required from here combine_group.cpp:41:26: warning: comparison of integer expressions of different signedness: 'size_t' {aka 'long long unsigned int'} and 'R_xlen_t' {aka 'long long int'} [-Wsign-compare] for (size_t g = 0; g < runs.size(); ++g) { ~~^~~~~~~~~~~~~ combine_group.cpp:68:17: warning: comparison of integer expressions of different signedness: 'size_t' {aka 'long long unsigned int'} and 'R_xlen_t' {aka 'long long int'} [-Wsign-compare] if (counter != pvals.size()) { ~~~~~~~~^~~~~~~~~~~~~~~ "C:/rtools40/mingw64/bin/"g++ -std=gnu++11 -I"C:/Users/BIOCBU~1/BBS-3~1.13-/R/include" -DNDEBUG -I'C:/Users/biocbuild/bbs-3.13-bioc/R/library/Rcpp/include' -I"C:/extsoft/include" -O2 -Wall -mfpmath=sse -msse2 -mstackrealign -c combine_parallel.cpp -o combine_parallel.o combine_parallel.cpp: In constructor 'parallel_weight_server::parallel_weight_server(size_t, size_t, Rcpp::RObject)': combine_parallel.cpp:28:36: warning: comparison of integer expressions of different signedness: 'R_xlen_t' {aka 'long long int'} and 'const size_t' {aka 'const long long unsigned int'} [-Wsign-compare] if (wrepeat.size() != nvectors) { ~~~~~~~~~~~~~~~^~~~~~~~~~~ In file included from p_berger.h:4, from combine_parallel.cpp:1: utils.h: In instantiation of 'parallel_vectors<V>::parallel_vectors(Rcpp::List) [with V = Rcpp::Vector<14, Rcpp::PreserveStorage>; Rcpp::List = Rcpp::Vector<19>]': combine_parallel.cpp:20:82: required from here utils.h:72:31: warning: comparison of integer expressions of different signedness: 'size_t' {aka 'long long unsigned int'} and 'R_xlen_t' {aka 'long long int'} [-Wsign-compare] if (nelements != vectors[p].size()) { "C:/rtools40/mingw64/bin/"g++ -std=gnu++11 -I"C:/Users/BIOCBU~1/BBS-3~1.13-/R/include" -DNDEBUG -I'C:/Users/biocbuild/bbs-3.13-bioc/R/library/Rcpp/include' -I"C:/extsoft/include" -O2 -Wall -mfpmath=sse -msse2 -mstackrealign -c count_direction.cpp -o count_direction.o count_direction.cpp: In function 'Rcpp::List count_grouped_direction(Rcpp::NumericVector, Rcpp::IntegerVector, Rcpp::NumericVector, int, double, double, bool)': count_direction.cpp:95:26: warning: comparison of integer expressions of different signedness: 'size_t' {aka 'long long unsigned int'} and 'R_xlen_t' {aka 'long long int'} [-Wsign-compare] for (size_t g = 0; g < runs.size(); ++g) { ~~^~~~~~~~~~~~~ count_direction.cpp:98:25: warning: comparison of integer expressions of different signedness: 'size_t' {aka 'long long unsigned int'} and 'R_xlen_t' {aka 'long long int'} [-Wsign-compare] if (counter >= pvalues.size()) { ~~~~~~~~^~~~~~~~~~~~~~~~~ count_direction.cpp:120:17: warning: comparison of integer expressions of different signedness: 'size_t' {aka 'long long unsigned int'} and 'R_xlen_t' {aka 'long long int'} [-Wsign-compare] if (counter != pvalues.size()) { ~~~~~~~~^~~~~~~~~~~~~~~~~ In file included from count_direction.cpp:2: utils.h: In instantiation of 'parallel_vectors<V>::parallel_vectors(Rcpp::List) [with V = Rcpp::Vector<14, Rcpp::PreserveStorage>; Rcpp::List = Rcpp::Vector<19>]': count_direction.cpp:40:58: required from here utils.h:72:31: warning: comparison of integer expressions of different signedness: 'size_t' {aka 'long long unsigned int'} and 'R_xlen_t' {aka 'long long int'} [-Wsign-compare] if (nelements != vectors[p].size()) { "C:/rtools40/mingw64/bin/"g++ -std=gnu++11 -I"C:/Users/BIOCBU~1/BBS-3~1.13-/R/include" -DNDEBUG -I'C:/Users/biocbuild/bbs-3.13-bioc/R/library/Rcpp/include' -I"C:/extsoft/include" -O2 -Wall -mfpmath=sse -msse2 -mstackrealign -c summarize_direction.cpp -o summarize_direction.o summarize_direction.cpp: In function 'Rcpp::IntegerVector summarize_grouped_direction(Rcpp::NumericVector, Rcpp::IntegerVector, Rcpp::LogicalVector, double)': summarize_direction.cpp:43:26: warning: comparison of integer expressions of different signedness: 'size_t' {aka 'long long unsigned int'} and 'R_xlen_t' {aka 'long long int'} [-Wsign-compare] for (size_t g = 0; g < runs.size(); ++g) { ~~^~~~~~~~~~~~~ summarize_direction.cpp:46:25: warning: comparison of integer expressions of different signedness: 'size_t' {aka 'long long unsigned int'} and 'R_xlen_t' {aka 'long long int'} [-Wsign-compare] if (counter >= effects.size()) { ~~~~~~~~^~~~~~~~~~~~~~~~~ summarize_direction.cpp:61:17: warning: comparison of integer expressions of different signedness: 'size_t' {aka 'long long unsigned int'} and 'R_xlen_t' {aka 'long long int'} [-Wsign-compare] if (counter != effects.size()) { ~~~~~~~~^~~~~~~~~~~~~~~~~ In file included from summarize_direction.cpp:2: utils.h: In instantiation of 'parallel_vectors<V>::parallel_vectors(Rcpp::List) [with V = Rcpp::Vector<14, Rcpp::PreserveStorage>; Rcpp::List = Rcpp::Vector<19>]': summarize_direction.cpp:10:58: required from here utils.h:72:31: warning: comparison of integer expressions of different signedness: 'size_t' {aka 'long long unsigned int'} and 'R_xlen_t' {aka 'long long int'} [-Wsign-compare] if (nelements != vectors[p].size()) { utils.h: In instantiation of 'parallel_vectors<V>::parallel_vectors(Rcpp::List) [with V = Rcpp::Vector<10, Rcpp::PreserveStorage>; Rcpp::List = Rcpp::Vector<19>]': summarize_direction.cpp:11:66: required from here utils.h:72:31: warning: comparison of integer expressions of different signedness: 'size_t' {aka 'long long unsigned int'} and 'R_xlen_t' {aka 'long long int'} [-Wsign-compare] C:/rtools40/mingw64/bin/g++ -shared -s -static-libgcc -o metapod.dll tmp.def RcppExports.o combine_group.o combine_parallel.o count_direction.o summarize_direction.o -LC:/extsoft/lib/x64 -LC:/extsoft/lib -LC:/Users/BIOCBU~1/BBS-3~1.13-/R/bin/x64 -lR installing to C:/Users/biocbuild/bbs-3.13-bioc/meat/metapod.buildbin-libdir/metapod/libs/x64 ** testing if installed package can be loaded * MD5 sums packaged installation of 'metapod' as metapod_1.0.0.zip * DONE (metapod) * installing to library 'C:/Users/biocbuild/bbs-3.13-bioc/R/library' package 'metapod' successfully unpacked and MD5 sums checked