| Back to Multiple platform build/check report for BioC 3.13 |
|
This page was generated on 2021-10-15 15:06:11 -0400 (Fri, 15 Oct 2021).
|
To the developers/maintainers of the metabolomicsWorkbenchR package: - Please allow up to 24 hours (and sometimes 48 hours) for your latest push to git@git.bioconductor.org:packages/metabolomicsWorkbenchR.git to reflect on this report. See How and When does the builder pull? When will my changes propagate? here for more information. - Make sure to use the following settings in order to reproduce any error or warning you see on this page. |
| Package 1079/2041 | Hostname | OS / Arch | INSTALL | BUILD | CHECK | BUILD BIN | ||||||||
| metabolomicsWorkbenchR 1.2.0 (landing page) Gavin Rhys Lloyd
| nebbiolo1 | Linux (Ubuntu 20.04.2 LTS) / x86_64 | OK | OK | OK | |||||||||
| tokay2 | Windows Server 2012 R2 Standard / x64 | OK | OK | OK | OK | |||||||||
| machv2 | macOS 10.14.6 Mojave / x86_64 | OK | OK | OK | OK | |||||||||
| Package: metabolomicsWorkbenchR |
| Version: 1.2.0 |
| Command: C:\cygwin\bin\curl.exe -O http://155.52.207.165/BBS/3.13/bioc/src/contrib/metabolomicsWorkbenchR_1.2.0.tar.gz && rm -rf metabolomicsWorkbenchR.buildbin-libdir && mkdir metabolomicsWorkbenchR.buildbin-libdir && C:\Users\biocbuild\bbs-3.13-bioc\R\bin\R.exe CMD INSTALL --merge-multiarch --build --library=metabolomicsWorkbenchR.buildbin-libdir metabolomicsWorkbenchR_1.2.0.tar.gz && C:\Users\biocbuild\bbs-3.13-bioc\R\bin\R.exe CMD INSTALL metabolomicsWorkbenchR_1.2.0.zip && rm metabolomicsWorkbenchR_1.2.0.tar.gz metabolomicsWorkbenchR_1.2.0.zip |
| StartedAt: 2021-10-14 10:49:12 -0400 (Thu, 14 Oct 2021) |
| EndedAt: 2021-10-14 10:50:43 -0400 (Thu, 14 Oct 2021) |
| EllapsedTime: 90.5 seconds |
| RetCode: 0 |
| Status: OK |
##############################################################################
##############################################################################
###
### Running command:
###
### C:\cygwin\bin\curl.exe -O http://155.52.207.165/BBS/3.13/bioc/src/contrib/metabolomicsWorkbenchR_1.2.0.tar.gz && rm -rf metabolomicsWorkbenchR.buildbin-libdir && mkdir metabolomicsWorkbenchR.buildbin-libdir && C:\Users\biocbuild\bbs-3.13-bioc\R\bin\R.exe CMD INSTALL --merge-multiarch --build --library=metabolomicsWorkbenchR.buildbin-libdir metabolomicsWorkbenchR_1.2.0.tar.gz && C:\Users\biocbuild\bbs-3.13-bioc\R\bin\R.exe CMD INSTALL metabolomicsWorkbenchR_1.2.0.zip && rm metabolomicsWorkbenchR_1.2.0.tar.gz metabolomicsWorkbenchR_1.2.0.zip
###
##############################################################################
##############################################################################
% Total % Received % Xferd Average Speed Time Time Time Current
Dload Upload Total Spent Left Speed
0 0 0 0 0 0 0 0 --:--:-- --:--:-- --:--:-- 0
85 1165k 85 1000k 0 0 1255k 0 --:--:-- --:--:-- --:--:-- 1255k
100 1165k 100 1165k 0 0 1335k 0 --:--:-- --:--:-- --:--:-- 1336k
install for i386
* installing *source* package 'metabolomicsWorkbenchR' ...
** using staged installation
** R
** byte-compile and prepare package for lazy loading
** help
*** installing help indices
converting help for package 'metabolomicsWorkbenchR'
finding HTML links ... done
check_pattern html
check_puts html
context html
context_inputs html
context_outputs html
do_query html
input_example html
input_item html
is_valid html
metabolomicsWorkbenchR html
mw_base html
output_item html
** building package indices
** installing vignettes
** testing if installed package can be loaded from temporary location
** testing if installed package can be loaded from final location
** testing if installed package keeps a record of temporary installation path
install for x64
* installing *source* package 'metabolomicsWorkbenchR' ...
** testing if installed package can be loaded
* MD5 sums
packaged installation of 'metabolomicsWorkbenchR' as metabolomicsWorkbenchR_1.2.0.zip
* DONE (metabolomicsWorkbenchR)
* installing to library 'C:/Users/biocbuild/bbs-3.13-bioc/R/library'
package 'metabolomicsWorkbenchR' successfully unpacked and MD5 sums checked