Back to Multiple platform build/check report for BioC 3.13 |
|
This page was generated on 2021-10-15 15:06:11 -0400 (Fri, 15 Oct 2021).
To the developers/maintainers of the memes package: - Please allow up to 24 hours (and sometimes 48 hours) for your latest push to git@git.bioconductor.org:packages/memes.git to reflect on this report. See How and When does the builder pull? When will my changes propagate? here for more information. - Make sure to use the following settings in order to reproduce any error or warning you see on this page. |
Package 1069/2041 | Hostname | OS / Arch | INSTALL | BUILD | CHECK | BUILD BIN | ||||||||
memes 1.0.4 (landing page) Spencer Nystrom
| nebbiolo1 | Linux (Ubuntu 20.04.2 LTS) / x86_64 | OK | OK | OK | ![]() | ||||||||
tokay2 | Windows Server 2012 R2 Standard / x64 | OK | OK | OK | OK | ![]() | ||||||||
machv2 | macOS 10.14.6 Mojave / x86_64 | OK | OK | OK | OK | ![]() | ||||||||
Package: memes |
Version: 1.0.4 |
Command: C:\cygwin\bin\curl.exe -O http://155.52.207.165/BBS/3.13/bioc/src/contrib/memes_1.0.4.tar.gz && rm -rf memes.buildbin-libdir && mkdir memes.buildbin-libdir && C:\Users\biocbuild\bbs-3.13-bioc\R\bin\R.exe CMD INSTALL --merge-multiarch --build --library=memes.buildbin-libdir memes_1.0.4.tar.gz && C:\Users\biocbuild\bbs-3.13-bioc\R\bin\R.exe CMD INSTALL memes_1.0.4.zip && rm memes_1.0.4.tar.gz memes_1.0.4.zip |
StartedAt: 2021-10-14 09:46:23 -0400 (Thu, 14 Oct 2021) |
EndedAt: 2021-10-14 09:47:21 -0400 (Thu, 14 Oct 2021) |
EllapsedTime: 58.5 seconds |
RetCode: 0 |
Status: OK |
############################################################################## ############################################################################## ### ### Running command: ### ### C:\cygwin\bin\curl.exe -O http://155.52.207.165/BBS/3.13/bioc/src/contrib/memes_1.0.4.tar.gz && rm -rf memes.buildbin-libdir && mkdir memes.buildbin-libdir && C:\Users\biocbuild\bbs-3.13-bioc\R\bin\R.exe CMD INSTALL --merge-multiarch --build --library=memes.buildbin-libdir memes_1.0.4.tar.gz && C:\Users\biocbuild\bbs-3.13-bioc\R\bin\R.exe CMD INSTALL memes_1.0.4.zip && rm memes_1.0.4.tar.gz memes_1.0.4.zip ### ############################################################################## ############################################################################## % Total % Received % Xferd Average Speed Time Time Time Current Dload Upload Total Spent Left Speed 0 0 0 0 0 0 0 0 --:--:-- --:--:-- --:--:-- 0 10 889k 10 95877 0 0 470k 0 0:00:01 --:--:-- 0:00:01 470k 100 889k 100 889k 0 0 2087k 0 --:--:-- --:--:-- --:--:-- 2087k install for i386 * installing *source* package 'memes' ... ** using staged installation ** R ** data *** moving datasets to lazyload DB ** inst ** byte-compile and prepare package for lazy loading ** help *** installing help indices converting help for package 'memes' finding HTML links ... done add_sequence html ame_compare_heatmap_methods html check_meme_install html drop_best_match html example_ame html example_ame_large html example_chip_summits html example_dreme html example_dreme_by_binding html example_dreme_tomtom html example_fimo html example_peaks html example_rnaseq html example_tomtom html force_best_match html get_sequence html has_duplicate_motifs html importAme html importDremeXML html importFimo html importMeme html importStremeXML html importTomTomXML html meme_is_installed html memes-package html nest_tomtom html plot_ame_heatmap html plot_sequence_heatmap html remove_duplicate_motifs html runAme html runDreme html runFimo html runMeme html runStreme html runTomTom html update_best_match html view_tomtom_hits html write_fasta html *** copying figures ** building package indices ** installing vignettes ** testing if installed package can be loaded from temporary location ** testing if installed package can be loaded from final location ** testing if installed package keeps a record of temporary installation path install for x64 * installing *source* package 'memes' ... ** testing if installed package can be loaded * MD5 sums packaged installation of 'memes' as memes_1.0.4.zip * DONE (memes) * installing to library 'C:/Users/biocbuild/bbs-3.13-bioc/R/library' package 'memes' successfully unpacked and MD5 sums checked