| Back to Multiple platform build/check report for BioC 3.13 | 
 | 
This page was generated on 2021-10-15 15:06:10 -0400 (Fri, 15 Oct 2021).
| To the developers/maintainers of the matchBox package: - Please allow up to 24 hours (and sometimes 48 hours) for your latest push to git@git.bioconductor.org:packages/matchBox.git to reflect on this report. See How and When does the builder pull? When will my changes propagate? here for more information. - Make sure to use the following settings in order to reproduce any error or warning you see on this page. | 
| Package 1042/2041 | Hostname | OS / Arch | INSTALL | BUILD | CHECK | BUILD BIN | ||||||||
| matchBox 1.34.0  (landing page) Luigi Marchionni 
 | nebbiolo1 | Linux (Ubuntu 20.04.2 LTS) / x86_64 | OK | OK | OK |  | ||||||||
| tokay2 | Windows Server 2012 R2 Standard / x64 | OK | OK | OK | OK |  | ||||||||
| machv2 | macOS 10.14.6 Mojave / x86_64 | OK | OK | OK | OK |  | ||||||||
| Package: matchBox | 
| Version: 1.34.0 | 
| Command: rm -rf matchBox.buildbin-libdir && mkdir matchBox.buildbin-libdir && C:\Users\biocbuild\bbs-3.13-bioc\R\bin\R.exe CMD INSTALL --merge-multiarch --build --library=matchBox.buildbin-libdir matchBox_1.34.0.tar.gz | 
| StartedAt: 2021-10-15 10:12:23 -0400 (Fri, 15 Oct 2021) | 
| EndedAt: 2021-10-15 10:13:54 -0400 (Fri, 15 Oct 2021) | 
| EllapsedTime: 91.8 seconds | 
| RetCode: 0 | 
| Status: OK | 
| PackageFile: matchBox_1.34.0.zip | 
| PackageFileSize: 687.1 KiB | 
##############################################################################
##############################################################################
###
### Running command:
###
###   rm -rf matchBox.buildbin-libdir && mkdir matchBox.buildbin-libdir && C:\Users\biocbuild\bbs-3.13-bioc\R\bin\R.exe CMD INSTALL --merge-multiarch --build --library=matchBox.buildbin-libdir matchBox_1.34.0.tar.gz
###
##############################################################################
##############################################################################
install for i386
* installing *source* package 'matchBox' ...
** using staged installation
** R
** data
** inst
** byte-compile and prepare package for lazy loading
** help
*** installing help indices
  converting help for package 'matchBox'
    finding HTML links ... done
    calcHypPI                               html  
    computeCat                              html  
    filterRedundant                         html  
    matchBox-package                        html  
    matchBoxExpression                      html  
    mergeData                               html  
    plotCat                                 html  
** building package indices
** installing vignettes
** testing if installed package can be loaded from temporary location
** testing if installed package can be loaded from final location
** testing if installed package keeps a record of temporary installation path
install for x64
* installing *source* package 'matchBox' ...
** testing if installed package can be loaded
* MD5 sums
packaged installation of 'matchBox' as matchBox_1.34.0.zip
* DONE (matchBox)