| Back to Multiple platform build/check report for BioC 3.13 | 
 | 
This page was generated on 2021-10-15 15:06:10 -0400 (Fri, 15 Oct 2021).
| To the developers/maintainers of the massiR package: - Please allow up to 24 hours (and sometimes 48 hours) for your latest push to git@git.bioconductor.org:packages/massiR.git to reflect on this report. See How and When does the builder pull? When will my changes propagate? here for more information. - Make sure to use the following settings in order to reproduce any error or warning you see on this page. | 
| Package 1039/2041 | Hostname | OS / Arch | INSTALL | BUILD | CHECK | BUILD BIN | ||||||||
| massiR 1.28.0  (landing page) Sam Buckberry 
 | nebbiolo1 | Linux (Ubuntu 20.04.2 LTS) / x86_64 | OK | OK | OK |  | ||||||||
| tokay2 | Windows Server 2012 R2 Standard / x64 | OK | OK | OK | OK |  | ||||||||
| machv2 | macOS 10.14.6 Mojave / x86_64 | OK | OK | OK | OK |  | ||||||||
| Package: massiR | 
| Version: 1.28.0 | 
| Command: rm -rf massiR.buildbin-libdir && mkdir massiR.buildbin-libdir && C:\Users\biocbuild\bbs-3.13-bioc\R\bin\R.exe CMD INSTALL --merge-multiarch --build --library=massiR.buildbin-libdir massiR_1.28.0.tar.gz | 
| StartedAt: 2021-10-15 10:11:58 -0400 (Fri, 15 Oct 2021) | 
| EndedAt: 2021-10-15 10:13:29 -0400 (Fri, 15 Oct 2021) | 
| EllapsedTime: 90.8 seconds | 
| RetCode: 0 | 
| Status: OK | 
| PackageFile: massiR_1.28.0.zip | 
| PackageFileSize: 1.137 MiB | 
##############################################################################
##############################################################################
###
### Running command:
###
###   rm -rf massiR.buildbin-libdir && mkdir massiR.buildbin-libdir && C:\Users\biocbuild\bbs-3.13-bioc\R\bin\R.exe CMD INSTALL --merge-multiarch --build --library=massiR.buildbin-libdir massiR_1.28.0.tar.gz
###
##############################################################################
##############################################################################
install for i386
* installing *source* package 'massiR' ...
** using staged installation
** R
** data
*** moving datasets to lazyload DB
** inst
** byte-compile and prepare package for lazy loading
** help
*** installing help indices
  converting help for package 'massiR'
    finding HTML links ... done
    massi.test.dataset                      html  
    massi.test.probes                       html  
    massiR-package                          html  
    massi_cluster                           html  
    massi_cluster_plot                      html  
    massi_dip                               html  
    massi_eset                              html  
    massi_select                            html  
    massi_y                                 html  
    massi_y_plot                            html  
    y_probes                                html  
** building package indices
** installing vignettes
** testing if installed package can be loaded from temporary location
** testing if installed package can be loaded from final location
** testing if installed package keeps a record of temporary installation path
install for x64
* installing *source* package 'massiR' ...
** testing if installed package can be loaded
* MD5 sums
packaged installation of 'massiR' as massiR_1.28.0.zip
* DONE (massiR)