| Back to Multiple platform build/check report for BioC 3.13 | 
 | 
This page was generated on 2021-10-15 15:06:10 -0400 (Fri, 15 Oct 2021).
| To the developers/maintainers of the macat package: - Please allow up to 24 hours (and sometimes 48 hours) for your latest push to git@git.bioconductor.org:packages/macat.git to reflect on this report. See How and When does the builder pull? When will my changes propagate? here for more information. - Make sure to use the following settings in order to reproduce any error or warning you see on this page. | 
| Package 1014/2041 | Hostname | OS / Arch | INSTALL | BUILD | CHECK | BUILD BIN | ||||||||
| macat 1.66.0  (landing page) Joern Toedling 
 | nebbiolo1 | Linux (Ubuntu 20.04.2 LTS) / x86_64 | OK | OK | OK |  | ||||||||
| tokay2 | Windows Server 2012 R2 Standard / x64 | OK | OK | OK | OK |  | ||||||||
| machv2 | macOS 10.14.6 Mojave / x86_64 | OK | OK | OK | OK |  | ||||||||
| Package: macat | 
| Version: 1.66.0 | 
| Command: C:\cygwin\bin\curl.exe -O http://155.52.207.165/BBS/3.13/bioc/src/contrib/macat_1.66.0.tar.gz && rm -rf macat.buildbin-libdir && mkdir macat.buildbin-libdir && C:\Users\biocbuild\bbs-3.13-bioc\R\bin\R.exe CMD INSTALL --merge-multiarch --build --library=macat.buildbin-libdir macat_1.66.0.tar.gz && C:\Users\biocbuild\bbs-3.13-bioc\R\bin\R.exe CMD INSTALL macat_1.66.0.zip && rm macat_1.66.0.tar.gz macat_1.66.0.zip | 
| StartedAt: 2021-10-14 09:10:32 -0400 (Thu, 14 Oct 2021) | 
| EndedAt: 2021-10-14 09:11:30 -0400 (Thu, 14 Oct 2021) | 
| EllapsedTime: 57.5 seconds | 
| RetCode: 0 | 
| Status: OK | 
##############################################################################
##############################################################################
###
### Running command:
###
###   C:\cygwin\bin\curl.exe -O http://155.52.207.165/BBS/3.13/bioc/src/contrib/macat_1.66.0.tar.gz && rm -rf macat.buildbin-libdir && mkdir macat.buildbin-libdir && C:\Users\biocbuild\bbs-3.13-bioc\R\bin\R.exe CMD INSTALL --merge-multiarch --build --library=macat.buildbin-libdir macat_1.66.0.tar.gz && C:\Users\biocbuild\bbs-3.13-bioc\R\bin\R.exe CMD INSTALL macat_1.66.0.zip && rm macat_1.66.0.tar.gz macat_1.66.0.zip
###
##############################################################################
##############################################################################
  % Total    % Received % Xferd  Average Speed   Time    Time     Time  Current
                                 Dload  Upload   Total   Spent    Left  Speed
  0     0    0     0    0     0      0      0 --:--:-- --:--:-- --:--:--     0
100  641k  100  641k    0     0  1699k      0 --:--:-- --:--:-- --:--:-- 1702k
install for i386
* installing *source* package 'macat' ...
** using staged installation
** R
** data
** demo
** inst
** byte-compile and prepare package for lazy loading
** help
*** installing help indices
  converting help for package 'macat'
    finding HTML links ... done
    buildMACAT                              html  
    compute_sliding                         html  
    discreteKernelize                       html  
    discretize                              html  
    discretizeAll                           html  
    discretize_tscores                      html  
    evalScoring                             html  
    evaluateParameters                      html  
    get_results                             html  
    html                                    html  
    kernelize                               html  
    kernelizeAll                            html  
    kernelizeToPython                       html  
    kernels                                 html  
    loaddatapkg                             html  
    macat-internal                          html  
    plot_MACATevalScoring                   html  
    preprocessedLoader                      html  
    pythondata                              html  
    scoring                                 html  
    stjd                                    html  
** building package indices
** installing vignettes
** testing if installed package can be loaded from temporary location
** testing if installed package can be loaded from final location
** testing if installed package keeps a record of temporary installation path
install for x64
* installing *source* package 'macat' ...
** testing if installed package can be loaded
* MD5 sums
packaged installation of 'macat' as macat_1.66.0.zip
* DONE (macat)
* installing to library 'C:/Users/biocbuild/bbs-3.13-bioc/R/library'
package 'macat' successfully unpacked and MD5 sums checked