| Back to Multiple platform build/check report for BioC 3.13 |
|
This page was generated on 2021-10-15 15:05:44 -0400 (Fri, 15 Oct 2021).
|
To the developers/maintainers of the mCSEA package: - Please allow up to 24 hours (and sometimes 48 hours) for your latest push to git@git.bioconductor.org:packages/mCSEA.git to reflect on this report. See How and When does the builder pull? When will my changes propagate? here for more information. - Make sure to use the following settings in order to reproduce any error or warning you see on this page. |
| Package 1055/2041 | Hostname | OS / Arch | INSTALL | BUILD | CHECK | BUILD BIN | ||||||||
| mCSEA 1.12.0 (landing page) Jordi Martorell-Marugán
| nebbiolo1 | Linux (Ubuntu 20.04.2 LTS) / x86_64 | OK | OK | OK | |||||||||
| tokay2 | Windows Server 2012 R2 Standard / x64 | OK | OK | OK | OK | |||||||||
| machv2 | macOS 10.14.6 Mojave / x86_64 | OK | OK | OK | OK | |||||||||
| Package: mCSEA |
| Version: 1.12.0 |
| Command: /home/biocbuild/bbs-3.13-bioc/R/bin/R CMD check --install=check:mCSEA.install-out.txt --library=/home/biocbuild/bbs-3.13-bioc/R/library --no-vignettes --timings mCSEA_1.12.0.tar.gz |
| StartedAt: 2021-10-14 10:27:49 -0400 (Thu, 14 Oct 2021) |
| EndedAt: 2021-10-14 10:32:44 -0400 (Thu, 14 Oct 2021) |
| EllapsedTime: 295.4 seconds |
| RetCode: 0 |
| Status: OK |
| CheckDir: mCSEA.Rcheck |
| Warnings: 0 |
##############################################################################
##############################################################################
###
### Running command:
###
### /home/biocbuild/bbs-3.13-bioc/R/bin/R CMD check --install=check:mCSEA.install-out.txt --library=/home/biocbuild/bbs-3.13-bioc/R/library --no-vignettes --timings mCSEA_1.12.0.tar.gz
###
##############################################################################
##############################################################################
* using log directory ‘/home/biocbuild/bbs-3.13-bioc/meat/mCSEA.Rcheck’
* using R version 4.1.1 (2021-08-10)
* using platform: x86_64-pc-linux-gnu (64-bit)
* using session charset: UTF-8
* using option ‘--no-vignettes’
* checking for file ‘mCSEA/DESCRIPTION’ ... OK
* checking extension type ... Package
* this is package ‘mCSEA’ version ‘1.12.0’
* package encoding: UTF-8
* checking package namespace information ... OK
* checking package dependencies ... OK
* checking if this is a source package ... OK
* checking if there is a namespace ... OK
* checking for hidden files and directories ... OK
* checking for portable file names ... OK
* checking for sufficient/correct file permissions ... OK
* checking whether package ‘mCSEA’ can be installed ... OK
* checking installed package size ... OK
* checking package directory ... OK
* checking ‘build’ directory ... OK
* checking DESCRIPTION meta-information ... OK
* checking top-level files ... OK
* checking for left-over files ... OK
* checking index information ... OK
* checking package subdirectories ... OK
* checking R files for non-ASCII characters ... OK
* checking R files for syntax errors ... OK
* checking whether the package can be loaded ... OK
* checking whether the package can be loaded with stated dependencies ... OK
* checking whether the package can be unloaded cleanly ... OK
* checking whether the namespace can be loaded with stated dependencies ... OK
* checking whether the namespace can be unloaded cleanly ... OK
* checking dependencies in R code ... OK
* checking S3 generic/method consistency ... OK
* checking replacement functions ... OK
* checking foreign function calls ... OK
* checking R code for possible problems ... OK
* checking Rd files ... OK
* checking Rd metadata ... OK
* checking Rd cross-references ... OK
* checking for missing documentation entries ... OK
* checking for code/documentation mismatches ... OK
* checking Rd \usage sections ... OK
* checking Rd contents ... OK
* checking for unstated dependencies in examples ... OK
* checking contents of ‘data’ directory ... OK
* checking data for non-ASCII characters ... OK
* checking LazyData ... OK
* checking data for ASCII and uncompressed saves ... OK
* checking files in ‘vignettes’ ... OK
* checking examples ... OK
Examples with CPU (user + system) or elapsed time > 5s
user system elapsed
mCSEAPlot 13.781 1.773 17.056
mCSEAIntegrate 5.612 0.337 21.602
* checking for unstated dependencies in ‘tests’ ... OK
* checking tests ...
Running ‘runTests.R’
OK
* checking for unstated dependencies in vignettes ... OK
* checking package vignettes in ‘inst/doc’ ... OK
* checking running R code from vignettes ... SKIPPED
* checking re-building of vignette outputs ... SKIPPED
* checking PDF version of manual ... OK
* DONE
Status: OK
mCSEA.Rcheck/00install.out
############################################################################## ############################################################################## ### ### Running command: ### ### /home/biocbuild/bbs-3.13-bioc/R/bin/R CMD INSTALL mCSEA ### ############################################################################## ############################################################################## * installing to library ‘/home/biocbuild/bbs-3.13-bioc/R/library’ * installing *source* package ‘mCSEA’ ... ** using staged installation ** R ** data *** moving datasets to lazyload DB ** inst ** byte-compile and prepare package for lazy loading ** help *** installing help indices ** building package indices ** installing vignettes ** testing if installed package can be loaded from temporary location ** testing if installed package can be loaded from final location ** testing if installed package keeps a record of temporary installation path * DONE (mCSEA)
mCSEA.Rcheck/tests/runTests.Rout
R version 4.1.1 (2021-08-10) -- "Kick Things"
Copyright (C) 2021 The R Foundation for Statistical Computing
Platform: x86_64-pc-linux-gnu (64-bit)
R is free software and comes with ABSOLUTELY NO WARRANTY.
You are welcome to redistribute it under certain conditions.
Type 'license()' or 'licence()' for distribution details.
R is a collaborative project with many contributors.
Type 'contributors()' for more information and
'citation()' on how to cite R or R packages in publications.
Type 'demo()' for some demos, 'help()' for on-line help, or
'help.start()' for an HTML browser interface to help.
Type 'q()' to quit R.
> BiocGenerics:::testPackage("mCSEA")
Attaching package: 'BiocGenerics'
The following objects are masked from 'package:parallel':
clusterApply, clusterApplyLB, clusterCall, clusterEvalQ,
clusterExport, clusterMap, parApply, parCapply, parLapply,
parLapplyLB, parRapply, parSapply, parSapplyLB
The following objects are masked from 'package:stats':
IQR, mad, sd, var, xtabs
The following objects are masked from 'package:base':
Filter, Find, Map, Position, Reduce, anyDuplicated, append,
as.data.frame, basename, cbind, colnames, dirname, do.call,
duplicated, eval, evalq, get, grep, grepl, intersect, is.unsorted,
lapply, mapply, match, mget, order, paste, pmax, pmax.int, pmin,
pmin.int, rank, rbind, rownames, sapply, setdiff, sort, table,
tapply, union, unique, unsplit, which.max, which.min
Welcome to Bioconductor
Vignettes contain introductory material; view with
'browseVignettes()'. To cite Bioconductor, see
'citation("Biobase")', and for packages 'citation("pkgname")'.
Attaching package: 'S4Vectors'
The following objects are masked from 'package:base':
I, expand.grid, unname
Attaching package: 'mCSEA'
The following object is masked from 'package:mCSEAdata':
exprTest
0 genes removed from exprData due to Standar Deviation = 0
Integrating promoters methylation with gene expression
Associating CpG sites to promoters
Analysing promoters
0 DMRs found (padj < 0.05)
Transforming beta-values to M-values
Calculating linear model...
Explanatory variable: expla
Case group: Case
Reference group: Control
Total samples: 20
Covariates: None
Categorical variables: expla cov1
Continuous variables: None
RUNIT TEST PROTOCOL -- Thu Oct 14 10:32:41 2021
***********************************************
Number of test functions: 3
Number of errors: 0
Number of failures: 0
1 Test Suite :
mCSEA RUnit Tests - 3 test functions, 0 errors, 0 failures
Number of test functions: 3
Number of errors: 0
Number of failures: 0
Warning messages:
1: In preparePathwaysAndStats(pathways, stats, minSize, maxSize, gseaParam, :
There are ties in the preranked stats (15% of the list).
The order of those tied genes will be arbitrary, which may produce unexpected results.
2: In preparePathwaysAndStats(pathways, stats, minSize, maxSize, gseaParam, :
There are duplicate gene names, fgsea may produce unexpected results.
>
> proc.time()
user system elapsed
18.750 1.003 34.492
mCSEA.Rcheck/mCSEA-Ex.timings
| name | user | system | elapsed | |
| mCSEA-package | 0.099 | 0.008 | 0.107 | |
| mCSEAIntegrate | 5.612 | 0.337 | 21.602 | |
| mCSEAPlot | 13.781 | 1.773 | 17.056 | |
| mCSEAPlotGSEA | 0.275 | 0.024 | 0.299 | |
| mCSEATest | 0.045 | 0.008 | 0.053 | |
| rankProbes | 0.215 | 0.024 | 0.240 | |