| Back to Multiple platform build/check report for BioC 3.13 |
|
This page was generated on 2021-10-15 15:06:09 -0400 (Fri, 15 Oct 2021).
|
To the developers/maintainers of the lpNet package: - Please allow up to 24 hours (and sometimes 48 hours) for your latest push to git@git.bioconductor.org:packages/lpNet.git to reflect on this report. See How and When does the builder pull? When will my changes propagate? here for more information. - Make sure to use the following settings in order to reproduce any error or warning you see on this page. |
| Package 1004/2041 | Hostname | OS / Arch | INSTALL | BUILD | CHECK | BUILD BIN | ||||||||
| lpNet 2.24.0 (landing page) Lars Kaderali
| nebbiolo1 | Linux (Ubuntu 20.04.2 LTS) / x86_64 | OK | OK | WARNINGS | |||||||||
| tokay2 | Windows Server 2012 R2 Standard / x64 | OK | OK | WARNINGS | OK | |||||||||
| machv2 | macOS 10.14.6 Mojave / x86_64 | OK | OK | WARNINGS | OK | |||||||||
| Package: lpNet |
| Version: 2.24.0 |
| Command: C:\cygwin\bin\curl.exe -O http://155.52.207.165/BBS/3.13/bioc/src/contrib/lpNet_2.24.0.tar.gz && rm -rf lpNet.buildbin-libdir && mkdir lpNet.buildbin-libdir && C:\Users\biocbuild\bbs-3.13-bioc\R\bin\R.exe CMD INSTALL --merge-multiarch --build --library=lpNet.buildbin-libdir lpNet_2.24.0.tar.gz && C:\Users\biocbuild\bbs-3.13-bioc\R\bin\R.exe CMD INSTALL lpNet_2.24.0.zip && rm lpNet_2.24.0.tar.gz lpNet_2.24.0.zip |
| StartedAt: 2021-10-14 06:51:17 -0400 (Thu, 14 Oct 2021) |
| EndedAt: 2021-10-14 06:52:24 -0400 (Thu, 14 Oct 2021) |
| EllapsedTime: 66.9 seconds |
| RetCode: 0 |
| Status: OK |
##############################################################################
##############################################################################
###
### Running command:
###
### C:\cygwin\bin\curl.exe -O http://155.52.207.165/BBS/3.13/bioc/src/contrib/lpNet_2.24.0.tar.gz && rm -rf lpNet.buildbin-libdir && mkdir lpNet.buildbin-libdir && C:\Users\biocbuild\bbs-3.13-bioc\R\bin\R.exe CMD INSTALL --merge-multiarch --build --library=lpNet.buildbin-libdir lpNet_2.24.0.tar.gz && C:\Users\biocbuild\bbs-3.13-bioc\R\bin\R.exe CMD INSTALL lpNet_2.24.0.zip && rm lpNet_2.24.0.tar.gz lpNet_2.24.0.zip
###
##############################################################################
##############################################################################
% Total % Received % Xferd Average Speed Time Time Time Current
Dload Upload Total Spent Left Speed
0 0 0 0 0 0 0 0 --:--:-- --:--:-- --:--:-- 0
6 248k 6 16227 0 0 132k 0 0:00:01 --:--:-- 0:00:01 132k
100 248k 100 248k 0 0 928k 0 --:--:-- --:--:-- --:--:-- 928k
install for i386
* installing *source* package 'lpNet' ...
** using staged installation
** R
** data
** inst
** byte-compile and prepare package for lazy loading
** help
*** installing help indices
converting help for package 'lpNet'
finding HTML links ... done
CV html
calcActivation html
calcPrediction html
calcRangeLambda html
doILP html
generateTimeSeriesNetStates html
getAdja html
getBaseline html
getEdgeAnnot html
getObsMat html
getSampleAdja html
lpNet-package html
summarizeRepl html
** building package indices
** installing vignettes
** testing if installed package can be loaded from temporary location
** testing if installed package can be loaded from final location
** testing if installed package keeps a record of temporary installation path
install for x64
* installing *source* package 'lpNet' ...
** testing if installed package can be loaded
* MD5 sums
packaged installation of 'lpNet' as lpNet_2.24.0.zip
* DONE (lpNet)
* installing to library 'C:/Users/biocbuild/bbs-3.13-bioc/R/library'
package 'lpNet' successfully unpacked and MD5 sums checked