| Back to Multiple platform build/check report for BioC 3.13 |
|
This page was generated on 2021-10-15 15:06:40 -0400 (Fri, 15 Oct 2021).
|
To the developers/maintainers of the lisaClust package: - Please allow up to 24 hours (and sometimes 48 hours) for your latest push to git@git.bioconductor.org:packages/lisaClust.git to reflect on this report. See How and When does the builder pull? When will my changes propagate? here for more information. - Make sure to use the following settings in order to reproduce any error or warning you see on this page. |
| Package 993/2041 | Hostname | OS / Arch | INSTALL | BUILD | CHECK | BUILD BIN | ||||||||
| lisaClust 1.0.0 (landing page) Ellis Patrick
| nebbiolo1 | Linux (Ubuntu 20.04.2 LTS) / x86_64 | OK | OK | OK | |||||||||
| tokay2 | Windows Server 2012 R2 Standard / x64 | OK | OK | OK | OK | |||||||||
| machv2 | macOS 10.14.6 Mojave / x86_64 | OK | OK | OK | OK | |||||||||
| Package: lisaClust |
| Version: 1.0.0 |
| Command: /Library/Frameworks/R.framework/Versions/Current/Resources/bin/R CMD check --install=check:lisaClust.install-out.txt --library=/Library/Frameworks/R.framework/Versions/Current/Resources/library --no-vignettes --timings lisaClust_1.0.0.tar.gz |
| StartedAt: 2021-10-14 20:30:45 -0400 (Thu, 14 Oct 2021) |
| EndedAt: 2021-10-14 20:33:45 -0400 (Thu, 14 Oct 2021) |
| EllapsedTime: 179.9 seconds |
| RetCode: 0 |
| Status: OK |
| CheckDir: lisaClust.Rcheck |
| Warnings: 0 |
##############################################################################
##############################################################################
###
### Running command:
###
### /Library/Frameworks/R.framework/Versions/Current/Resources/bin/R CMD check --install=check:lisaClust.install-out.txt --library=/Library/Frameworks/R.framework/Versions/Current/Resources/library --no-vignettes --timings lisaClust_1.0.0.tar.gz
###
##############################################################################
##############################################################################
* using log directory ‘/Users/biocbuild/bbs-3.13-bioc/meat/lisaClust.Rcheck’
* using R version 4.1.1 (2021-08-10)
* using platform: x86_64-apple-darwin17.0 (64-bit)
* using session charset: UTF-8
* using option ‘--no-vignettes’
* checking for file ‘lisaClust/DESCRIPTION’ ... OK
* checking extension type ... Package
* this is package ‘lisaClust’ version ‘1.0.0’
* package encoding: UTF-8
* checking package namespace information ... OK
* checking package dependencies ... OK
* checking if this is a source package ... OK
* checking if there is a namespace ... OK
* checking for hidden files and directories ... OK
* checking for portable file names ... OK
* checking for sufficient/correct file permissions ... OK
* checking whether package ‘lisaClust’ can be installed ... OK
* checking installed package size ... OK
* checking package directory ... OK
* checking ‘build’ directory ... OK
* checking DESCRIPTION meta-information ... OK
* checking top-level files ... OK
* checking for left-over files ... OK
* checking index information ... OK
* checking package subdirectories ... OK
* checking R files for non-ASCII characters ... OK
* checking R files for syntax errors ... OK
* checking whether the package can be loaded ... OK
* checking whether the package can be loaded with stated dependencies ... OK
* checking whether the package can be unloaded cleanly ... OK
* checking whether the namespace can be loaded with stated dependencies ... OK
* checking whether the namespace can be unloaded cleanly ... OK
* checking dependencies in R code ... OK
* checking S3 generic/method consistency ... OK
* checking replacement functions ... OK
* checking foreign function calls ... OK
* checking R code for possible problems ... NOTE
getK: no visible binding for global variable ‘j’
getK: no visible binding for global variable ‘cellTypeI’
getK: no visible binding for global variable ‘i’
getK: no visible binding for global variable ‘d’
getK: no visible binding for global variable ‘cellTypeJ’
getK: no visible binding for global variable ‘value’
getK: no visible global function definition for ‘.’
getK: no visible binding for global variable ‘wt’
getL: no visible binding for global variable ‘j’
getL: no visible binding for global variable ‘cellTypeI’
getL: no visible binding for global variable ‘i’
getL: no visible binding for global variable ‘d’
getL: no visible binding for global variable ‘cellTypeJ’
getL: no visible binding for global variable ‘value’
getL: no visible global function definition for ‘.’
getL: no visible binding for global variable ‘wt’
inhomLocalK: no visible binding for global variable ‘i’
Undefined global functions or variables:
. cellTypeI cellTypeJ d i j value wt
* checking Rd files ... OK
* checking Rd metadata ... OK
* checking Rd cross-references ... OK
* checking for missing documentation entries ... OK
* checking for code/documentation mismatches ... OK
* checking Rd \usage sections ... OK
* checking Rd contents ... OK
* checking for unstated dependencies in examples ... OK
* checking files in ‘vignettes’ ... OK
* checking examples ... OK
Examples with CPU (user + system) or elapsed time > 5s
user system elapsed
hatchingPlot 19.098 0.160 19.177
lisa 9.989 0.326 10.321
scale_region 9.713 0.120 9.756
Region-accessors 8.603 0.200 8.815
* checking for unstated dependencies in vignettes ... OK
* checking package vignettes in ‘inst/doc’ ... OK
* checking running R code from vignettes ... SKIPPED
* checking re-building of vignette outputs ... SKIPPED
* checking PDF version of manual ... OK
* DONE
Status: 1 NOTE
See
‘/Users/biocbuild/bbs-3.13-bioc/meat/lisaClust.Rcheck/00check.log’
for details.
lisaClust.Rcheck/00install.out
############################################################################## ############################################################################## ### ### Running command: ### ### /Library/Frameworks/R.framework/Versions/Current/Resources/bin/R CMD INSTALL lisaClust ### ############################################################################## ############################################################################## * installing to library ‘/Library/Frameworks/R.framework/Versions/4.1/Resources/library’ * installing *source* package ‘lisaClust’ ... ** using staged installation ** R ** byte-compile and prepare package for lazy loading ** help *** installing help indices ** building package indices ** installing vignettes ** testing if installed package can be loaded from temporary location ** testing if installed package can be loaded from final location ** testing if installed package keeps a record of temporary installation path * DONE (lisaClust)
lisaClust.Rcheck/lisaClust-Ex.timings
| name | user | system | elapsed | |
| Region-accessors | 8.603 | 0.200 | 8.815 | |
| hatchingPlot | 19.098 | 0.160 | 19.177 | |
| lisa | 9.989 | 0.326 | 10.321 | |
| scale_region | 9.713 | 0.120 | 9.756 | |